From mboxrd@z Thu Jan  1 00:00:00 1970
Return-Path: <test-report-bounces@dpdk.org>
Received: from mails.dpdk.org (mails.dpdk.org [217.70.189.124])
	by inbox.dpdk.org (Postfix) with ESMTP id AFCA043C62
	for <public@inbox.dpdk.org>; Wed,  6 Mar 2024 23:41:50 +0100 (CET)
Received: from mails.dpdk.org (localhost [127.0.0.1])
	by mails.dpdk.org (Postfix) with ESMTP id A6643402C0;
	Wed,  6 Mar 2024 23:41:50 +0100 (CET)
Received: from mail-pl1-f227.google.com (mail-pl1-f227.google.com
 [209.85.214.227])
 by mails.dpdk.org (Postfix) with ESMTP id CCFDE400EF
 for <test-report@dpdk.org>; Wed,  6 Mar 2024 23:41:49 +0100 (CET)
Received: by mail-pl1-f227.google.com with SMTP id
 d9443c01a7336-1dd2dca2007so2090745ad.2
 for <test-report@dpdk.org>; Wed, 06 Mar 2024 14:41:49 -0800 (PST)
DKIM-Signature: v=1; a=rsa-sha256; c=relaxed/relaxed;
 d=iol.unh.edu; s=unh-iol; t=1709764909; x=1710369709; darn=dpdk.org;
 h=references:in-reply-to:cc:to:from:subject:message-id:date:from:to
 :cc:subject:date:message-id:reply-to;
 bh=qmU/MQboWd7SBlCkA5H5ZzIKqeZGP+KIyUyT+90yOUM=;
 b=J1QIQlSJn47kh0BMiJ5nytHQtED26lG0cCf4zdMLBGOA6wUwsGoX+UwJk/aRwJ3j4s
 3MXTbWfsq4Hr7icQGBkIag0Xx4JKM5MjgQNp9VGW4FoKpATUKBXl8f7JSpAiU65dRZ3o
 LN1MPKVyjiwY09Xta3SQKdf+O1twcNAN4PZuc=
X-Google-DKIM-Signature: v=1; a=rsa-sha256; c=relaxed/relaxed;
 d=1e100.net; s=20230601; t=1709764909; x=1710369709;
 h=references:in-reply-to:cc:to:from:subject:message-id:date
 :x-gm-message-state:from:to:cc:subject:date:message-id:reply-to;
 bh=qmU/MQboWd7SBlCkA5H5ZzIKqeZGP+KIyUyT+90yOUM=;
 b=XNL1q4fPz/iNjroPf/O7ADwSncIHZnEJcI061ce2rYrkR1BjCBG82GxR4LHA8LFGTd
 VKkD0PYjq9TrnyIRSYfJRHqbxrZeps5oQyUtvmjb1sHcNzBwP9Erxncg8ZlGNcQvXbn5
 4eU9Rvzix8gOu45U+cQ0k322LqdAS79igpd8f6CXVnE5PYEx4aqVMyxMWO0vBr8/mfnZ
 reYIMj6yzA5IXpSQoAYijacss1Q7US5V0xzN6AuTDNPZOFgXie+RLPHrA71lennh86Hm
 4xwRRS5M32LwaRELyAQrp0PjBOarmYF4nser/pBfgJPZIKvViN4mCTfWsqrcJ24CbGLd
 qrRg==
X-Gm-Message-State: AOJu0YwT7Nu4DanhBot0vx7XdbK9V2TJ1SdRd56oDsuRp6D3qhxLkJB0
 339C8QpNRYaqPzU81DTGPMTrTolKkxU2+HV8Kd5F3R0oTmsrRSnexdHmiQSupH0akMct0hJdaz2
 GPbRE0z3ke2lBbnjBKYp47eW3hxoZfKrjTZpA87Hj
X-Google-Smtp-Source: AGHT+IFQ2UxCKd+NWcQ0tAetgy/hQvPveWJj9iuEYNuPzYXGMhH6NrkgnGwl3hUgHYhzPiElneEb1959Eaz/
X-Received: by 2002:a17:902:a9ca:b0:1dc:cc77:5668 with SMTP id
 b10-20020a170902a9ca00b001dccc775668mr6237551plr.51.1709764909029; 
 Wed, 06 Mar 2024 14:41:49 -0800 (PST)
Received: from postal.iol.unh.edu (postal.iol.unh.edu. [132.177.123.84])
 by smtp-relay.gmail.com with ESMTPS id
 q22-20020a170902bd9600b001da0ff9ad82sm310876pls.101.2024.03.06.14.41.48
 (version=TLS1_2 cipher=ECDHE-ECDSA-AES128-GCM-SHA256 bits=128/128);
 Wed, 06 Mar 2024 14:41:49 -0800 (PST)
X-Relaying-Domain: iol.unh.edu
Date: Wed, 06 Mar 2024 14:41:49 -0800 (PST)
Message-ID: <65e8f12d.170a0220.5cccd.2e58SMTPIN_ADDED_MISSING@mx.google.com>
Received: from [172.21.0.6] (unknown [172.18.0.240])
 by postal.iol.unh.edu (Postfix) with ESMTP id 3FE6F6052712;
 Wed,  6 Mar 2024 17:41:48 -0500 (EST)
Subject: |SUCCESS| pw138055-138060 [PATCH] [v5,6/6] table: replace zero lengt
From: dpdklab@iol.unh.edu
To: Test Report <test-report@dpdk.org>
Cc: dpdk-test-reports@iol.unh.edu
In-Reply-To: <1709756036-24068-7-git-send-email-roretzla@linux.microsoft.com>
References: <1709756036-24068-7-git-send-email-roretzla@linux.microsoft.com>
Content-Type: text/plain
X-BeenThere: test-report@dpdk.org
X-Mailman-Version: 2.1.29
Precedence: list
List-Id: automatic DPDK test reports <test-report.dpdk.org>
List-Unsubscribe: <https://mails.dpdk.org/options/test-report>,
 <mailto:test-report-request@dpdk.org?subject=unsubscribe>
List-Archive: <http://mails.dpdk.org/archives/test-report/>
List-Post: <mailto:test-report@dpdk.org>
List-Help: <mailto:test-report-request@dpdk.org?subject=help>
List-Subscribe: <https://mails.dpdk.org/listinfo/test-report>,
 <mailto:test-report-request@dpdk.org?subject=subscribe>
Errors-To: test-report-bounces@dpdk.org

Test-Label: iol-compile-arm64-testing
Test-Status: SUCCESS
http://dpdk.org/patch/138060

_Testing PASS_

Submitter: Tyler Retzlaff <roretzla@linux.microsoft.com>
Date: Wednesday, March 06 2024 20:13:56 
DPDK git baseline: Repo:dpdk
  Branch: master
  CommitID:dd329b2cc53dd61156b0227b0b858f9b17215574

138055-138060 --> testing pass

Test environment and result as below:

+----------------------------------------+--------------------+
|              Environment               | dpdk_meson_compile |
+========================================+====================+
| Ubuntu 20.04 ARM SVE                   | PASS               |
+----------------------------------------+--------------------+
| Ubuntu 20.04 (ARM)                     | PASS               |
+----------------------------------------+--------------------+
| Fedora 38 (ARM)                        | PASS               |
+----------------------------------------+--------------------+
| Debian 12 (arm)                        | PASS               |
+----------------------------------------+--------------------+
| CentOS Stream 9 (ARM)                  | PASS               |
+----------------------------------------+--------------------+
| Ubuntu 20.04 aarch32 GCC Cross Compile | PASS               |
+----------------------------------------+--------------------+
| Debian 11 (Buster) (ARM)               | PASS               |
+----------------------------------------+--------------------+
| Ubuntu 20.04 ARM Clang Cross Compile   | PASS               |
+----------------------------------------+--------------------+
| Ubuntu 20.04 ARM GCC Cross Compile     | PASS               |
+----------------------------------------+--------------------+
| Fedora 38 (ARM Clang)                  | PASS               |
+----------------------------------------+--------------------+


Ubuntu 20.04 ARM SVE
	Kernel: 5.4.0-80-generic
	Compiler: gcc 10.3.0 (Ubuntu 10.3.0-1ubuntu1~20.04)

Ubuntu 20.04 (ARM)
	Kernel: Container Host Kernel
	Compiler: gcc 9.4.0

Fedora 38 (ARM)
	Kernel: Depends on container host
	Compiler: gcc 13.1.1

Debian 12 (arm)
	Kernel: Container Host Kernel
	Compiler: gcc 11

CentOS Stream 9 (ARM)
	Kernel: Container Host Kernel
	Compiler: gcc 11.3.1

Ubuntu 20.04 aarch32 GCC Cross Compile
	Kernel: 5.4.0-72-generic
	Compiler: gcc 9.3.0

Debian 11 (Buster) (ARM)
	Kernel: Container Host Kernel
	Compiler: gcc 10.2.1

Ubuntu 20.04 ARM Clang Cross Compile
	Kernel: 5.4.0-72-generic
	Compiler: clang version 10.0.0-4ubuntu1

Ubuntu 20.04 ARM GCC Cross Compile
	Kernel: 5.4.0-72-generic
	Compiler: aarch64-linux-gnu-gcc (Ubuntu 9.3.0-17ubuntu1~20.04) 9.3.0

Fedora 38 (ARM Clang)
	Kernel: Depends on container host
	Compiler: clang 16.0.3

To view detailed results, visit:
https://lab.dpdk.org/results/dashboard/patchsets/29443/

UNH-IOL DPDK Community Lab

To manage your email subscriptions, visit: 
https://lab.dpdk.org/results/dashboard/preferences/subscriptions/