From mboxrd@z Thu Jan  1 00:00:00 1970
Return-Path: <test-report-bounces@dpdk.org>
Received: from mails.dpdk.org (mails.dpdk.org [217.70.189.124])
	by inbox.dpdk.org (Postfix) with ESMTP id 2513C43C62
	for <public@inbox.dpdk.org>; Wed,  6 Mar 2024 23:48:09 +0100 (CET)
Received: from mails.dpdk.org (localhost [127.0.0.1])
	by mails.dpdk.org (Postfix) with ESMTP id 1D501402C0;
	Wed,  6 Mar 2024 23:48:09 +0100 (CET)
Received: from mail-oa1-f98.google.com (mail-oa1-f98.google.com
 [209.85.160.98]) by mails.dpdk.org (Postfix) with ESMTP id C5C5B400EF
 for <test-report@dpdk.org>; Wed,  6 Mar 2024 23:48:07 +0100 (CET)
Received: by mail-oa1-f98.google.com with SMTP id
 586e51a60fabf-220461b7597so69338fac.3
 for <test-report@dpdk.org>; Wed, 06 Mar 2024 14:48:07 -0800 (PST)
DKIM-Signature: v=1; a=rsa-sha256; c=relaxed/relaxed;
 d=iol.unh.edu; s=unh-iol; t=1709765287; x=1710370087; darn=dpdk.org;
 h=references:in-reply-to:cc:to:from:subject:message-id:date:from:to
 :cc:subject:date:message-id:reply-to;
 bh=G2qIUq23IMKQ3IvP19jQ/4+7DYy61oIuK7HYFyFQw9Y=;
 b=O7qZwGDUQL6vdKMN9QpkX1G+baeImT2opox1QqbDkRCbUyrGqI/FfTVa3h3gmb60rB
 xL8Gs/Rocc77XDIhfN3DbssPSospF2Fy2givxN6VTGde9fqfzuMSlrT8uVw2Ht19xlo5
 BcFUKrDjI3CviIZ0TJYntnAPSpgnVN8wyaGK0=
X-Google-DKIM-Signature: v=1; a=rsa-sha256; c=relaxed/relaxed;
 d=1e100.net; s=20230601; t=1709765287; x=1710370087;
 h=references:in-reply-to:cc:to:from:subject:message-id:date
 :x-gm-message-state:from:to:cc:subject:date:message-id:reply-to;
 bh=G2qIUq23IMKQ3IvP19jQ/4+7DYy61oIuK7HYFyFQw9Y=;
 b=YuL4iNSI7PrTIZtac2VqErGdw8IrpLlSa2T8dBiL5Qau/klvdO//I0HmV6r5Ur59Wh
 aCIF7sPFDSMApYv/LuAcIrii4E3iMpHYHJ7euj/u58mnM1THtfOri8rVF+0KpPyfneGZ
 cZ8k/tALz8IaSozD7ExpzRo/VkiaMPKE3WrujWxILagPk0WCHETBbwJlgBpeqYlQleiy
 q+6wPQxU8j6wSAwVWELjuo1SX0RDsyJ/AvSlymstCojdVN5QL9R5gQtvTMatGdE5ottH
 ZEEmtFjAURD0cHremiapkx4IyNhq4xQqIrfSeJbGiNLV7LNA7wpiS5YZL21NiBHXFBGe
 8m1g==
X-Gm-Message-State: AOJu0YxRf39zvdwKcVuMqXZA9Jd/JtGr3/xJBJIqF4KQJpXx+xzXQP89
 2gnwnPy360G3m6knNbEScPpZR2CdLzTOwNQuqPFpa0/w984IEmt9gf6SgMYSmivxxcARnFGJHcf
 JMn2T13yhSODWD9O3zt2U3jWM+G3KEfNzUYhX0Z75ofIAExCPB5Ihk8vQ
X-Google-Smtp-Source: AGHT+IG3xUdk9aFJ4sC5Nk5EZZctJHoPadCWFn0rBqNBVnTGSoB9FdL42ADUCCXiDmkweoOGCmQ+I59SHt/p
X-Received: by 2002:a05:6871:82c:b0:21e:bcc8:19df with SMTP id
 q44-20020a056871082c00b0021ebcc819dfmr6975871oap.17.1709765287192; 
 Wed, 06 Mar 2024 14:48:07 -0800 (PST)
Received: from postal.iol.unh.edu (postal.iol.unh.edu.
 [2606:4100:3880:1234::84]) by smtp-relay.gmail.com with ESMTPS id
 mo20-20020a056871321400b002145dbe4a97sm342574oac.4.2024.03.06.14.48.07
 (version=TLS1_2 cipher=ECDHE-ECDSA-AES128-GCM-SHA256 bits=128/128);
 Wed, 06 Mar 2024 14:48:07 -0800 (PST)
X-Relaying-Domain: iol.unh.edu
Date: Wed, 06 Mar 2024 14:48:07 -0800 (PST)
Message-ID: <65e8f2a7.050a0220.8479e.3103SMTPIN_ADDED_MISSING@mx.google.com>
Received: from [172.21.0.8] (unknown [172.18.0.240])
 by postal.iol.unh.edu (Postfix) with ESMTP id AFF4C6052712;
 Wed,  6 Mar 2024 17:48:06 -0500 (EST)
Subject: |SUCCESS| pw138061-138063 [PATCH] [4/4] net/mlx5: fix flow configure
From: dpdklab@iol.unh.edu
To: Test Report <test-report@dpdk.org>
Cc: dpdk-test-reports@iol.unh.edu
In-Reply-To: <20240306202150.79577-4-dsosnowski@nvidia.com>
References: <20240306202150.79577-4-dsosnowski@nvidia.com>
Content-Type: text/plain
X-BeenThere: test-report@dpdk.org
X-Mailman-Version: 2.1.29
Precedence: list
List-Id: automatic DPDK test reports <test-report.dpdk.org>
List-Unsubscribe: <https://mails.dpdk.org/options/test-report>,
 <mailto:test-report-request@dpdk.org?subject=unsubscribe>
List-Archive: <http://mails.dpdk.org/archives/test-report/>
List-Post: <mailto:test-report@dpdk.org>
List-Help: <mailto:test-report-request@dpdk.org?subject=help>
List-Subscribe: <https://mails.dpdk.org/listinfo/test-report>,
 <mailto:test-report-request@dpdk.org?subject=subscribe>
Errors-To: test-report-bounces@dpdk.org

Test-Label: iol-abi-testing
Test-Status: SUCCESS
http://dpdk.org/patch/138063

_Testing PASS_

Submitter: Dariusz Sosnowski <dsosnowski@nvidia.com>
Date: Wednesday, March 06 2024 20:21:50 
DPDK git baseline: Repo:dpdk
  Branch: master
  CommitID:3472e5d3295d44b4835ffb22c39f2b7d40780f10

138061-138063 --> testing pass

Test environment and result as below:

+------------------+----------+
|   Environment    | abi_test |
+==================+==========+
| Fedora 38        | PASS     |
+------------------+----------+
| Ubuntu 22.04     | PASS     |
+------------------+----------+
| CentOS Stream 8  | PASS     |
+------------------+----------+
| Debian Bullseye  | PASS     |
+------------------+----------+
| openSUSE Leap 15 | PASS     |
+------------------+----------+
| CentOS Stream 9  | PASS     |
+------------------+----------+


Fedora 38
	Kernel: Depends on container host
	Compiler: clang 16.0.3

Ubuntu 22.04
	Kernel: 4.18.0-240.10.1.el8_3.x86_64
	Compiler: gcc 11.3.0

CentOS Stream 8
	Kernel: 4.18.0-240.10.1.el8_3.x86_64
	Compiler: gcc 8.4.1 20200928

Debian Bullseye
	Kernel: 5.4.0-122-generic
	Compiler: gcc 10.2.1-6

openSUSE Leap 15
	Kernel: 4.18.0-240.10.1.el8_3.x86_64
	Compiler: gcc 7.5.0

CentOS Stream 9
	Kernel: 4.18.0-240.10.1.el8_3.x86_64
	Compiler: gcc 11.3.1 20220421

To view detailed results, visit:
https://lab.dpdk.org/results/dashboard/patchsets/29444/

UNH-IOL DPDK Community Lab

To manage your email subscriptions, visit: 
https://lab.dpdk.org/results/dashboard/preferences/subscriptions/