From mboxrd@z Thu Jan  1 00:00:00 1970
Return-Path: <test-report-bounces@dpdk.org>
Received: from mails.dpdk.org (mails.dpdk.org [217.70.189.124])
	by inbox.dpdk.org (Postfix) with ESMTP id 25DF443C62
	for <public@inbox.dpdk.org>; Wed,  6 Mar 2024 23:55:26 +0100 (CET)
Received: from mails.dpdk.org (localhost [127.0.0.1])
	by mails.dpdk.org (Postfix) with ESMTP id 14D2E402C0;
	Wed,  6 Mar 2024 23:55:26 +0100 (CET)
Received: from mail-oo1-f98.google.com (mail-oo1-f98.google.com
 [209.85.161.98]) by mails.dpdk.org (Postfix) with ESMTP id 33D02400EF
 for <test-report@dpdk.org>; Wed,  6 Mar 2024 23:55:25 +0100 (CET)
Received: by mail-oo1-f98.google.com with SMTP id
 006d021491bc7-5a14dfa68eeso131061eaf.1
 for <test-report@dpdk.org>; Wed, 06 Mar 2024 14:55:25 -0800 (PST)
DKIM-Signature: v=1; a=rsa-sha256; c=relaxed/relaxed;
 d=iol.unh.edu; s=unh-iol; t=1709765724; x=1710370524; darn=dpdk.org;
 h=references:in-reply-to:cc:to:from:subject:message-id:date:from:to
 :cc:subject:date:message-id:reply-to;
 bh=mHELwNXXtuXHsWldqs/nK1h9KxOjTxUZzi1AQasRgGs=;
 b=T65aCcZlWBWq83RtViZKktHZpNu07KKRKBnhhBmnUVMAMWfcpa3ZTTWe5o47b1QNqt
 HFfuuUoo/kFUWGP2CvIJX1I68lcY7SlWR411CYLfripU828wddiNFWtCmQtO4s2nJ3oK
 XyqeW7l6/BfNW6/MYO9NYfaDQmmNRHZgAZJOk=
X-Google-DKIM-Signature: v=1; a=rsa-sha256; c=relaxed/relaxed;
 d=1e100.net; s=20230601; t=1709765724; x=1710370524;
 h=references:in-reply-to:cc:to:from:subject:message-id:date
 :x-gm-message-state:from:to:cc:subject:date:message-id:reply-to;
 bh=mHELwNXXtuXHsWldqs/nK1h9KxOjTxUZzi1AQasRgGs=;
 b=UMur4r0u5o3rtxe5a8p9JD07ZB+MTOL5tvhpDOuXCiDOgE6PIH5+MOFoGxqswuBNVD
 b8sofNqZWsEkM1imFVIYVpMBYodMboy0JeEJop5qkqmHUfAKQp1EHhaT8Fm0vTyJpYv4
 QayVR2e3leu4o676ZZ5+rwDLW8qekbYeOd1wJdbxEexNvWbWIl87qtRYCqWRIizmZmkQ
 V6DJ5Hb8+tbyDrGBiBeDOJZqp+XFnjcwsMxygbrVSeennZXxkHClRRoK5fIW7wX5E3c3
 PEZWz2nGJsisIXGa2/8Fmqnn04qh4hsgQywDkM4Sm3K7YkXq9Fy1iIaZI2xvXwUPvje6
 O3Eg==
X-Gm-Message-State: AOJu0YzQTjU62SmbyzuFCJXolmllE1qNlIQhwM6vW93rQvb/H3PCJwOs
 ueQfWvlcODLZ2KDnww1yqnMzrYzOotT8kX5WxIec6pq+BQ/DFQr2ZnZKHHH0KompMZFsXjkye/7
 5PG8pvodbxNjrx8bdQ99QnFEnyUG87QSwnDrupWyBoDorFyBf0mlQ3jk1
X-Google-Smtp-Source: AGHT+IG3Ae9GaZ54eafuHfdSIel7oT7sR/HVDlIR6uluWDexkfXKP9bmbDjHQlT0LFLvq/6no9P0XdpyGDYt
X-Received: by 2002:a05:6820:1505:b0:5a1:2173:1a15 with SMTP id
 ay5-20020a056820150500b005a121731a15mr7933025oob.8.1709765724527; 
 Wed, 06 Mar 2024 14:55:24 -0800 (PST)
Received: from postal.iol.unh.edu (postal.iol.unh.edu.
 [2606:4100:3880:1234::84]) by smtp-relay.gmail.com with ESMTPS id
 123-20020a4a0981000000b005a14df6b365sm252230ooa.27.2024.03.06.14.55.24
 (version=TLS1_2 cipher=ECDHE-ECDSA-AES128-GCM-SHA256 bits=128/128);
 Wed, 06 Mar 2024 14:55:24 -0800 (PST)
X-Relaying-Domain: iol.unh.edu
Date: Wed, 06 Mar 2024 14:55:24 -0800 (PST)
Message-ID: <65e8f45c.4a0a0220.5a1db.e250SMTPIN_ADDED_MISSING@mx.google.com>
Received: from [172.17.0.6] (unknown [172.18.0.217])
 by postal.iol.unh.edu (Postfix) with ESMTP id 0A28D6052712;
 Wed,  6 Mar 2024 17:55:24 -0500 (EST)
Subject: |SUCCESS| pw138061-138063 [PATCH] [4/4] net/mlx5: fix flow configure
From: dpdklab@iol.unh.edu
To: Test Report <test-report@dpdk.org>
Cc: dpdk-test-reports@iol.unh.edu
In-Reply-To: <20240306202150.79577-4-dsosnowski@nvidia.com>
References: <20240306202150.79577-4-dsosnowski@nvidia.com>
Content-Type: text/plain
X-BeenThere: test-report@dpdk.org
X-Mailman-Version: 2.1.29
Precedence: list
List-Id: automatic DPDK test reports <test-report.dpdk.org>
List-Unsubscribe: <https://mails.dpdk.org/options/test-report>,
 <mailto:test-report-request@dpdk.org?subject=unsubscribe>
List-Archive: <http://mails.dpdk.org/archives/test-report/>
List-Post: <mailto:test-report@dpdk.org>
List-Help: <mailto:test-report-request@dpdk.org?subject=help>
List-Subscribe: <https://mails.dpdk.org/listinfo/test-report>,
 <mailto:test-report-request@dpdk.org?subject=subscribe>
Errors-To: test-report-bounces@dpdk.org

Test-Label: iol-compile-amd64-testing
Test-Status: SUCCESS
http://dpdk.org/patch/138063

_Testing PASS_

Submitter: Dariusz Sosnowski <dsosnowski@nvidia.com>
Date: Wednesday, March 06 2024 20:21:50 
DPDK git baseline: Repo:dpdk
  Branch: master
  CommitID:3472e5d3295d44b4835ffb22c39f2b7d40780f10

138061-138063 --> testing pass

Test environment and result as below:

+---------------------+--------------------+----------------------+
|     Environment     | dpdk_meson_compile | dpdk_mingw64_compile |
+=====================+====================+======================+
| FreeBSD 13.2        | PASS               | SKIPPED              |
+---------------------+--------------------+----------------------+
| Windows Server 2022 | PASS               | SKIPPED              |
+---------------------+--------------------+----------------------+
| Windows Server 2019 | PASS               | PASS                 |
+---------------------+--------------------+----------------------+
| RHEL8               | PASS               | SKIPPED              |
+---------------------+--------------------+----------------------+
| Fedora 38           | PASS               | SKIPPED              |
+---------------------+--------------------+----------------------+
| Fedora 37           | PASS               | SKIPPED              |
+---------------------+--------------------+----------------------+
| CentOS Stream 9     | PASS               | SKIPPED              |
+---------------------+--------------------+----------------------+
| Debian Bullseye     | PASS               | SKIPPED              |
+---------------------+--------------------+----------------------+


FreeBSD 13.2
	Kernel: 13.2
	Compiler: clang 11.3.0

Windows Server 2022
	Kernel: OS Build 20348.2031
	Compiler: MSVC VS-Preview

Windows Server 2019
	Kernel: 10.0
	Compiler: clang 14.0 and gcc 8.1.0 (MinGW)

RHEL8
	Kernel: 4.18.0-240.10.1.el8_3.x86_64
	Compiler: gcc 8.3.1 20191121 (Red Hat 8.3.1-5)

Fedora 38
	Kernel: Depends on container host
	Compiler: gcc 13.1.1

Fedora 37
	Kernel: Depends on container host system
	Compiler: gcc 12.3.1

CentOS Stream 9
	Kernel: 4.18.0-240.10.1.el8_3.x86_64
	Compiler: gcc 11.3.1 20220421

Debian Bullseye
	Kernel: 5.4.0-122-generic
	Compiler: gcc 10.2.1-6

To view detailed results, visit:
https://lab.dpdk.org/results/dashboard/patchsets/29444/

UNH-IOL DPDK Community Lab

To manage your email subscriptions, visit: 
https://lab.dpdk.org/results/dashboard/preferences/subscriptions/