From mboxrd@z Thu Jan  1 00:00:00 1970
Return-Path: <test-report-bounces@dpdk.org>
Received: from mails.dpdk.org (mails.dpdk.org [217.70.189.124])
	by inbox.dpdk.org (Postfix) with ESMTP id 71D8243C63
	for <public@inbox.dpdk.org>; Thu,  7 Mar 2024 00:03:16 +0100 (CET)
Received: from mails.dpdk.org (localhost [127.0.0.1])
	by mails.dpdk.org (Postfix) with ESMTP id 6BEA740272;
	Thu,  7 Mar 2024 00:03:16 +0100 (CET)
Received: from mail-qv1-f97.google.com (mail-qv1-f97.google.com
 [209.85.219.97]) by mails.dpdk.org (Postfix) with ESMTP id 5EDC240261
 for <test-report@dpdk.org>; Thu,  7 Mar 2024 00:03:15 +0100 (CET)
Received: by mail-qv1-f97.google.com with SMTP id
 6a1803df08f44-690578e13c4so1419886d6.1
 for <test-report@dpdk.org>; Wed, 06 Mar 2024 15:03:15 -0800 (PST)
DKIM-Signature: v=1; a=rsa-sha256; c=relaxed/relaxed;
 d=iol.unh.edu; s=unh-iol; t=1709766195; x=1710370995; darn=dpdk.org;
 h=references:in-reply-to:cc:to:from:subject:message-id:date:from:to
 :cc:subject:date:message-id:reply-to;
 bh=dhxXWwzfEbCkUXn1IkmA2JdO5YETVp6HRmv2MMSLQyA=;
 b=VJg7IQsIfs7EGCewf+GCjP9jhM+T0szgDCtrB5wcY5Wi8DRRyL68HuMSSSwrwvDNN4
 EWHBC8bzgJ/jUSIG5HnBDwwjUUOG61m0EBDWx0MNP0l36jWKLMxKaYNTS8s/cE2OxO1v
 y9RPnLJQfBHQfUzfWD4E0dcJlUQdDCcmnOKSk=
X-Google-DKIM-Signature: v=1; a=rsa-sha256; c=relaxed/relaxed;
 d=1e100.net; s=20230601; t=1709766195; x=1710370995;
 h=references:in-reply-to:cc:to:from:subject:message-id:date
 :x-gm-message-state:from:to:cc:subject:date:message-id:reply-to;
 bh=dhxXWwzfEbCkUXn1IkmA2JdO5YETVp6HRmv2MMSLQyA=;
 b=KOv4nesy2ZPIv7MRmd9PwOQdcwQ0709D93i5uV3eqkY9/YzURE9M474FV6xvIYwHeT
 ueMXGoYZ5lbFLSCvb2Y9tHU6W/jv5Wr2pLujLtkrMqRTaiFhAN5s2YLaM1OhqVeveheT
 Ef4Clc/NU1BcnANt62Dkas7BDU8cDK/wjFtmenwwontKyeFpHVMVoXqgLCihxAU9ejtc
 lPtGePnwy97BsZBtahq0FDp5tAo1WPtnX4fK6lLCrzK4LptIeobJA9avKJKeArGQ0KY+
 CxEchQfCYnOPXOyvVGE35SqPqkZky3QGb7h6b/1NoB/R2RBL26aMOr+CDqR2W8BK4BKj
 t3Gg==
X-Gm-Message-State: AOJu0YxXeoK1tp0k5dZitu/IdRl/WMpYIzKJ5lYgAUIRa9171D+gOIDv
 rwSSsnfnYRH30IvhBptx1X2Y0r4nRxAuvIcdfF8TRzF75vt8fT09yKYBqalLQGXlsgU3iMeGByk
 je+wo8A4+6W7EypOnRVwiuCJmMduVfLVkiTrkP25zPbNiunBsRyAFp617
X-Google-Smtp-Source: AGHT+IGvvQq+Yi+LnhFu+TOkvGxq4/qQRdUuI2StlMYjKVGSwq4s/Ky+3TCZRi+sc3fizWE1jVumHQUNF1tr
X-Received: by 2002:a05:6214:925:b0:690:97e4:7fd3 with SMTP id
 dk5-20020a056214092500b0069097e47fd3mr2351574qvb.42.1709766194789; 
 Wed, 06 Mar 2024 15:03:14 -0800 (PST)
Received: from postal.iol.unh.edu (postal.iol.unh.edu.
 [2606:4100:3880:1234::84]) by smtp-relay.gmail.com with ESMTPS id
 hf14-20020a0562140e8e00b0068f65d976b4sm851873qvb.1.2024.03.06.15.03.14
 (version=TLS1_2 cipher=ECDHE-ECDSA-AES128-GCM-SHA256 bits=128/128);
 Wed, 06 Mar 2024 15:03:14 -0800 (PST)
X-Relaying-Domain: iol.unh.edu
Date: Wed, 06 Mar 2024 15:03:14 -0800 (PST)
Message-ID: <65e8f632.050a0220.5c0e6.53f7SMTPIN_ADDED_MISSING@mx.google.com>
Received: from [172.17.0.7] (unknown [172.18.0.217])
 by postal.iol.unh.edu (Postfix) with ESMTP id 7FD196052712;
 Wed,  6 Mar 2024 18:03:14 -0500 (EST)
Subject: |SUCCESS| pw138061-138063 [PATCH] [4/4] net/mlx5: fix flow configure
From: dpdklab@iol.unh.edu
To: Test Report <test-report@dpdk.org>
Cc: dpdk-test-reports@iol.unh.edu
In-Reply-To: <20240306202150.79577-4-dsosnowski@nvidia.com>
References: <20240306202150.79577-4-dsosnowski@nvidia.com>
Content-Type: text/plain
X-BeenThere: test-report@dpdk.org
X-Mailman-Version: 2.1.29
Precedence: list
List-Id: automatic DPDK test reports <test-report.dpdk.org>
List-Unsubscribe: <https://mails.dpdk.org/options/test-report>,
 <mailto:test-report-request@dpdk.org?subject=unsubscribe>
List-Archive: <http://mails.dpdk.org/archives/test-report/>
List-Post: <mailto:test-report@dpdk.org>
List-Help: <mailto:test-report-request@dpdk.org?subject=help>
List-Subscribe: <https://mails.dpdk.org/listinfo/test-report>,
 <mailto:test-report-request@dpdk.org?subject=subscribe>
Errors-To: test-report-bounces@dpdk.org

Test-Label: iol-unit-arm64-testing
Test-Status: SUCCESS
http://dpdk.org/patch/138063

_Testing PASS_

Submitter: Dariusz Sosnowski <dsosnowski@nvidia.com>
Date: Wednesday, March 06 2024 20:21:50 
DPDK git baseline: Repo:dpdk
  Branch: master
  CommitID:3472e5d3295d44b4835ffb22c39f2b7d40780f10

138061-138063 --> testing pass

Test environment and result as below:

+--------------------------+---------------------------+------------------------------+--------------+----------------+
|       Environment        | cryptodev_sw_zuc_autotest | cryptodev_sw_snow3g_autotest | lpm_autotest | dpdk_unit_test |
+==========================+===========================+==============================+==============+================+
| Debian 12 (arm)          | PASS                      | PASS                         | SKIPPED      | PASS           |
+--------------------------+---------------------------+------------------------------+--------------+----------------+
| Ubuntu 20.04 ARM SVE     | SKIPPED                   | SKIPPED                      | PASS         | SKIPPED        |
+--------------------------+---------------------------+------------------------------+--------------+----------------+
| CentOS Stream 9 (ARM)    | SKIPPED                   | SKIPPED                      | SKIPPED      | PASS           |
+--------------------------+---------------------------+------------------------------+--------------+----------------+
| Debian 11 (Buster) (ARM) | SKIPPED                   | SKIPPED                      | SKIPPED      | PASS           |
+--------------------------+---------------------------+------------------------------+--------------+----------------+
| Fedora 37 (ARM)          | SKIPPED                   | SKIPPED                      | SKIPPED      | PASS           |
+--------------------------+---------------------------+------------------------------+--------------+----------------+
| Fedora 38 (ARM)          | SKIPPED                   | SKIPPED                      | SKIPPED      | PASS           |
+--------------------------+---------------------------+------------------------------+--------------+----------------+
| Ubuntu 20.04 (ARM)       | SKIPPED                   | SKIPPED                      | SKIPPED      | PASS           |
+--------------------------+---------------------------+------------------------------+--------------+----------------+


Debian 12 (arm)
	Kernel: Container Host Kernel
	Compiler: gcc 11

Ubuntu 20.04 ARM SVE
	Kernel: 5.4.0-80-generic
	Compiler: gcc 10.3.0 (Ubuntu 10.3.0-1ubuntu1~20.04)

CentOS Stream 9 (ARM)
	Kernel: Container Host Kernel
	Compiler: gcc 11.3.1

Debian 11 (Buster) (ARM)
	Kernel: Container Host Kernel
	Compiler: gcc 10.2.1

Fedora 37 (ARM)
	Kernel: Depends on container host
	Compiler: gcc 12.3.1

Fedora 38 (ARM)
	Kernel: Depends on container host
	Compiler: gcc 13.1.1

Ubuntu 20.04 (ARM)
	Kernel: Container Host Kernel
	Compiler: gcc 9.4.0

To view detailed results, visit:
https://lab.dpdk.org/results/dashboard/patchsets/29444/

UNH-IOL DPDK Community Lab

To manage your email subscriptions, visit: 
https://lab.dpdk.org/results/dashboard/preferences/subscriptions/