From mboxrd@z Thu Jan  1 00:00:00 1970
Return-Path: <test-report-bounces@dpdk.org>
Received: from mails.dpdk.org (mails.dpdk.org [217.70.189.124])
	by inbox.dpdk.org (Postfix) with ESMTP id 6E54A43829
	for <public@inbox.dpdk.org>; Thu,  7 Mar 2024 00:08:11 +0100 (CET)
Received: from mails.dpdk.org (localhost [127.0.0.1])
	by mails.dpdk.org (Postfix) with ESMTP id 5CB0340272;
	Thu,  7 Mar 2024 00:08:11 +0100 (CET)
Received: from mail-pg1-f226.google.com (mail-pg1-f226.google.com
 [209.85.215.226])
 by mails.dpdk.org (Postfix) with ESMTP id 606C240261
 for <test-report@dpdk.org>; Thu,  7 Mar 2024 00:08:10 +0100 (CET)
Received: by mail-pg1-f226.google.com with SMTP id
 41be03b00d2f7-5dbcfa0eb5dso211367a12.3
 for <test-report@dpdk.org>; Wed, 06 Mar 2024 15:08:10 -0800 (PST)
DKIM-Signature: v=1; a=rsa-sha256; c=relaxed/relaxed;
 d=iol.unh.edu; s=unh-iol; t=1709766489; x=1710371289; darn=dpdk.org;
 h=references:in-reply-to:cc:to:from:subject:message-id:date:from:to
 :cc:subject:date:message-id:reply-to;
 bh=LVhA/zfcPLcc0DiDyXWo7Qjg0gqj1vF/mg86zfcMVx8=;
 b=MxRImPC6ggAYgErDIKuOD3/ek2xDI9tT5ntjzF+75zU38uqttlcpdWOdgzQvpnq5ku
 PzWrOtbiI2NXg03iX9nwyvJ/gYP0XHgLVZTJYLSXawAhlCqQNcPWmOS9UHSCzjswvHn+
 JJC7uRj9oKZs5Zu+t0x7RWjIReDbD/6+hC/gU=
X-Google-DKIM-Signature: v=1; a=rsa-sha256; c=relaxed/relaxed;
 d=1e100.net; s=20230601; t=1709766489; x=1710371289;
 h=references:in-reply-to:cc:to:from:subject:message-id:date
 :x-gm-message-state:from:to:cc:subject:date:message-id:reply-to;
 bh=LVhA/zfcPLcc0DiDyXWo7Qjg0gqj1vF/mg86zfcMVx8=;
 b=WMnR7oXyD18gv1FVZ35volXbyxvcJySD06W1Iz6NqOK5zscYC6rK2IccPuZ4CEcDmO
 6S5vXou8gzQUcTNt/Lh8moEcXa3ZQwgUiF5esxqANcueTgpj8o0Bg7TQ3G2uKu3kYF5J
 ZuwK9XQ2EDG5SZOAJYCC/Gzqzgbil0k4bP2Zep6Nvxh+rlaOUX1nXmctwJGvPw2rOvEm
 xHHdcE4wGSlbV9Wd5JIiaAP3s0X//P7cO1xVNnLqAVPFWwOMmEAjpINzGrNzpPpesACs
 n+x6FpmBIZHcs1A5c3Yd1r1JjVCitmvgHDww6iCJjs4omD7w8xc8CQw13FTeifPyTGyd
 zZIA==
X-Gm-Message-State: AOJu0YyGPnyZ7YdZSJhoHX3fAy/YYTUjxr/M4W2qrpedoLGr7blsBzXC
 8QPm0LkihhdJrCwKj00EqUlcOpiyjw3TQdkioLjaYS5bSdWUkaf6c2l4O0czcLfa5MzGCK76xJo
 XXqx0r7gVKjLHUNmI9ByyuObT6BfoLCfFHbNPefSYSK37uAmAwRM4gTj1
X-Google-Smtp-Source: AGHT+IFRGOq8+AobHOP8q9RolHWwEt91Nyy8SdBF24Sx0X+pk8HEqRMI6lNTUAsk9ffna5x/nYxwgFLd2JA7
X-Received: by 2002:a17:90a:6406:b0:29b:905:e629 with SMTP id
 g6-20020a17090a640600b0029b0905e629mr12783397pjj.32.1709766489557; 
 Wed, 06 Mar 2024 15:08:09 -0800 (PST)
Received: from postal.iol.unh.edu (postal.iol.unh.edu.
 [2606:4100:3880:1234::84]) by smtp-relay.gmail.com with ESMTPS id
 bf21-20020a17090b0b1500b0029b01dc28b3sm31582pjb.8.2024.03.06.15.08.09
 (version=TLS1_2 cipher=ECDHE-ECDSA-AES128-GCM-SHA256 bits=128/128);
 Wed, 06 Mar 2024 15:08:09 -0800 (PST)
X-Relaying-Domain: iol.unh.edu
Date: Wed, 06 Mar 2024 15:08:09 -0800 (PST)
Message-ID: <65e8f759.170a0220.76032.2c7bSMTPIN_ADDED_MISSING@mx.google.com>
Received: from [172.17.0.7] (unknown [172.18.0.217])
 by postal.iol.unh.edu (Postfix) with ESMTP id C17B66052712;
 Wed,  6 Mar 2024 18:08:08 -0500 (EST)
Subject: |SUCCESS| pw138061-138063 [PATCH] [4/4] net/mlx5: fix flow configure
From: dpdklab@iol.unh.edu
To: Test Report <test-report@dpdk.org>
Cc: dpdk-test-reports@iol.unh.edu
In-Reply-To: <20240306202150.79577-4-dsosnowski@nvidia.com>
References: <20240306202150.79577-4-dsosnowski@nvidia.com>
Content-Type: text/plain
X-BeenThere: test-report@dpdk.org
X-Mailman-Version: 2.1.29
Precedence: list
List-Id: automatic DPDK test reports <test-report.dpdk.org>
List-Unsubscribe: <https://mails.dpdk.org/options/test-report>,
 <mailto:test-report-request@dpdk.org?subject=unsubscribe>
List-Archive: <http://mails.dpdk.org/archives/test-report/>
List-Post: <mailto:test-report@dpdk.org>
List-Help: <mailto:test-report-request@dpdk.org?subject=help>
List-Subscribe: <https://mails.dpdk.org/listinfo/test-report>,
 <mailto:test-report-request@dpdk.org?subject=subscribe>
Errors-To: test-report-bounces@dpdk.org

Test-Label: iol-unit-amd64-testing
Test-Status: SUCCESS
http://dpdk.org/patch/138063

_Testing PASS_

Submitter: Dariusz Sosnowski <dsosnowski@nvidia.com>
Date: Wednesday, March 06 2024 20:21:50 
DPDK git baseline: Repo:dpdk
  Branch: master
  CommitID:3472e5d3295d44b4835ffb22c39f2b7d40780f10

138061-138063 --> testing pass

Test environment and result as below:

+---------------------+----------------+
|     Environment     | dpdk_unit_test |
+=====================+================+
| Windows Server 2019 | PASS           |
+---------------------+----------------+
| CentOS Stream 9     | PASS           |
+---------------------+----------------+
| Debian Bullseye     | PASS           |
+---------------------+----------------+
| CentOS Stream 8     | PASS           |
+---------------------+----------------+
| Debian 12 (arm)     | PASS           |
+---------------------+----------------+
| Fedora 37           | PASS           |
+---------------------+----------------+
| Ubuntu 22.04        | PASS           |
+---------------------+----------------+
| Fedora 38           | PASS           |
+---------------------+----------------+
| openSUSE Leap 15    | PASS           |
+---------------------+----------------+


Windows Server 2019
	Kernel: 10.0
	Compiler: clang 14.0 and gcc 8.1.0 (MinGW)

CentOS Stream 9
	Kernel: 4.18.0-240.10.1.el8_3.x86_64
	Compiler: gcc 11.3.1 20220421

Debian Bullseye
	Kernel: 5.4.0-122-generic
	Compiler: gcc 10.2.1-6

CentOS Stream 8
	Kernel: 4.18.0-240.10.1.el8_3.x86_64
	Compiler: gcc 8.4.1 20200928

Debian 12 (arm)
	Kernel: Container Host Kernel
	Compiler: gcc 11

Fedora 37
	Kernel: Depends on container host system
	Compiler: gcc 12.3.1

Ubuntu 22.04
	Kernel: 4.18.0-240.10.1.el8_3.x86_64
	Compiler: gcc 11.3.0

Fedora 38
	Kernel: Depends on container host
	Compiler: clang 16.0.3

openSUSE Leap 15
	Kernel: 4.18.0-240.10.1.el8_3.x86_64
	Compiler: gcc 7.5.0

To view detailed results, visit:
https://lab.dpdk.org/results/dashboard/patchsets/29444/

UNH-IOL DPDK Community Lab

To manage your email subscriptions, visit: 
https://lab.dpdk.org/results/dashboard/preferences/subscriptions/