From mboxrd@z Thu Jan  1 00:00:00 1970
Return-Path: <test-report-bounces@dpdk.org>
Received: from mails.dpdk.org (mails.dpdk.org [217.70.189.124])
	by inbox.dpdk.org (Postfix) with ESMTP id DF5A543829
	for <public@inbox.dpdk.org>; Thu,  7 Mar 2024 00:09:59 +0100 (CET)
Received: from mails.dpdk.org (localhost [127.0.0.1])
	by mails.dpdk.org (Postfix) with ESMTP id DA7D740272;
	Thu,  7 Mar 2024 00:09:59 +0100 (CET)
Received: from mail-yw1-f227.google.com (mail-yw1-f227.google.com
 [209.85.128.227])
 by mails.dpdk.org (Postfix) with ESMTP id 3802A40261
 for <test-report@dpdk.org>; Thu,  7 Mar 2024 00:09:58 +0100 (CET)
Received: by mail-yw1-f227.google.com with SMTP id
 00721157ae682-609f060cbafso397157b3.0
 for <test-report@dpdk.org>; Wed, 06 Mar 2024 15:09:58 -0800 (PST)
DKIM-Signature: v=1; a=rsa-sha256; c=relaxed/relaxed;
 d=iol.unh.edu; s=unh-iol; t=1709766597; x=1710371397; darn=dpdk.org;
 h=references:in-reply-to:cc:to:from:subject:message-id:date:from:to
 :cc:subject:date:message-id:reply-to;
 bh=HyHk3T1VkPIMu+yUgkZoyLAfCUalbaKbsAfsoDYKafY=;
 b=R6oCjl6WLR1vSZkHDgWrU6Hf9RdrrTFsuysVSt9owl9H9X7S7yBoVpfYQqsCzoJ7pg
 J0pNUmK/bQ5cl39PGyD472obbwf42rfZX22MWUO0Ff8dFB4kxT909tFc13JkW/85Fi56
 O5Va7EK0FI7YHh/xawtu141KMfPk4/ZDLzGVY=
X-Google-DKIM-Signature: v=1; a=rsa-sha256; c=relaxed/relaxed;
 d=1e100.net; s=20230601; t=1709766597; x=1710371397;
 h=references:in-reply-to:cc:to:from:subject:message-id:date
 :x-gm-message-state:from:to:cc:subject:date:message-id:reply-to;
 bh=HyHk3T1VkPIMu+yUgkZoyLAfCUalbaKbsAfsoDYKafY=;
 b=HkfYVwntF6+GOU4nkw1XuNuRF/10zjXrmgUizfHxtAbUls7jD0c0PzHCNScRYDTUMc
 lrJyZJmt40zem2EE/ntEJmCRrT+JktVMNZvl9Z17AUrd9TeqpIOTMaIf92UgtyGH5nuc
 Q0nVKhCgRrY1TUR85vhE1kOnTgcMvE79kCADGT9tewiekXt72LD9ux651qiTlPYWoqfV
 otoNTJLiK1PCN7eZCw4SmqyzCUYmex/jUmgXfW/15hCuLsSYcJzoN1Ei1TdukYU6V9Tp
 HczvVV6xPDVjkOWsZQzlw2Hjvqd7DIZS1058M07L9/t6vyptCXc8Mesl5y8pOqB79ohz
 iVQg==
X-Gm-Message-State: AOJu0YyzPl1kJih6xWwRQoFFT3bi+Ef49yTpN+80UTxnKNiBqe82ngfO
 EzY3dVWCwNTuutwQDGkBv6/OWtzj9Er2fctmXP5ZYfQuDFJuaYb5B8E/f4gPFXgpojfFH2Q96mX
 r7elGoOh/7pSSDcxPgtMjknUF/DKLXbGmCpK+Moj80YDxQO/stimBhaYx
X-Google-Smtp-Source: AGHT+IEACKs3Bn8P/wAsy5o8qEhH2+l3p3CRml5WZse10cu0Ewt2zups6aBIEEss+cDOeJtR4TG7/eAaTCCN
X-Received: by 2002:a81:7bc4:0:b0:609:2fad:3bd4 with SMTP id
 w187-20020a817bc4000000b006092fad3bd4mr18000783ywc.42.1709766597684; 
 Wed, 06 Mar 2024 15:09:57 -0800 (PST)
Received: from postal.iol.unh.edu (postal.iol.unh.edu.
 [2606:4100:3880:1234::84]) by smtp-relay.gmail.com with ESMTPS id
 r142-20020a0de894000000b00609835216cbsm791499ywe.67.2024.03.06.15.09.57
 (version=TLS1_2 cipher=ECDHE-ECDSA-AES128-GCM-SHA256 bits=128/128);
 Wed, 06 Mar 2024 15:09:57 -0800 (PST)
X-Relaying-Domain: iol.unh.edu
Date: Wed, 06 Mar 2024 15:09:57 -0800 (PST)
Message-ID: <65e8f7c5.0d0a0220.75703.27c8SMTPIN_ADDED_MISSING@mx.google.com>
Received: from [172.17.0.8] (unknown [172.18.0.217])
 by postal.iol.unh.edu (Postfix) with ESMTP id 3A3916052712;
 Wed,  6 Mar 2024 18:09:57 -0500 (EST)
Subject: |SUCCESS| pw138061-138063 [PATCH] [4/4] net/mlx5: fix flow configure
From: dpdklab@iol.unh.edu
To: Test Report <test-report@dpdk.org>
Cc: dpdk-test-reports@iol.unh.edu
In-Reply-To: <20240306202150.79577-4-dsosnowski@nvidia.com>
References: <20240306202150.79577-4-dsosnowski@nvidia.com>
Content-Type: text/plain
X-BeenThere: test-report@dpdk.org
X-Mailman-Version: 2.1.29
Precedence: list
List-Id: automatic DPDK test reports <test-report.dpdk.org>
List-Unsubscribe: <https://mails.dpdk.org/options/test-report>,
 <mailto:test-report-request@dpdk.org?subject=unsubscribe>
List-Archive: <http://mails.dpdk.org/archives/test-report/>
List-Post: <mailto:test-report@dpdk.org>
List-Help: <mailto:test-report-request@dpdk.org?subject=help>
List-Subscribe: <https://mails.dpdk.org/listinfo/test-report>,
 <mailto:test-report-request@dpdk.org?subject=subscribe>
Errors-To: test-report-bounces@dpdk.org

Test-Label: iol-compile-amd64-testing
Test-Status: SUCCESS
http://dpdk.org/patch/138063

_Testing PASS_

Submitter: Dariusz Sosnowski <dsosnowski@nvidia.com>
Date: Wednesday, March 06 2024 20:21:50 
DPDK git baseline: Repo:dpdk
  Branch: master
  CommitID:3472e5d3295d44b4835ffb22c39f2b7d40780f10

138061-138063 --> testing pass

Test environment and result as below:

+---------------------+--------------------+----------------------+
|     Environment     | dpdk_meson_compile | dpdk_mingw64_compile |
+=====================+====================+======================+
| FreeBSD 13.2        | PASS               | SKIPPED              |
+---------------------+--------------------+----------------------+
| Windows Server 2022 | PASS               | SKIPPED              |
+---------------------+--------------------+----------------------+
| Windows Server 2019 | PASS               | PASS                 |
+---------------------+--------------------+----------------------+
| RHEL8               | PASS               | SKIPPED              |
+---------------------+--------------------+----------------------+
| Fedora 38           | PASS               | SKIPPED              |
+---------------------+--------------------+----------------------+
| Fedora 37           | PASS               | SKIPPED              |
+---------------------+--------------------+----------------------+
| CentOS Stream 9     | PASS               | SKIPPED              |
+---------------------+--------------------+----------------------+
| Debian Bullseye     | PASS               | SKIPPED              |
+---------------------+--------------------+----------------------+
| Ubuntu 22.04        | PASS               | SKIPPED              |
+---------------------+--------------------+----------------------+
| CentOS Stream 8     | PASS               | SKIPPED              |
+---------------------+--------------------+----------------------+
| Ubuntu 20.04        | PASS               | SKIPPED              |
+---------------------+--------------------+----------------------+
| openSUSE Leap 15    | PASS               | SKIPPED              |
+---------------------+--------------------+----------------------+
| Debian 12 (arm)     | PASS               | SKIPPED              |
+---------------------+--------------------+----------------------+
| Alpine              | PASS               | SKIPPED              |
+---------------------+--------------------+----------------------+


FreeBSD 13.2
	Kernel: 13.2
	Compiler: clang 11.3.0

Windows Server 2022
	Kernel: OS Build 20348.2031
	Compiler: MSVC VS-Preview

Windows Server 2019
	Kernel: 10.0
	Compiler: clang 14.0 and gcc 8.1.0 (MinGW)

RHEL8
	Kernel: 4.18.0-240.10.1.el8_3.x86_64
	Compiler: gcc 8.3.1 20191121 (Red Hat 8.3.1-5)

Fedora 38
	Kernel: Depends on container host
	Compiler: gcc 13.1.1

Fedora 37
	Kernel: Depends on container host system
	Compiler: gcc 12.3.1

CentOS Stream 9
	Kernel: 4.18.0-240.10.1.el8_3.x86_64
	Compiler: gcc 11.3.1 20220421

Debian Bullseye
	Kernel: 5.4.0-122-generic
	Compiler: gcc 10.2.1-6

Ubuntu 22.04
	Kernel: 4.18.0-240.10.1.el8_3.x86_64
	Compiler: gcc 11.3.0

CentOS Stream 8
	Kernel: 4.18.0-240.10.1.el8_3.x86_64
	Compiler: gcc 8.4.1 20200928

Ubuntu 20.04
	Kernel: 5.4.0-153-generic
	Compiler: gcc 9.4.0-1ubuntu1~20.04.1

openSUSE Leap 15
	Kernel: 4.18.0-240.10.1.el8_3.x86_64
	Compiler: gcc 7.5.0

Debian 12 (arm)
	Kernel: Container Host Kernel
	Compiler: gcc 11

Alpine
	Kernel: 5.4.0-73-generic
	Compiler: gcc (Alpine 10.3.1_git20210424) 10.3.1 20210424

To view detailed results, visit:
https://lab.dpdk.org/results/dashboard/patchsets/29444/

UNH-IOL DPDK Community Lab

To manage your email subscriptions, visit: 
https://lab.dpdk.org/results/dashboard/preferences/subscriptions/