From mboxrd@z Thu Jan  1 00:00:00 1970
Return-Path: <test-report-bounces@dpdk.org>
Received: from mails.dpdk.org (mails.dpdk.org [217.70.189.124])
	by inbox.dpdk.org (Postfix) with ESMTP id EB33543835
	for <public@inbox.dpdk.org>; Thu,  7 Mar 2024 00:19:52 +0100 (CET)
Received: from mails.dpdk.org (localhost [127.0.0.1])
	by mails.dpdk.org (Postfix) with ESMTP id E6C3540272;
	Thu,  7 Mar 2024 00:19:52 +0100 (CET)
Received: from mail-ua1-f100.google.com (mail-ua1-f100.google.com
 [209.85.222.100])
 by mails.dpdk.org (Postfix) with ESMTP id 0522A40261
 for <test-report@dpdk.org>; Thu,  7 Mar 2024 00:19:52 +0100 (CET)
Received: by mail-ua1-f100.google.com with SMTP id
 a1e0cc1a2514c-7d5bfdd2366so143860241.3
 for <test-report@dpdk.org>; Wed, 06 Mar 2024 15:19:51 -0800 (PST)
DKIM-Signature: v=1; a=rsa-sha256; c=relaxed/relaxed;
 d=iol.unh.edu; s=unh-iol; t=1709767191; x=1710371991; darn=dpdk.org;
 h=references:in-reply-to:cc:to:from:subject:message-id:date:from:to
 :cc:subject:date:message-id:reply-to;
 bh=L+CVctb7N/siwmvB/ocGOGdaQKLHbEeSKBAWJ4Z281o=;
 b=RjErvMNpL0tqBN8A8jsEnB2gp6L1ISFX314cMzRN1fyyf3+mxBOxcxZ0czu0b/NffG
 EIQ1Ol2HL3TKLDj2OO8/zAgz5dBBGXazYdid3xlVBCKHTIGJMY6aZZKKdDbnsk1desO7
 ZooIggfW/BtavAvFXd3qLhK+BjRCRgnJ04Ln4=
X-Google-DKIM-Signature: v=1; a=rsa-sha256; c=relaxed/relaxed;
 d=1e100.net; s=20230601; t=1709767191; x=1710371991;
 h=references:in-reply-to:cc:to:from:subject:message-id:date
 :x-gm-message-state:from:to:cc:subject:date:message-id:reply-to;
 bh=L+CVctb7N/siwmvB/ocGOGdaQKLHbEeSKBAWJ4Z281o=;
 b=XC6Vb1tqYTs4dlGAjJxAektdmwEG+Y40aC7nbS01MamV7U2FYAS2ygpg1foiRol36Q
 pMbWnVX3IYLubAf2piSSYjvlmiM5skWvsnr4woqsHGCCemgzSEjG6cb7pxUuM/fXkX1K
 /fh4E50RAA4EaFCrCXw2ffkCPzbceFnX9VpoZBEOs/8I9EzMrtsXHWn134n/tazA+6CW
 pfzNwpnA4Vm1siZfzn2aoExxJiKWaWiYORxpsUh7A4qZbbJqID8+2a1SU/jHq2Ih49Z0
 LA3hNdq8uoS3UTpc0rRfTgphSgRyy2Mmf6GbPApPCdJMK0a+chD6OD9SM83pK+wHCujp
 x7EA==
X-Gm-Message-State: AOJu0YwsAFbOKNLtYhRWJeXIEHCTdY5MEWhOKRXQti3KYCSORjFOLzSH
 bZs/NNLgmEuKrGCVls1mpd8aOLOkaIMuMxn1k7DOvyMmjagHx7jtts5ewtIK+G5D0kuka3UkNfS
 xAKFHxNsa6DVB0/s2evf6/mPUfleRr7fDDPnDHHSX
X-Google-Smtp-Source: AGHT+IE4TlCDEBGItDLSUMwXks7m5bRse55RWALNzmVbo9mYHKK9GhUV9gXpsBOpCaJsMFOuytb0kaLgIT1N
X-Received: by 2002:a05:6102:a46:b0:472:78c4:8d73 with SMTP id
 i6-20020a0561020a4600b0047278c48d73mr7645034vss.9.1709767191390; 
 Wed, 06 Mar 2024 15:19:51 -0800 (PST)
Received: from postal.iol.unh.edu (postal.iol.unh.edu. [132.177.123.84])
 by smtp-relay.gmail.com with ESMTPS id
 cy37-20020a0561300fa500b007daa8defe2asm688459uab.0.2024.03.06.15.19.51
 (version=TLS1_2 cipher=ECDHE-ECDSA-AES128-GCM-SHA256 bits=128/128);
 Wed, 06 Mar 2024 15:19:51 -0800 (PST)
X-Relaying-Domain: iol.unh.edu
Date: Wed, 06 Mar 2024 15:19:51 -0800 (PST)
Message-ID: <65e8fa17.050a0220.b94a6.74a3SMTPIN_ADDED_MISSING@mx.google.com>
Received: from [172.17.0.8] (unknown [172.18.0.217])
 by postal.iol.unh.edu (Postfix) with ESMTP id 0B8A06052712;
 Wed,  6 Mar 2024 18:19:51 -0500 (EST)
Subject: |SUCCESS| pw138061-138063 [PATCH] [4/4] net/mlx5: fix flow configure
From: dpdklab@iol.unh.edu
To: Test Report <test-report@dpdk.org>
Cc: dpdk-test-reports@iol.unh.edu
In-Reply-To: <20240306202150.79577-4-dsosnowski@nvidia.com>
References: <20240306202150.79577-4-dsosnowski@nvidia.com>
Content-Type: text/plain
X-BeenThere: test-report@dpdk.org
X-Mailman-Version: 2.1.29
Precedence: list
List-Id: automatic DPDK test reports <test-report.dpdk.org>
List-Unsubscribe: <https://mails.dpdk.org/options/test-report>,
 <mailto:test-report-request@dpdk.org?subject=unsubscribe>
List-Archive: <http://mails.dpdk.org/archives/test-report/>
List-Post: <mailto:test-report@dpdk.org>
List-Help: <mailto:test-report-request@dpdk.org?subject=help>
List-Subscribe: <https://mails.dpdk.org/listinfo/test-report>,
 <mailto:test-report-request@dpdk.org?subject=subscribe>
Errors-To: test-report-bounces@dpdk.org

Test-Label: iol-compile-arm64-testing
Test-Status: SUCCESS
http://dpdk.org/patch/138063

_Testing PASS_

Submitter: Dariusz Sosnowski <dsosnowski@nvidia.com>
Date: Wednesday, March 06 2024 20:21:50 
DPDK git baseline: Repo:dpdk
  Branch: master
  CommitID:3472e5d3295d44b4835ffb22c39f2b7d40780f10

138061-138063 --> testing pass

Test environment and result as below:

+----------------------------------------+--------------------+
|              Environment               | dpdk_meson_compile |
+========================================+====================+
| Ubuntu 20.04 ARM SVE                   | PASS               |
+----------------------------------------+--------------------+
| Fedora 37 (ARM)                        | PASS               |
+----------------------------------------+--------------------+
| Fedora 38 (ARM)                        | PASS               |
+----------------------------------------+--------------------+
| Ubuntu 20.04 (ARM)                     | PASS               |
+----------------------------------------+--------------------+
| CentOS Stream 9 (ARM)                  | PASS               |
+----------------------------------------+--------------------+
| Debian 11 (Buster) (ARM)               | PASS               |
+----------------------------------------+--------------------+
| Debian 12 (arm)                        | PASS               |
+----------------------------------------+--------------------+
| Ubuntu 20.04 aarch32 GCC Cross Compile | PASS               |
+----------------------------------------+--------------------+
| Ubuntu 20.04 ARM Clang Cross Compile   | PASS               |
+----------------------------------------+--------------------+


Ubuntu 20.04 ARM SVE
	Kernel: 5.4.0-80-generic
	Compiler: gcc 10.3.0 (Ubuntu 10.3.0-1ubuntu1~20.04)

Fedora 37 (ARM)
	Kernel: Depends on container host
	Compiler: gcc 12.3.1

Fedora 38 (ARM)
	Kernel: Depends on container host
	Compiler: gcc 13.1.1

Ubuntu 20.04 (ARM)
	Kernel: Container Host Kernel
	Compiler: gcc 9.4.0

CentOS Stream 9 (ARM)
	Kernel: Container Host Kernel
	Compiler: gcc 11.3.1

Debian 11 (Buster) (ARM)
	Kernel: Container Host Kernel
	Compiler: gcc 10.2.1

Debian 12 (arm)
	Kernel: Container Host Kernel
	Compiler: gcc 11

Ubuntu 20.04 aarch32 GCC Cross Compile
	Kernel: 5.4.0-72-generic
	Compiler: gcc 9.3.0

Ubuntu 20.04 ARM Clang Cross Compile
	Kernel: 5.4.0-72-generic
	Compiler: clang version 10.0.0-4ubuntu1

To view detailed results, visit:
https://lab.dpdk.org/results/dashboard/patchsets/29444/

UNH-IOL DPDK Community Lab

To manage your email subscriptions, visit: 
https://lab.dpdk.org/results/dashboard/preferences/subscriptions/