From mboxrd@z Thu Jan  1 00:00:00 1970
Return-Path: <test-report-bounces@dpdk.org>
Received: from mails.dpdk.org (mails.dpdk.org [217.70.189.124])
	by inbox.dpdk.org (Postfix) with ESMTP id E197743BA2
	for <public@inbox.dpdk.org>; Thu,  7 Mar 2024 00:37:16 +0100 (CET)
Received: from mails.dpdk.org (localhost [127.0.0.1])
	by mails.dpdk.org (Postfix) with ESMTP id C4CE840272;
	Thu,  7 Mar 2024 00:37:16 +0100 (CET)
Received: from mail-qk1-f227.google.com (mail-qk1-f227.google.com
 [209.85.222.227])
 by mails.dpdk.org (Postfix) with ESMTP id 3CC8140261
 for <test-report@dpdk.org>; Thu,  7 Mar 2024 00:37:15 +0100 (CET)
Received: by mail-qk1-f227.google.com with SMTP id
 af79cd13be357-788412a4b78so18066985a.1
 for <test-report@dpdk.org>; Wed, 06 Mar 2024 15:37:15 -0800 (PST)
DKIM-Signature: v=1; a=rsa-sha256; c=relaxed/relaxed;
 d=iol.unh.edu; s=unh-iol; t=1709768234; x=1710373034; darn=dpdk.org;
 h=references:in-reply-to:cc:to:from:subject:message-id:date:from:to
 :cc:subject:date:message-id:reply-to;
 bh=JcblxDymyraKu1iPBeuHvvov3gtIwVH8esfvhVjBGJI=;
 b=Z+59DTn7OmkSPY//7ysq7tA6qbk7FZIenpz5XAzKd2f8RscOvUGYxQ4Qy89d6qSgF2
 SXEJnPnhnePtFlRHoEBOQuLPRncZsHhCjp56vbEV1J69gTmcHg0fTRJx4DCEcmQfju6i
 KvhH9481OgExBBwhU6CmivlLEfELlt8tRiGGc=
X-Google-DKIM-Signature: v=1; a=rsa-sha256; c=relaxed/relaxed;
 d=1e100.net; s=20230601; t=1709768234; x=1710373034;
 h=references:in-reply-to:cc:to:from:subject:message-id:date
 :x-gm-message-state:from:to:cc:subject:date:message-id:reply-to;
 bh=JcblxDymyraKu1iPBeuHvvov3gtIwVH8esfvhVjBGJI=;
 b=dTuZQeJymmVQ0bE6+5d023obOBoIFRFgvEPbGofxzVrcuGrI+yvURhAIDhcgO1iqhB
 GbDaSTcnpnQGG9DaW02sOSOz16jdWLYnjcWHyPMFyk3ailSESQJOX3XAMB2IEf3iqsiq
 vVd/VTy3pHMbGQ/lpcFA7LD47CTBQZaeU5rIErBpHyYvckIa2nHTujP13jGEYCrd2wkf
 VpgqYO1NEY6A6EY8l8C+/G1EYB5ze81THNXztOZn+9yUihVvPK+M0uieO06HucTbdPoO
 kkIl61wME+/5mokiKkQlHfsgkuP9gUvWTkT75IYM0A7Wk7i3howlYbpSPcA1GKQlkt96
 TLWQ==
X-Gm-Message-State: AOJu0YygeB/lgi0EtnI1zQAsb8J2kKxi0LJqbGo34oUYpMVkaZLtAK1X
 FgPQGlNYB/yAC3XOms4vE+Nv9bCeYzDdH+h4R7JfsED5c/tGW3Zw7znD46yG2Bke4lshIoojywI
 tiB0AxIQ7rMZQgi6U4fouD+OoYT49fRimHz9DyM6H
X-Google-Smtp-Source: AGHT+IFNiKyYLMcCl/+dFfX4mcw3YOjjldSv0bnFJw9KaWEo1ysycKhmYtRQZBeJpBD45rtG2rHOaSG8VdiB
X-Received: by 2002:ad4:4c08:0:b0:690:5c6a:b74a with SMTP id
 bz8-20020ad44c08000000b006905c6ab74amr7021872qvb.53.1709768234664; 
 Wed, 06 Mar 2024 15:37:14 -0800 (PST)
Received: from postal.iol.unh.edu (postal.iol.unh.edu. [132.177.123.84])
 by smtp-relay.gmail.com with ESMTPS id
 r10-20020ad4576a000000b0068fa300e9c8sm804413qvx.48.2024.03.06.15.37.14
 (version=TLS1_2 cipher=ECDHE-ECDSA-AES128-GCM-SHA256 bits=128/128);
 Wed, 06 Mar 2024 15:37:14 -0800 (PST)
X-Relaying-Domain: iol.unh.edu
Date: Wed, 06 Mar 2024 15:37:14 -0800 (PST)
Message-ID: <65e8fe2a.d40a0220.2c35d.2aa2SMTPIN_ADDED_MISSING@mx.google.com>
Received: from [172.17.0.6] (unknown [172.18.0.217])
 by postal.iol.unh.edu (Postfix) with ESMTP id 52D016052712;
 Wed,  6 Mar 2024 18:37:14 -0500 (EST)
Subject: |SUCCESS| pw138061-138063 [PATCH] [4/4] net/mlx5: fix flow configure
From: dpdklab@iol.unh.edu
To: Test Report <test-report@dpdk.org>
Cc: dpdk-test-reports@iol.unh.edu
In-Reply-To: <20240306202150.79577-4-dsosnowski@nvidia.com>
References: <20240306202150.79577-4-dsosnowski@nvidia.com>
Content-Type: text/plain
X-BeenThere: test-report@dpdk.org
X-Mailman-Version: 2.1.29
Precedence: list
List-Id: automatic DPDK test reports <test-report.dpdk.org>
List-Unsubscribe: <https://mails.dpdk.org/options/test-report>,
 <mailto:test-report-request@dpdk.org?subject=unsubscribe>
List-Archive: <http://mails.dpdk.org/archives/test-report/>
List-Post: <mailto:test-report@dpdk.org>
List-Help: <mailto:test-report-request@dpdk.org?subject=help>
List-Subscribe: <https://mails.dpdk.org/listinfo/test-report>,
 <mailto:test-report-request@dpdk.org?subject=subscribe>
Errors-To: test-report-bounces@dpdk.org

Test-Label: iol-compile-arm64-testing
Test-Status: SUCCESS
http://dpdk.org/patch/138063

_Testing PASS_

Submitter: Dariusz Sosnowski <dsosnowski@nvidia.com>
Date: Wednesday, March 06 2024 20:21:50 
DPDK git baseline: Repo:dpdk
  Branch: master
  CommitID:3472e5d3295d44b4835ffb22c39f2b7d40780f10

138061-138063 --> testing pass

Test environment and result as below:

+----------------------------------------+--------------------+
|              Environment               | dpdk_meson_compile |
+========================================+====================+
| Ubuntu 20.04 ARM SVE                   | PASS               |
+----------------------------------------+--------------------+
| Fedora 37 (ARM)                        | PASS               |
+----------------------------------------+--------------------+
| Fedora 38 (ARM)                        | PASS               |
+----------------------------------------+--------------------+
| Ubuntu 20.04 (ARM)                     | PASS               |
+----------------------------------------+--------------------+
| CentOS Stream 9 (ARM)                  | PASS               |
+----------------------------------------+--------------------+
| Debian 11 (Buster) (ARM)               | PASS               |
+----------------------------------------+--------------------+
| Debian 12 (arm)                        | PASS               |
+----------------------------------------+--------------------+
| Ubuntu 20.04 aarch32 GCC Cross Compile | PASS               |
+----------------------------------------+--------------------+
| Ubuntu 20.04 ARM Clang Cross Compile   | PASS               |
+----------------------------------------+--------------------+
| Ubuntu 20.04 ARM GCC Cross Compile     | PASS               |
+----------------------------------------+--------------------+


Ubuntu 20.04 ARM SVE
	Kernel: 5.4.0-80-generic
	Compiler: gcc 10.3.0 (Ubuntu 10.3.0-1ubuntu1~20.04)

Fedora 37 (ARM)
	Kernel: Depends on container host
	Compiler: gcc 12.3.1

Fedora 38 (ARM)
	Kernel: Depends on container host
	Compiler: gcc 13.1.1

Ubuntu 20.04 (ARM)
	Kernel: Container Host Kernel
	Compiler: gcc 9.4.0

CentOS Stream 9 (ARM)
	Kernel: Container Host Kernel
	Compiler: gcc 11.3.1

Debian 11 (Buster) (ARM)
	Kernel: Container Host Kernel
	Compiler: gcc 10.2.1

Debian 12 (arm)
	Kernel: Container Host Kernel
	Compiler: gcc 11

Ubuntu 20.04 aarch32 GCC Cross Compile
	Kernel: 5.4.0-72-generic
	Compiler: gcc 9.3.0

Ubuntu 20.04 ARM Clang Cross Compile
	Kernel: 5.4.0-72-generic
	Compiler: clang version 10.0.0-4ubuntu1

Ubuntu 20.04 ARM GCC Cross Compile
	Kernel: 5.4.0-72-generic
	Compiler: aarch64-linux-gnu-gcc (Ubuntu 9.3.0-17ubuntu1~20.04) 9.3.0

To view detailed results, visit:
https://lab.dpdk.org/results/dashboard/patchsets/29444/

UNH-IOL DPDK Community Lab

To manage your email subscriptions, visit: 
https://lab.dpdk.org/results/dashboard/preferences/subscriptions/