From mboxrd@z Thu Jan 1 00:00:00 1970 Return-Path: Received: from mails.dpdk.org (mails.dpdk.org [217.70.189.124]) by inbox.dpdk.org (Postfix) with ESMTP id 9B1E043B62 for ; Thu, 7 Mar 2024 04:09:55 +0100 (CET) Received: from mails.dpdk.org (localhost [127.0.0.1]) by mails.dpdk.org (Postfix) with ESMTP id 9479542D87; Thu, 7 Mar 2024 04:09:55 +0100 (CET) Received: from mail-qk1-f227.google.com (mail-qk1-f227.google.com [209.85.222.227]) by mails.dpdk.org (Postfix) with ESMTP id 8039D402EA for ; Thu, 7 Mar 2024 04:09:53 +0100 (CET) Received: by mail-qk1-f227.google.com with SMTP id af79cd13be357-7810827e54eso30951285a.2 for ; Wed, 06 Mar 2024 19:09:53 -0800 (PST) DKIM-Signature: v=1; a=rsa-sha256; c=relaxed/relaxed; d=iol.unh.edu; s=unh-iol; t=1709780993; x=1710385793; darn=dpdk.org; h=references:in-reply-to:cc:to:from:subject:message-id:date:from:to :cc:subject:date:message-id:reply-to; bh=kF6n/ll+T5zmCcjz5kp9jR2A3CMirueXTQKwFIeLkLI=; b=R0JRPr42WeO7lmOJe2BmOF+/LafOos2GX2LQmrV09By5gluBK631HIboVcbo/xqztC 9zNhZGUiweV6xMRXnZYYSxv95FY2uLa+etuCchOLWqDWCVMike4+EuKDdlfMCsSNOcex mNwqo5se1gQraZbladY+rgjGTGEgr9FdvdvZA= X-Google-DKIM-Signature: v=1; a=rsa-sha256; c=relaxed/relaxed; d=1e100.net; s=20230601; t=1709780993; x=1710385793; h=references:in-reply-to:cc:to:from:subject:message-id:date :x-gm-message-state:from:to:cc:subject:date:message-id:reply-to; bh=kF6n/ll+T5zmCcjz5kp9jR2A3CMirueXTQKwFIeLkLI=; b=CIlEpT2WSV08+bsv86v/hGieKzcNgJ3qTKxWm3Q37Z+cXA73mvt4SYtKJ1RLt2rs4X tr0nQN/ZL7mCpOdLu3/Z5mhG3TUzmXpFJyXfhGaRrs3GIrAaztP4vARfyZfewKKDyjsH 05KItFNqPyhn11mTyL5oNaDKtcCmq65i2gPNxXKZ/12cCHVDj0oVf9yILIa3eFEK86US a1qQF8rCHyGcFwCqpl5AYS1SutsWMoLlYQKvmIdy7m7M/vyHpPBWWaH/q63XKxrQVjMO OG4F11N2ggsaPi1Jx8UvtAXvwaddhGCh40PgZ+4+BLn6inPj3q6kF/EeB15bi8+ds0j0 Ic0A== X-Gm-Message-State: AOJu0Yywc4zzIPz0Q81du8hBtXCJx9vXeSpya0U82oFd+Uq7hgPLtV5A 0OzcbmkfbBwylKcKG27eWegfcJCrJZ9UKAJjAvh6LGuTjIej4+wlXzzgr+T6C8IcBXptxDuStT5 4x3bWpIK7OZM6dU8duNtKE6IMFjQ3LDWOvgnVoT7t X-Google-Smtp-Source: AGHT+IENVLdkwqdkwiQS9zPC362oUN9gGrm8NZhFGMPsGy2+54AVRMOTmaSYeki/AbXRyuDjZDCpGeYOa5/W X-Received: by 2002:ad4:4e0e:0:b0:690:96f1:4d1e with SMTP id dl14-20020ad44e0e000000b0069096f14d1emr3347998qvb.35.1709780993024; Wed, 06 Mar 2024 19:09:53 -0800 (PST) Received: from postal.iol.unh.edu (postal.iol.unh.edu. [132.177.123.84]) by smtp-relay.gmail.com with ESMTPS id m13-20020a0562141bcd00b0068f36c50c31sm867740qvc.76.2024.03.06.19.09.52 (version=TLS1_2 cipher=ECDHE-ECDSA-AES128-GCM-SHA256 bits=128/128); Wed, 06 Mar 2024 19:09:53 -0800 (PST) X-Relaying-Domain: iol.unh.edu Date: Wed, 06 Mar 2024 19:09:53 -0800 (PST) Message-ID: <65e93001.050a0220.7af68.85b0SMTPIN_ADDED_MISSING@mx.google.com> Received: from [172.21.0.7] (unknown [172.18.0.240]) by postal.iol.unh.edu (Postfix) with ESMTP id B5896605250F; Wed, 6 Mar 2024 22:09:52 -0500 (EST) Subject: |SUCCESS| pw138072 [PATCH] [v3] hash: put GFNI stubs back From: dpdklab@iol.unh.edu To: Test Report Cc: dpdk-test-reports@iol.unh.edu In-Reply-To: <20240307013715.114013-1-stephen@networkplumber.org> References: <20240307013715.114013-1-stephen@networkplumber.org> Content-Type: text/plain X-BeenThere: test-report@dpdk.org X-Mailman-Version: 2.1.29 Precedence: list List-Id: automatic DPDK test reports List-Unsubscribe: , List-Archive: List-Post: List-Help: List-Subscribe: , Errors-To: test-report-bounces@dpdk.org Test-Label: iol-compile-arm64-testing Test-Status: SUCCESS http://dpdk.org/patch/138072 _Testing PASS_ Submitter: Stephen Hemminger Date: Thursday, March 07 2024 01:36:42 DPDK git baseline: Repo:dpdk Branch: master CommitID:2a454f84f715608ee709a4c6ba00edf2e4b62b69 138072 --> testing pass Test environment and result as below: +----------------------------------------+--------------------+ | Environment | dpdk_meson_compile | +========================================+====================+ | Ubuntu 20.04 ARM SVE | PASS | +----------------------------------------+--------------------+ | Fedora 37 (ARM) | PASS | +----------------------------------------+--------------------+ | Debian 11 (Buster) (ARM) | PASS | +----------------------------------------+--------------------+ | Fedora 38 (ARM) | PASS | +----------------------------------------+--------------------+ | CentOS Stream 9 (ARM) | PASS | +----------------------------------------+--------------------+ | Ubuntu 20.04 (ARM) | PASS | +----------------------------------------+--------------------+ | Ubuntu 20.04 aarch32 GCC Cross Compile | PASS | +----------------------------------------+--------------------+ | Ubuntu 20.04 ARM Clang Cross Compile | PASS | +----------------------------------------+--------------------+ | Ubuntu 20.04 ARM GCC Cross Compile | PASS | +----------------------------------------+--------------------+ | Debian 12 (arm) | PASS | +----------------------------------------+--------------------+ Ubuntu 20.04 ARM SVE Kernel: 5.4.0-80-generic Compiler: gcc 10.3.0 (Ubuntu 10.3.0-1ubuntu1~20.04) Fedora 37 (ARM) Kernel: Depends on container host Compiler: gcc 12.3.1 Debian 11 (Buster) (ARM) Kernel: Container Host Kernel Compiler: gcc 10.2.1 Fedora 38 (ARM) Kernel: Depends on container host Compiler: gcc 13.1.1 CentOS Stream 9 (ARM) Kernel: Container Host Kernel Compiler: gcc 11.3.1 Ubuntu 20.04 (ARM) Kernel: Container Host Kernel Compiler: gcc 9.4.0 Ubuntu 20.04 aarch32 GCC Cross Compile Kernel: 5.4.0-72-generic Compiler: gcc 9.3.0 Ubuntu 20.04 ARM Clang Cross Compile Kernel: 5.4.0-72-generic Compiler: clang version 10.0.0-4ubuntu1 Ubuntu 20.04 ARM GCC Cross Compile Kernel: 5.4.0-72-generic Compiler: aarch64-linux-gnu-gcc (Ubuntu 9.3.0-17ubuntu1~20.04) 9.3.0 Debian 12 (arm) Kernel: Container Host Kernel Compiler: gcc 11 To view detailed results, visit: https://lab.dpdk.org/results/dashboard/patchsets/29448/ UNH-IOL DPDK Community Lab To manage your email subscriptions, visit: https://lab.dpdk.org/results/dashboard/preferences/subscriptions/