From mboxrd@z Thu Jan  1 00:00:00 1970
Return-Path: <test-report-bounces@dpdk.org>
Received: from mails.dpdk.org (mails.dpdk.org [217.70.189.124])
	by inbox.dpdk.org (Postfix) with ESMTP id B9A8241B15
	for <public@inbox.dpdk.org>; Thu,  7 Mar 2024 04:43:52 +0100 (CET)
Received: from mails.dpdk.org (localhost [127.0.0.1])
	by mails.dpdk.org (Postfix) with ESMTP id 88FD140A6D;
	Thu,  7 Mar 2024 04:43:52 +0100 (CET)
Received: from mail-pl1-f225.google.com (mail-pl1-f225.google.com
 [209.85.214.225])
 by mails.dpdk.org (Postfix) with ESMTP id 4DF06402EA
 for <test-report@dpdk.org>; Thu,  7 Mar 2024 04:43:51 +0100 (CET)
Received: by mail-pl1-f225.google.com with SMTP id
 d9443c01a7336-1dba177c596so3212615ad.0
 for <test-report@dpdk.org>; Wed, 06 Mar 2024 19:43:51 -0800 (PST)
DKIM-Signature: v=1; a=rsa-sha256; c=relaxed/relaxed;
 d=iol.unh.edu; s=unh-iol; t=1709783030; x=1710387830; darn=dpdk.org;
 h=references:in-reply-to:cc:to:from:subject:message-id:date:from:to
 :cc:subject:date:message-id:reply-to;
 bh=7ks7FADuOgJA8DU8pWZIE5TuH552xezqPUvOUjIEYls=;
 b=NUa8jKgUBZ1jGEkaWKXGNIrtGlM7XcWq55YrAWiXYFQKluB7WdiKgcC9BubEfw56Zz
 UrU9o6ffnYNqodJ+l6pV9PBE84qyIvQMMP4lcbQjKA/6A+oIkgKYQq8x/XhvUALANqF5
 fySUdpgZbYGhcKiVwQbM760OWhsnU5b7ta0iU=
X-Google-DKIM-Signature: v=1; a=rsa-sha256; c=relaxed/relaxed;
 d=1e100.net; s=20230601; t=1709783030; x=1710387830;
 h=references:in-reply-to:cc:to:from:subject:message-id:date
 :x-gm-message-state:from:to:cc:subject:date:message-id:reply-to;
 bh=7ks7FADuOgJA8DU8pWZIE5TuH552xezqPUvOUjIEYls=;
 b=P6PNka8AwvPoee0j05YiVjtw9O5V7mL264WDsCMmL7PUcTL6saJxJjuVfcvq8+ELN4
 LlE/1TQH07tnu1gyLDMWrv8tUONad+/2oejMxXBijtCDMhLMf6VIPhOcOTS9YRkcKklt
 FHw7hJdDSif6+KCxBkUJcWwlgUx7Pq/U+zzZWeQsK7jt3kTnDcRnQnGnGTUICoUZH3Pd
 tvbkC8TgOgpcmc68OY6nKNu2eYA1BTwFn/q3M49dp7/GCiQTTQHfBI1tuS0A6HzD6BeL
 MRCTpbESxLLyZUw46xR1WS/yTjSwGpuhSVBx6flQzMc5fc5iTxM9qPy9VYBB7cTUkhMx
 MXUw==
X-Gm-Message-State: AOJu0YwLLv+WEg062VTU1qv84HZGd8pOc97wF3m5EMaphlwlJLT4ZQuq
 12hF5lYTpVqBZailtGNqE5bxBmpLSj6NMtEhkk+QZROaKH6VpZRFJ64Apo7OYj/gXQEhYbr54jn
 hel6CHUSgbaCjHgdpyQJAV1Ez76rNayrKpVs5rstk
X-Google-Smtp-Source: AGHT+IHoPp66gYs6MtAQZku2fLo+qJZCWpkm90k7jW2FI5SoL98fphdg0SKFf0ZfXdD+MPiaVs2vCHJ9zPhu
X-Received: by 2002:a17:903:2311:b0:1dc:b77e:1978 with SMTP id
 d17-20020a170903231100b001dcb77e1978mr555174plh.28.1709783030457; 
 Wed, 06 Mar 2024 19:43:50 -0800 (PST)
Received: from postal.iol.unh.edu (postal.iol.unh.edu. [132.177.123.84])
 by smtp-relay.gmail.com with ESMTPS id
 jz15-20020a170903430f00b001dc06af4e79sm353599plb.31.2024.03.06.19.43.50
 (version=TLS1_2 cipher=ECDHE-ECDSA-AES128-GCM-SHA256 bits=128/128);
 Wed, 06 Mar 2024 19:43:50 -0800 (PST)
X-Relaying-Domain: iol.unh.edu
Date: Wed, 06 Mar 2024 19:43:50 -0800 (PST)
Message-ID: <65e937f6.170a0220.2092c.6273SMTPIN_ADDED_MISSING@mx.google.com>
Received: from [172.21.0.6] (unknown [172.18.0.240])
 by postal.iol.unh.edu (Postfix) with ESMTP id 9EA126043300;
 Wed,  6 Mar 2024 22:43:49 -0500 (EST)
Subject: |SUCCESS| pw138066-138070 [PATCH] [v3,5/5] net/cxgbe: use rte macro 
From: dpdklab@iol.unh.edu
To: Test Report <test-report@dpdk.org>
Cc: dpdk-test-reports@iol.unh.edu
In-Reply-To: <1709763287-10713-6-git-send-email-roretzla@linux.microsoft.com>
References: <1709763287-10713-6-git-send-email-roretzla@linux.microsoft.com>
Content-Type: text/plain
X-BeenThere: test-report@dpdk.org
X-Mailman-Version: 2.1.29
Precedence: list
List-Id: automatic DPDK test reports <test-report.dpdk.org>
List-Unsubscribe: <https://mails.dpdk.org/options/test-report>,
 <mailto:test-report-request@dpdk.org?subject=unsubscribe>
List-Archive: <http://mails.dpdk.org/archives/test-report/>
List-Post: <mailto:test-report@dpdk.org>
List-Help: <mailto:test-report-request@dpdk.org?subject=help>
List-Subscribe: <https://mails.dpdk.org/listinfo/test-report>,
 <mailto:test-report-request@dpdk.org?subject=subscribe>
Errors-To: test-report-bounces@dpdk.org

Test-Label: iol-abi-testing
Test-Status: SUCCESS
http://dpdk.org/patch/138070

_Testing PASS_

Submitter: Tyler Retzlaff <roretzla@linux.microsoft.com>
Date: Wednesday, March 06 2024 22:14:47 
DPDK git baseline: Repo:dpdk
  Branch: master
  CommitID:2a454f84f715608ee709a4c6ba00edf2e4b62b69

138066-138070 --> testing pass

Test environment and result as below:

+------------------+----------+
|   Environment    | abi_test |
+==================+==========+
| Debian Bullseye  | PASS     |
+------------------+----------+
| openSUSE Leap 15 | PASS     |
+------------------+----------+
| CentOS Stream 9  | PASS     |
+------------------+----------+
| CentOS Stream 8  | PASS     |
+------------------+----------+
| Debian 12 (arm)  | PASS     |
+------------------+----------+
| Fedora 38        | PASS     |
+------------------+----------+


Debian Bullseye
	Kernel: 5.4.0-122-generic
	Compiler: gcc 10.2.1-6

openSUSE Leap 15
	Kernel: 4.18.0-240.10.1.el8_3.x86_64
	Compiler: gcc 7.5.0

CentOS Stream 9
	Kernel: 4.18.0-240.10.1.el8_3.x86_64
	Compiler: gcc 11.3.1 20220421

CentOS Stream 8
	Kernel: 4.18.0-240.10.1.el8_3.x86_64
	Compiler: gcc 8.4.1 20200928

Debian 12 (arm)
	Kernel: Container Host Kernel
	Compiler: gcc 11

Fedora 38
	Kernel: Depends on container host
	Compiler: gcc 13.1.1

To view detailed results, visit:
https://lab.dpdk.org/results/dashboard/patchsets/29446/

UNH-IOL DPDK Community Lab

To manage your email subscriptions, visit: 
https://lab.dpdk.org/results/dashboard/preferences/subscriptions/