From mboxrd@z Thu Jan  1 00:00:00 1970
Return-Path: <test-report-bounces@dpdk.org>
Received: from mails.dpdk.org (mails.dpdk.org [217.70.189.124])
	by inbox.dpdk.org (Postfix) with ESMTP id 64882433C8
	for <public@inbox.dpdk.org>; Thu,  7 Mar 2024 04:57:06 +0100 (CET)
Received: from mails.dpdk.org (localhost [127.0.0.1])
	by mails.dpdk.org (Postfix) with ESMTP id 5EA38402F2;
	Thu,  7 Mar 2024 04:57:06 +0100 (CET)
Received: from mail-io1-f97.google.com (mail-io1-f97.google.com
 [209.85.166.97]) by mails.dpdk.org (Postfix) with ESMTP id 14B22402EA
 for <test-report@dpdk.org>; Thu,  7 Mar 2024 04:57:05 +0100 (CET)
Received: by mail-io1-f97.google.com with SMTP id
 ca18e2360f4ac-7c83fb0fa01so16526539f.1
 for <test-report@dpdk.org>; Wed, 06 Mar 2024 19:57:05 -0800 (PST)
DKIM-Signature: v=1; a=rsa-sha256; c=relaxed/relaxed;
 d=iol.unh.edu; s=unh-iol; t=1709783824; x=1710388624; darn=dpdk.org;
 h=references:in-reply-to:cc:to:from:subject:message-id:date:from:to
 :cc:subject:date:message-id:reply-to;
 bh=JUBNg6+xjHMbuDkH2aO43T0ffhqcXFdVVPoSk0w6yF0=;
 b=NjG8Q+degG1IFYt/VBRJeuzDLjYNuWq0VvxssUFuDzMqj5sNbUfaSRQSI2OllNT1PZ
 h2EUU19FwVSuLU2Z6dgH9+QHdN6O0Eb10kuIUSDyKJIjmJ4cWanalnZRlNixKs4CIDxk
 HHl4d0Rk9h/6Iay+UWCZSG36fYS78Aw2J9gkQ=
X-Google-DKIM-Signature: v=1; a=rsa-sha256; c=relaxed/relaxed;
 d=1e100.net; s=20230601; t=1709783824; x=1710388624;
 h=references:in-reply-to:cc:to:from:subject:message-id:date
 :x-gm-message-state:from:to:cc:subject:date:message-id:reply-to;
 bh=JUBNg6+xjHMbuDkH2aO43T0ffhqcXFdVVPoSk0w6yF0=;
 b=ScnLp0UYRHgRG0fss8DeD/a5OrrieYEo3gqqro7UaBpanBg7LqB0ryotAVfmo8t/Is
 o8Op0xSpc/HpKXPd/zP7ivDylFAZqZgyw+hsMr0fDGqEgkbQYOmCD7DzqykATdYPGXHk
 JNjrc9VMGPsuYaYO3Xv/lr7RUDdPgNFaOntoo6LTIDuAXUj+VObgGtwMZSdrVoHVBKnw
 k8nw9kQbnVggaR/JgWiZhysslmgdcBVxQpAA9YQZYe1K51c0boEZKfqR0UYDi+0Fszdf
 gPvJuzTwUWjlUndEzc2JWIP1ZwkFecivS+tC9bGUTxzKqPu0QpgGDusaBKVjSWgaiVAh
 qS7Q==
X-Gm-Message-State: AOJu0YxdZ4vTvjDaK2A3ulCxjji6wVoOphcQx9Mqu5QmIT8kRvf6Ikz6
 i1MKPeeGKG1j7gC6kldaVpnT17Z0ALzjp6IFg79p3bSiU+74tAwHnbmDzWi9qiwTfUQH75zbazb
 W1AxVmleJ/WdcnXPqPinFtujroFWaDyjLZorUDymKL8VoHpBwVCLkEr8E
X-Google-Smtp-Source: AGHT+IFL/UgpZZvbiRveUbx7Pr4ta3B8nYt3KfLgxgJvUpsg1AsSJz3YuKuSCdZQpvMg7vWXVhOgAaN1f0W1
X-Received: by 2002:a6b:dc0e:0:b0:7c8:5742:f4a0 with SMTP id
 s14-20020a6bdc0e000000b007c85742f4a0mr10977425ioc.12.1709783824481; 
 Wed, 06 Mar 2024 19:57:04 -0800 (PST)
Received: from postal.iol.unh.edu (postal.iol.unh.edu.
 [2606:4100:3880:1234::84]) by smtp-relay.gmail.com with ESMTPS id
 b66-20020a0295c8000000b004743b6556a1sm788652jai.80.2024.03.06.19.57.04
 (version=TLS1_2 cipher=ECDHE-ECDSA-AES128-GCM-SHA256 bits=128/128);
 Wed, 06 Mar 2024 19:57:04 -0800 (PST)
X-Relaying-Domain: iol.unh.edu
Date: Wed, 06 Mar 2024 19:57:04 -0800 (PST)
Message-ID: <65e93b10.020a0220.40fdb.138fSMTPIN_ADDED_MISSING@mx.google.com>
Received: from [172.21.0.7] (unknown [172.18.0.240])
 by postal.iol.unh.edu (Postfix) with ESMTP id 08E656043300;
 Wed,  6 Mar 2024 22:57:04 -0500 (EST)
Subject: |SUCCESS| pw138066-138070 [PATCH] [v3,5/5] net/cxgbe: use rte macro 
From: dpdklab@iol.unh.edu
To: Test Report <test-report@dpdk.org>
Cc: dpdk-test-reports@iol.unh.edu
In-Reply-To: <1709763287-10713-6-git-send-email-roretzla@linux.microsoft.com>
References: <1709763287-10713-6-git-send-email-roretzla@linux.microsoft.com>
Content-Type: text/plain
X-BeenThere: test-report@dpdk.org
X-Mailman-Version: 2.1.29
Precedence: list
List-Id: automatic DPDK test reports <test-report.dpdk.org>
List-Unsubscribe: <https://mails.dpdk.org/options/test-report>,
 <mailto:test-report-request@dpdk.org?subject=unsubscribe>
List-Archive: <http://mails.dpdk.org/archives/test-report/>
List-Post: <mailto:test-report@dpdk.org>
List-Help: <mailto:test-report-request@dpdk.org?subject=help>
List-Subscribe: <https://mails.dpdk.org/listinfo/test-report>,
 <mailto:test-report-request@dpdk.org?subject=subscribe>
Errors-To: test-report-bounces@dpdk.org

Test-Label: iol-unit-amd64-testing
Test-Status: SUCCESS
http://dpdk.org/patch/138070

_Testing PASS_

Submitter: Tyler Retzlaff <roretzla@linux.microsoft.com>
Date: Wednesday, March 06 2024 22:14:47 
DPDK git baseline: Repo:dpdk
  Branch: master
  CommitID:2a454f84f715608ee709a4c6ba00edf2e4b62b69

138066-138070 --> testing pass

Test environment and result as below:

+---------------------+----------------+
|     Environment     | dpdk_unit_test |
+=====================+================+
| CentOS Stream 8     | PASS           |
+---------------------+----------------+
| Debian Bullseye     | PASS           |
+---------------------+----------------+
| Fedora 38           | PASS           |
+---------------------+----------------+
| Windows Server 2019 | PASS           |
+---------------------+----------------+
| Fedora 37           | PASS           |
+---------------------+----------------+
| Debian 12 (arm)     | PASS           |
+---------------------+----------------+
| Ubuntu 20.04        | PASS           |
+---------------------+----------------+


CentOS Stream 8
	Kernel: 4.18.0-240.10.1.el8_3.x86_64
	Compiler: gcc 8.4.1 20200928

Debian Bullseye
	Kernel: 5.4.0-122-generic
	Compiler: gcc 10.2.1-6

Fedora 38
	Kernel: Depends on container host
	Compiler: gcc 13.1.1

Windows Server 2019
	Kernel: 10.0
	Compiler: clang 14.0 and gcc 8.1.0 (MinGW)

Fedora 37
	Kernel: Depends on container host system
	Compiler: gcc 12.3.1

Debian 12 (arm)
	Kernel: Container Host Kernel
	Compiler: gcc 11

Ubuntu 20.04
	Kernel: 5.4.0-153-generic
	Compiler: gcc 9.4.0-1ubuntu1~20.04.1

To view detailed results, visit:
https://lab.dpdk.org/results/dashboard/patchsets/29446/

UNH-IOL DPDK Community Lab

To manage your email subscriptions, visit: 
https://lab.dpdk.org/results/dashboard/preferences/subscriptions/