From mboxrd@z Thu Jan  1 00:00:00 1970
Return-Path: <test-report-bounces@dpdk.org>
Received: from mails.dpdk.org (mails.dpdk.org [217.70.189.124])
	by inbox.dpdk.org (Postfix) with ESMTP id BDFA94342E
	for <public@inbox.dpdk.org>; Thu,  7 Mar 2024 05:03:56 +0100 (CET)
Received: from mails.dpdk.org (localhost [127.0.0.1])
	by mails.dpdk.org (Postfix) with ESMTP id A4281402F2;
	Thu,  7 Mar 2024 05:03:56 +0100 (CET)
Received: from mail-pf1-f226.google.com (mail-pf1-f226.google.com
 [209.85.210.226])
 by mails.dpdk.org (Postfix) with ESMTP id C029C402EA
 for <test-report@dpdk.org>; Thu,  7 Mar 2024 05:03:55 +0100 (CET)
Received: by mail-pf1-f226.google.com with SMTP id
 d2e1a72fcca58-6e649a2548cso433254b3a.3
 for <test-report@dpdk.org>; Wed, 06 Mar 2024 20:03:55 -0800 (PST)
DKIM-Signature: v=1; a=rsa-sha256; c=relaxed/relaxed;
 d=iol.unh.edu; s=unh-iol; t=1709784235; x=1710389035; darn=dpdk.org;
 h=references:in-reply-to:cc:to:from:subject:message-id:date:from:to
 :cc:subject:date:message-id:reply-to;
 bh=FYiPFAyR7uxfnUE6Dgny7a1673OLQk1A6oqOKhLbq3I=;
 b=CTN+OGqWuX05AzbragFJL1I1xF4jkFyfXOx+buOYkr2/0RdhqGq3p761y+FEeaWUqs
 Sx7S/4Oriq+7XWgvfDe9zHrBSJ9KtxmvhuZ6KglG31+NDYORtHVLvEQgUriAIA+PqJw3
 bHg9c8UlTN9vnhX1D95V35nVOr/rFRAyOgufY=
X-Google-DKIM-Signature: v=1; a=rsa-sha256; c=relaxed/relaxed;
 d=1e100.net; s=20230601; t=1709784235; x=1710389035;
 h=references:in-reply-to:cc:to:from:subject:message-id:date
 :x-gm-message-state:from:to:cc:subject:date:message-id:reply-to;
 bh=FYiPFAyR7uxfnUE6Dgny7a1673OLQk1A6oqOKhLbq3I=;
 b=NLDgCqBVsX/utjWb/pbPScNg3BcRKT9Bo47MNsfl+FNtWQuLbirezXqA7uDRv5LFBI
 P0MLIrtQN4kVDMw6WHiPddsTr9Rj+CWEAn4OYs5oczF2yWNvhaqAdYB6riexFzC+KuaS
 NlmFjQN4rRQQCuIvHvHAkGFY6dUGsEffXiYKtaU8EmUQvTphgurd2vnUc0OwLS1J9yjf
 bdmPyG6z+Mm6/kkAmqoal9bG5jJkZAzZ+/GxYqfjsFav+KSyorU43YQSoXLoSS0Pl1oU
 gxCAiAQrFlkC1sjHapBEojXFIk5szllAKsAOOMonfX//+rfdge7Ro6SPFJ1sqLb3cO5O
 QZZQ==
X-Gm-Message-State: AOJu0YyfrqNJ8gMK6CP2sbkBIictq0p42L2c6xEAicWn91R9RJc5E+fq
 2+Ab8E8SOtBV33Uige3sbEGDcXbDsy2W1Yk0TxityK6O+71TvXDPAqua0eQB7mCVIMamfbNbq9b
 rZkueyUXZc+vItX09b+/eYCe0RYtHwGebJBzk1VSGNTXjfqOBCjrOCW9Y
X-Google-Smtp-Source: AGHT+IEnuzel4RmRC/U+J7P/52Qw9ISt1AunOQcB3nSkxNhbUzKt48QYoT7KT7/aMxdw5u2Rq4KCGhsKQuwe
X-Received: by 2002:a05:6a00:2309:b0:6e6:57c8:6fca with SMTP id
 h9-20020a056a00230900b006e657c86fcamr1648248pfh.17.1709784235029; 
 Wed, 06 Mar 2024 20:03:55 -0800 (PST)
Received: from postal.iol.unh.edu (postal.iol.unh.edu.
 [2606:4100:3880:1234::84]) by smtp-relay.gmail.com with ESMTPS id
 s33-20020a056a0017a100b006e635f599d2sm254528pfg.21.2024.03.06.20.03.54
 (version=TLS1_2 cipher=ECDHE-ECDSA-AES128-GCM-SHA256 bits=128/128);
 Wed, 06 Mar 2024 20:03:55 -0800 (PST)
X-Relaying-Domain: iol.unh.edu
Date: Wed, 06 Mar 2024 20:03:55 -0800 (PST)
Message-ID: <65e93cab.050a0220.f1006.e65eSMTPIN_ADDED_MISSING@mx.google.com>
Received: from [172.21.0.6] (unknown [172.18.0.240])
 by postal.iol.unh.edu (Postfix) with ESMTP id 3D9F36043300;
 Wed,  6 Mar 2024 23:03:54 -0500 (EST)
Subject: |SUCCESS| pw138066-138070 [PATCH] [v3,5/5] net/cxgbe: use rte macro 
From: dpdklab@iol.unh.edu
To: Test Report <test-report@dpdk.org>
Cc: dpdk-test-reports@iol.unh.edu
In-Reply-To: <1709763287-10713-6-git-send-email-roretzla@linux.microsoft.com>
References: <1709763287-10713-6-git-send-email-roretzla@linux.microsoft.com>
Content-Type: text/plain
X-BeenThere: test-report@dpdk.org
X-Mailman-Version: 2.1.29
Precedence: list
List-Id: automatic DPDK test reports <test-report.dpdk.org>
List-Unsubscribe: <https://mails.dpdk.org/options/test-report>,
 <mailto:test-report-request@dpdk.org?subject=unsubscribe>
List-Archive: <http://mails.dpdk.org/archives/test-report/>
List-Post: <mailto:test-report@dpdk.org>
List-Help: <mailto:test-report-request@dpdk.org?subject=help>
List-Subscribe: <https://mails.dpdk.org/listinfo/test-report>,
 <mailto:test-report-request@dpdk.org?subject=subscribe>
Errors-To: test-report-bounces@dpdk.org

Test-Label: iol-unit-amd64-testing
Test-Status: SUCCESS
http://dpdk.org/patch/138070

_Testing PASS_

Submitter: Tyler Retzlaff <roretzla@linux.microsoft.com>
Date: Wednesday, March 06 2024 22:14:47 
DPDK git baseline: Repo:dpdk
  Branch: master
  CommitID:2a454f84f715608ee709a4c6ba00edf2e4b62b69

138066-138070 --> testing pass

Test environment and result as below:

+---------------------+----------------+
|     Environment     | dpdk_unit_test |
+=====================+================+
| CentOS Stream 8     | PASS           |
+---------------------+----------------+
| Debian Bullseye     | PASS           |
+---------------------+----------------+
| Fedora 38           | PASS           |
+---------------------+----------------+
| Windows Server 2019 | PASS           |
+---------------------+----------------+
| Fedora 37           | PASS           |
+---------------------+----------------+
| Debian 12 (arm)     | PASS           |
+---------------------+----------------+
| Ubuntu 20.04        | PASS           |
+---------------------+----------------+
| CentOS Stream 9     | PASS           |
+---------------------+----------------+
| RHEL8               | PASS           |
+---------------------+----------------+
| Ubuntu 22.04        | PASS           |
+---------------------+----------------+


CentOS Stream 8
	Kernel: 4.18.0-240.10.1.el8_3.x86_64
	Compiler: gcc 8.4.1 20200928

Debian Bullseye
	Kernel: 5.4.0-122-generic
	Compiler: gcc 10.2.1-6

Fedora 38
	Kernel: Depends on container host
	Compiler: gcc 13.1.1

Windows Server 2019
	Kernel: 10.0
	Compiler: clang 14.0 and gcc 8.1.0 (MinGW)

Fedora 37
	Kernel: Depends on container host system
	Compiler: gcc 12.3.1

Debian 12 (arm)
	Kernel: Container Host Kernel
	Compiler: gcc 11

Ubuntu 20.04
	Kernel: 5.4.0-153-generic
	Compiler: gcc 9.4.0-1ubuntu1~20.04.1

CentOS Stream 9
	Kernel: 4.18.0-240.10.1.el8_3.x86_64
	Compiler: gcc 11.3.1 20220421

RHEL8
	Kernel: 4.18.0-240.10.1.el8_3.x86_64
	Compiler: gcc 8.3.1 20191121 (Red Hat 8.3.1-5)

Ubuntu 22.04
	Kernel: 4.18.0-240.10.1.el8_3.x86_64
	Compiler: gcc 11.3.0

To view detailed results, visit:
https://lab.dpdk.org/results/dashboard/patchsets/29446/

UNH-IOL DPDK Community Lab

To manage your email subscriptions, visit: 
https://lab.dpdk.org/results/dashboard/preferences/subscriptions/