From mboxrd@z Thu Jan  1 00:00:00 1970
Return-Path: <test-report-bounces@dpdk.org>
Received: from mails.dpdk.org (mails.dpdk.org [217.70.189.124])
	by inbox.dpdk.org (Postfix) with ESMTP id 3C95C43B5E
	for <public@inbox.dpdk.org>; Thu,  7 Mar 2024 05:19:57 +0100 (CET)
Received: from mails.dpdk.org (localhost [127.0.0.1])
	by mails.dpdk.org (Postfix) with ESMTP id 3783C402F2;
	Thu,  7 Mar 2024 05:19:57 +0100 (CET)
Received: from mail-io1-f97.google.com (mail-io1-f97.google.com
 [209.85.166.97]) by mails.dpdk.org (Postfix) with ESMTP id 86BC5402EA
 for <test-report@dpdk.org>; Thu,  7 Mar 2024 05:19:55 +0100 (CET)
Received: by mail-io1-f97.google.com with SMTP id
 ca18e2360f4ac-7c84af127e3so18624339f.3
 for <test-report@dpdk.org>; Wed, 06 Mar 2024 20:19:55 -0800 (PST)
DKIM-Signature: v=1; a=rsa-sha256; c=relaxed/relaxed;
 d=iol.unh.edu; s=unh-iol; t=1709785195; x=1710389995; darn=dpdk.org;
 h=references:in-reply-to:cc:to:from:subject:message-id:date:from:to
 :cc:subject:date:message-id:reply-to;
 bh=NQEOH6BgiXE/83GDShZlJC9pVggTX8v5v9d1HPO+Izs=;
 b=aaDjoksmc6Basj2Yx65CU/s+BqSOHY3kEMc+HQxUZrrXPotN8Bw2u9k/FbkdwRquoJ
 d8Wnz99Z9qB32Iaxvd0tdh/QrJhPstQXbiBrWT9Jd2F16WUQ0f3DPHVzNtyhntDNqIuO
 uQyJMGxRw+JtpjIdPssOlLsltoVDzfaeblfUY=
X-Google-DKIM-Signature: v=1; a=rsa-sha256; c=relaxed/relaxed;
 d=1e100.net; s=20230601; t=1709785195; x=1710389995;
 h=references:in-reply-to:cc:to:from:subject:message-id:date
 :x-gm-message-state:from:to:cc:subject:date:message-id:reply-to;
 bh=NQEOH6BgiXE/83GDShZlJC9pVggTX8v5v9d1HPO+Izs=;
 b=Y7dXPCeYzTOK51wJj+dGqoajmWeQwZC+hkWkbh/qZmVcQjZ4/D95PEys5IFTqy7jfM
 h9G13CNWavmAqEmHH9nkPX9peKtPO+Z6u7aAdHwXXiktcLJQAE53t67VBatMP7zenY8/
 SlrPIG7ESdapO6BmlUVBFoPoe527eOYESzTS1DSGTZd6c97tPhIBc8jplemFpjC+13uO
 dbHx8vkrNZwYyXLyYBdDlBsysIWaXcbYRnKbf7vqiZPSsqD0qXG/uaTr1t8iy/BPmhnb
 2AUnQVar3/sfIU+NtNTmHXuWfDl8l21tCosA/M/qMR1OyXZt/lBhtrwG7lg7PY8rRuj8
 gYOw==
X-Gm-Message-State: AOJu0Yxihhh12Pmhkw9H4mr2wCoosKHif0e2vMD6pnupRViyF1PES1Vq
 nefmg31IN3JUN5JRFliJ/KKnueQANkYtSjP3ZcMpFrSn3LYypmxf55BaEb1+6wXW4V7jTZC1akV
 vwRU/Im6SgMt/9tjzYtt5tdmEBqJO2E0KAnPIdD48k6PNHLIR0ljrYAvs
X-Google-Smtp-Source: AGHT+IEWXzi4jHlYFohvHSDLTeVc+f6/I79x1/8Ej0aqm81Pk+/9uGCoxFmTMUEM3yVfq9pmTH/JpPvUcq0i
X-Received: by 2002:a6b:a15:0:b0:7c8:59d1:4cef with SMTP id
 z21-20020a6b0a15000000b007c859d14cefmr11409117ioi.4.1709785194940; 
 Wed, 06 Mar 2024 20:19:54 -0800 (PST)
Received: from postal.iol.unh.edu (postal.iol.unh.edu.
 [2606:4100:3880:1234::84]) by smtp-relay.gmail.com with ESMTPS id
 z141-20020a6bc993000000b007c87003dbebsm301743iof.32.2024.03.06.20.19.54
 (version=TLS1_2 cipher=ECDHE-ECDSA-AES128-GCM-SHA256 bits=128/128);
 Wed, 06 Mar 2024 20:19:54 -0800 (PST)
X-Relaying-Domain: iol.unh.edu
Date: Wed, 06 Mar 2024 20:19:54 -0800 (PST)
Message-ID: <65e9406a.6b0a0220.2df94.2590SMTPIN_ADDED_MISSING@mx.google.com>
Received: from [172.21.0.6] (unknown [172.18.0.240])
 by postal.iol.unh.edu (Postfix) with ESMTP id 7CCA56043300;
 Wed,  6 Mar 2024 23:19:54 -0500 (EST)
Subject: |SUCCESS| pw138066-138070 [PATCH] [v3,5/5] net/cxgbe: use rte macro 
From: dpdklab@iol.unh.edu
To: Test Report <test-report@dpdk.org>
Cc: dpdk-test-reports@iol.unh.edu
In-Reply-To: <1709763287-10713-6-git-send-email-roretzla@linux.microsoft.com>
References: <1709763287-10713-6-git-send-email-roretzla@linux.microsoft.com>
Content-Type: text/plain
X-BeenThere: test-report@dpdk.org
X-Mailman-Version: 2.1.29
Precedence: list
List-Id: automatic DPDK test reports <test-report.dpdk.org>
List-Unsubscribe: <https://mails.dpdk.org/options/test-report>,
 <mailto:test-report-request@dpdk.org?subject=unsubscribe>
List-Archive: <http://mails.dpdk.org/archives/test-report/>
List-Post: <mailto:test-report@dpdk.org>
List-Help: <mailto:test-report-request@dpdk.org?subject=help>
List-Subscribe: <https://mails.dpdk.org/listinfo/test-report>,
 <mailto:test-report-request@dpdk.org?subject=subscribe>
Errors-To: test-report-bounces@dpdk.org

Test-Label: iol-unit-arm64-testing
Test-Status: SUCCESS
http://dpdk.org/patch/138070

_Testing PASS_

Submitter: Tyler Retzlaff <roretzla@linux.microsoft.com>
Date: Wednesday, March 06 2024 22:14:47 
DPDK git baseline: Repo:dpdk
  Branch: master
  CommitID:2a454f84f715608ee709a4c6ba00edf2e4b62b69

138066-138070 --> testing pass

Test environment and result as below:

+--------------------------+----------------+--------------+
|       Environment        | dpdk_unit_test | lpm_autotest |
+==========================+================+==============+
| Fedora 37 (ARM)          | PASS           | SKIPPED      |
+--------------------------+----------------+--------------+
| CentOS Stream 9 (ARM)    | PASS           | SKIPPED      |
+--------------------------+----------------+--------------+
| Debian 11 (Buster) (ARM) | PASS           | SKIPPED      |
+--------------------------+----------------+--------------+
| Ubuntu 20.04 ARM SVE     | SKIPPED        | PASS         |
+--------------------------+----------------+--------------+


Fedora 37 (ARM)
	Kernel: Depends on container host
	Compiler: gcc 12.3.1

CentOS Stream 9 (ARM)
	Kernel: Container Host Kernel
	Compiler: gcc 11.3.1

Debian 11 (Buster) (ARM)
	Kernel: Container Host Kernel
	Compiler: gcc 10.2.1

Ubuntu 20.04 ARM SVE
	Kernel: 5.4.0-80-generic
	Compiler: gcc 10.3.0 (Ubuntu 10.3.0-1ubuntu1~20.04)

To view detailed results, visit:
https://lab.dpdk.org/results/dashboard/patchsets/29446/

UNH-IOL DPDK Community Lab

To manage your email subscriptions, visit: 
https://lab.dpdk.org/results/dashboard/preferences/subscriptions/