From mboxrd@z Thu Jan  1 00:00:00 1970
Return-Path: <test-report-bounces@dpdk.org>
Received: from mails.dpdk.org (mails.dpdk.org [217.70.189.124])
	by inbox.dpdk.org (Postfix) with ESMTP id 1CF4043B79
	for <public@inbox.dpdk.org>; Thu,  7 Mar 2024 09:52:11 +0100 (CET)
Received: from mails.dpdk.org (localhost [127.0.0.1])
	by mails.dpdk.org (Postfix) with ESMTP id 1853340295;
	Thu,  7 Mar 2024 09:52:11 +0100 (CET)
Received: from mail-qv1-f97.google.com (mail-qv1-f97.google.com
 [209.85.219.97]) by mails.dpdk.org (Postfix) with ESMTP id 3634140272
 for <test-report@dpdk.org>; Thu,  7 Mar 2024 09:52:10 +0100 (CET)
Received: by mail-qv1-f97.google.com with SMTP id
 6a1803df08f44-6901114742bso2834186d6.2
 for <test-report@dpdk.org>; Thu, 07 Mar 2024 00:52:10 -0800 (PST)
DKIM-Signature: v=1; a=rsa-sha256; c=relaxed/relaxed;
 d=iol.unh.edu; s=unh-iol; t=1709801529; x=1710406329; darn=dpdk.org;
 h=references:in-reply-to:cc:to:from:subject:message-id:date:from:to
 :cc:subject:date:message-id:reply-to;
 bh=Td1GhKvUp280roVCjWVyGiTNF7yRu2J069jT5YGXeAY=;
 b=WvIMxokgoWUdKxx1kbAvD6tHh9ukMF7ldFHOb3Jn9U2qNzp7rv1qN5oWXB0jYch/X7
 kiDhqSZ+0RrXsI9OT1Jepxhq4l3OJ/nGjlr6YGMz/hIp7Rkq/njJJtHq4+JKyCVIIm0g
 SZugTXCC17SFkzScE6RCZTzPguRmyKRddVEPk=
X-Google-DKIM-Signature: v=1; a=rsa-sha256; c=relaxed/relaxed;
 d=1e100.net; s=20230601; t=1709801529; x=1710406329;
 h=references:in-reply-to:cc:to:from:subject:message-id:date
 :x-gm-message-state:from:to:cc:subject:date:message-id:reply-to;
 bh=Td1GhKvUp280roVCjWVyGiTNF7yRu2J069jT5YGXeAY=;
 b=LprnQaTQdCf/0Mvwdv2xhp/TGR5NOncqIx6QwcfognA6wlx1iioLOwKy9SaX7T1lYr
 2dvCGTFEejDLy6u9zZEnOC8/iSU128M0hplikmDbjHc1QdTQS/Bd2HBLnhU15rKeSJUe
 HZHw7d6qtDVwUHEoNfkUQkuWrVT13SbMeNjJIeBIJj7Jrg+jk2/0rKf2kwVAryYbv0bk
 R68xe7p2f2zbxYeQ4MkO4lu6SwmVQsAloIOTpkLkJ+C+kq7sbqzj94X6WGT3jBoEbQD0
 4kGWsnzIlJgkXHWr+seQy+hSPhUO31XiQzivt08yUmHL+F8iFpHxSdngVkVD6jhSby+W
 1NJw==
X-Gm-Message-State: AOJu0Yw9Xq/GWQnSOIOCv6tbbi8/BACd+xKzGr58TPaqophqw0uSvviG
 1gyTOttEzVoMfViX5u/CDuNhNdw3EbQbPV8BFusbxEzG2ke8ryWSYiAYHsGDkNkrQ8vLBWTbxLl
 kyiksV2K42gE4zRV7n+3PpQdN0cGsbZl9OrBYIIHO42C0XBZvC/Y9yVyc
X-Google-Smtp-Source: AGHT+IEclwIQ6FQf0AsmNmN3w4Y0wT5z5y4GztepeYKUTdSOOULIlSPHOm7IsuzXkQmXool0DjsmmIhtrC9T
X-Received: by 2002:a0c:c70c:0:b0:690:8551:7b68 with SMTP id
 w12-20020a0cc70c000000b0069085517b68mr7142974qvi.37.1709801529622; 
 Thu, 07 Mar 2024 00:52:09 -0800 (PST)
Received: from postal.iol.unh.edu (postal.iol.unh.edu.
 [2606:4100:3880:1234::84]) by smtp-relay.gmail.com with ESMTPS id
 10-20020a05621420ea00b0068fddd7937dsm771483qvk.30.2024.03.07.00.52.09
 (version=TLS1_2 cipher=ECDHE-ECDSA-AES128-GCM-SHA256 bits=128/128);
 Thu, 07 Mar 2024 00:52:09 -0800 (PST)
X-Relaying-Domain: iol.unh.edu
Date: Thu, 07 Mar 2024 00:52:09 -0800 (PST)
Message-ID: <65e98039.050a0220.c2fa0.fee0SMTPIN_ADDED_MISSING@mx.google.com>
Received: from [172.21.0.6] (unknown [172.18.0.240])
 by postal.iol.unh.edu (Postfix) with ESMTP id 5951D605250F;
 Thu,  7 Mar 2024 03:52:09 -0500 (EST)
Subject: |SUCCESS| pw138082-138085 [PATCH] [v2,5/5] eal: fix memzone fbarray 
From: dpdklab@iol.unh.edu
To: Test Report <test-report@dpdk.org>
Cc: dpdk-test-reports@iol.unh.edu
In-Reply-To: <20240307070113.29580-6-artemyko@nvidia.com>
References: <20240307070113.29580-6-artemyko@nvidia.com>
Content-Type: text/plain
X-BeenThere: test-report@dpdk.org
X-Mailman-Version: 2.1.29
Precedence: list
List-Id: automatic DPDK test reports <test-report.dpdk.org>
List-Unsubscribe: <https://mails.dpdk.org/options/test-report>,
 <mailto:test-report-request@dpdk.org?subject=unsubscribe>
List-Archive: <http://mails.dpdk.org/archives/test-report/>
List-Post: <mailto:test-report@dpdk.org>
List-Help: <mailto:test-report-request@dpdk.org?subject=help>
List-Subscribe: <https://mails.dpdk.org/listinfo/test-report>,
 <mailto:test-report-request@dpdk.org?subject=subscribe>
Errors-To: test-report-bounces@dpdk.org

Test-Label: iol-abi-testing
Test-Status: SUCCESS
http://dpdk.org/patch/138085

_Testing PASS_

Submitter: Artemy Kovalyov <artemyko@nvidia.com>
Date: Thursday, March 07 2024 07:01:13 
DPDK git baseline: Repo:dpdk
  Branch: master
  CommitID:2a454f84f715608ee709a4c6ba00edf2e4b62b69

138082-138085 --> testing pass

Test environment and result as below:

+------------------+----------+
|   Environment    | abi_test |
+==================+==========+
| Debian Bullseye  | PASS     |
+------------------+----------+
| Debian 12 (arm)  | PASS     |
+------------------+----------+
| Ubuntu 22.04     | PASS     |
+------------------+----------+
| CentOS Stream 8  | PASS     |
+------------------+----------+
| openSUSE Leap 15 | PASS     |
+------------------+----------+
| Fedora 38        | PASS     |
+------------------+----------+
| CentOS Stream 9  | PASS     |
+------------------+----------+
| Fedora 37        | PASS     |
+------------------+----------+
| RHEL8            | PASS     |
+------------------+----------+


Debian Bullseye
	Kernel: 5.4.0-122-generic
	Compiler: gcc 10.2.1-6

Debian 12 (arm)
	Kernel: Container Host Kernel
	Compiler: gcc 11

Ubuntu 22.04
	Kernel: 4.18.0-240.10.1.el8_3.x86_64
	Compiler: gcc 11.3.0

CentOS Stream 8
	Kernel: 4.18.0-240.10.1.el8_3.x86_64
	Compiler: gcc 8.4.1 20200928

openSUSE Leap 15
	Kernel: 4.18.0-240.10.1.el8_3.x86_64
	Compiler: gcc 7.5.0

Fedora 38
	Kernel: Depends on container host
	Compiler: clang 16.0.3

CentOS Stream 9
	Kernel: 4.18.0-240.10.1.el8_3.x86_64
	Compiler: gcc 11.3.1 20220421

Fedora 37
	Kernel: Depends on container host system
	Compiler: gcc 12.3.1

RHEL8
	Kernel: 4.18.0-240.10.1.el8_3.x86_64
	Compiler: gcc 8.3.1 20191121 (Red Hat 8.3.1-5)

To view detailed results, visit:
https://lab.dpdk.org/results/dashboard/patchsets/29452/

UNH-IOL DPDK Community Lab

To manage your email subscriptions, visit: 
https://lab.dpdk.org/results/dashboard/preferences/subscriptions/