From mboxrd@z Thu Jan  1 00:00:00 1970
Return-Path: <test-report-bounces@dpdk.org>
Received: from mails.dpdk.org (mails.dpdk.org [217.70.189.124])
	by inbox.dpdk.org (Postfix) with ESMTP id 8E52C43BA7
	for <public@inbox.dpdk.org>; Thu,  7 Mar 2024 10:24:10 +0100 (CET)
Received: from mails.dpdk.org (localhost [127.0.0.1])
	by mails.dpdk.org (Postfix) with ESMTP id 888FF40295;
	Thu,  7 Mar 2024 10:24:10 +0100 (CET)
Received: from mail-io1-f100.google.com (mail-io1-f100.google.com
 [209.85.166.100])
 by mails.dpdk.org (Postfix) with ESMTP id A87CA40272
 for <test-report@dpdk.org>; Thu,  7 Mar 2024 10:24:09 +0100 (CET)
Received: by mail-io1-f100.google.com with SMTP id
 ca18e2360f4ac-7c83fbeb300so30296239f.3
 for <test-report@dpdk.org>; Thu, 07 Mar 2024 01:24:09 -0800 (PST)
DKIM-Signature: v=1; a=rsa-sha256; c=relaxed/relaxed;
 d=iol.unh.edu; s=unh-iol; t=1709803449; x=1710408249; darn=dpdk.org;
 h=references:in-reply-to:cc:to:from:subject:message-id:date:from:to
 :cc:subject:date:message-id:reply-to;
 bh=HJ9YdnmCEjXT3799oCfLPPZGb348YUGBhzjo970Y7tA=;
 b=EHP+7K/Sso9rhJ9viXRYGMvVD2V2sVozKH+uG5PbJT+6VFtftjSflIwfSBRN7LoR5c
 sBkVOPWsDeiaGcAjk4Hz/ElmuyojcJAfZEzT+C4WfBACZA4D4eMe18a9P9mKFQbw+GPn
 EbxBoJ37ly1fLV/EvLl3jbWnRfIhfe1zIYj4E=
X-Google-DKIM-Signature: v=1; a=rsa-sha256; c=relaxed/relaxed;
 d=1e100.net; s=20230601; t=1709803449; x=1710408249;
 h=references:in-reply-to:cc:to:from:subject:message-id:date
 :x-gm-message-state:from:to:cc:subject:date:message-id:reply-to;
 bh=HJ9YdnmCEjXT3799oCfLPPZGb348YUGBhzjo970Y7tA=;
 b=rWFGqFygduZ3Y9Xj52TtqJf5ThY4BBn7gIGPI1L64E4CSAOkgJGl7Z0e7KAvUgOKrI
 LUSYw6l4Ug1zWPLkyasrQXac+a7gpU+WKOxqDXrHJWVie8NtX3a5B3xupeH5SRg8ZRyd
 qRt2poW3CpB3qYBaGGvkX/TXXL3zUr+wzTOCrsSgjjP//dHPKQLubQ7sNrctQKk5JpPQ
 yvwxjvEiiu3ZNQjOmn4mialfoWT45HSubwoqQyMeKn5+Y6trwSJ83xrYAgR+mYQbker5
 3xD4tmq7w2H3N02avLiVmrRA9BSjKfwQqbdITAboeFa2nzJ9+llyZeeF60/8Z0Q2Ka0w
 7+GQ==
X-Gm-Message-State: AOJu0YwVrIMV5dtYO9bH/OwgUVW9GSgBGvK6GCn/aFYwlefLHd7Do7bv
 HSp+9DjB1eDADD0Ao9UEmuRVv6QxTj5rUdzRZoGRyng18Kf5CZh1xQs5ybC0iJ8DJOXaLpZCllu
 bDh8STO+kmlQ7dNuEg8kkjU99pAmY1aSKxry9Ue33
X-Google-Smtp-Source: AGHT+IE14pDAz+wMzeza3cv1x7MFsoRIxYjYNbYG8rdcf730Eq8/v0cPq2c5dpwD5XCBcgpMV33IPQ0oCN59
X-Received: by 2002:a05:6602:4297:b0:7c8:6361:7748 with SMTP id
 cd23-20020a056602429700b007c863617748mr8972297iob.19.1709803449073; 
 Thu, 07 Mar 2024 01:24:09 -0800 (PST)
Received: from postal.iol.unh.edu (postal.iol.unh.edu. [132.177.123.84])
 by smtp-relay.gmail.com with ESMTPS id
 k12-20020a056638140c00b00474f6a00cd2sm255107jad.15.2024.03.07.01.24.08
 (version=TLS1_2 cipher=ECDHE-ECDSA-AES128-GCM-SHA256 bits=128/128);
 Thu, 07 Mar 2024 01:24:09 -0800 (PST)
X-Relaying-Domain: iol.unh.edu
Date: Thu, 07 Mar 2024 01:24:09 -0800 (PST)
Message-ID: <65e987b9.050a0220.50fe1.ebbcSMTPIN_ADDED_MISSING@mx.google.com>
Received: from [172.21.0.6] (unknown [172.18.0.240])
 by postal.iol.unh.edu (Postfix) with ESMTP id AC0A8605250F;
 Thu,  7 Mar 2024 04:24:08 -0500 (EST)
Subject: |SUCCESS| pw138082-138085 [PATCH] [v2,5/5] eal: fix memzone fbarray 
From: dpdklab@iol.unh.edu
To: Test Report <test-report@dpdk.org>
Cc: dpdk-test-reports@iol.unh.edu
In-Reply-To: <20240307070113.29580-6-artemyko@nvidia.com>
References: <20240307070113.29580-6-artemyko@nvidia.com>
Content-Type: text/plain
X-BeenThere: test-report@dpdk.org
X-Mailman-Version: 2.1.29
Precedence: list
List-Id: automatic DPDK test reports <test-report.dpdk.org>
List-Unsubscribe: <https://mails.dpdk.org/options/test-report>,
 <mailto:test-report-request@dpdk.org?subject=unsubscribe>
List-Archive: <http://mails.dpdk.org/archives/test-report/>
List-Post: <mailto:test-report@dpdk.org>
List-Help: <mailto:test-report-request@dpdk.org?subject=help>
List-Subscribe: <https://mails.dpdk.org/listinfo/test-report>,
 <mailto:test-report-request@dpdk.org?subject=subscribe>
Errors-To: test-report-bounces@dpdk.org

Test-Label: iol-unit-arm64-testing
Test-Status: SUCCESS
http://dpdk.org/patch/138085

_Testing PASS_

Submitter: Artemy Kovalyov <artemyko@nvidia.com>
Date: Thursday, March 07 2024 07:01:13 
DPDK git baseline: Repo:dpdk
  Branch: master
  CommitID:2a454f84f715608ee709a4c6ba00edf2e4b62b69

138082-138085 --> testing pass

Test environment and result as below:

+-----------------------+----------------+---------------------------+------------------------------+
|      Environment      | dpdk_unit_test | cryptodev_sw_zuc_autotest | cryptodev_sw_snow3g_autotest |
+=======================+================+===========================+==============================+
| CentOS Stream 9 (ARM) | PASS           | SKIPPED                   | SKIPPED                      |
+-----------------------+----------------+---------------------------+------------------------------+
| Fedora 37 (ARM)       | PASS           | SKIPPED                   | SKIPPED                      |
+-----------------------+----------------+---------------------------+------------------------------+
| Debian 12 (arm)       | PASS           | PASS                      | PASS                         |
+-----------------------+----------------+---------------------------+------------------------------+
| Fedora 38 (ARM)       | PASS           | SKIPPED                   | SKIPPED                      |
+-----------------------+----------------+---------------------------+------------------------------+
| Ubuntu 20.04 (ARM)    | PASS           | SKIPPED                   | SKIPPED                      |
+-----------------------+----------------+---------------------------+------------------------------+


CentOS Stream 9 (ARM)
	Kernel: Container Host Kernel
	Compiler: gcc 11.3.1

Fedora 37 (ARM)
	Kernel: Depends on container host
	Compiler: gcc 12.3.1

Debian 12 (arm)
	Kernel: Container Host Kernel
	Compiler: gcc 11

Fedora 38 (ARM)
	Kernel: Depends on container host
	Compiler: gcc 13.1.1

Ubuntu 20.04 (ARM)
	Kernel: Container Host Kernel
	Compiler: gcc 9.4.0

To view detailed results, visit:
https://lab.dpdk.org/results/dashboard/patchsets/29452/

UNH-IOL DPDK Community Lab

To manage your email subscriptions, visit: 
https://lab.dpdk.org/results/dashboard/preferences/subscriptions/