From mboxrd@z Thu Jan  1 00:00:00 1970
Return-Path: <test-report-bounces@dpdk.org>
Received: from mails.dpdk.org (mails.dpdk.org [217.70.189.124])
	by inbox.dpdk.org (Postfix) with ESMTP id 781E143BA7
	for <public@inbox.dpdk.org>; Thu,  7 Mar 2024 11:14:00 +0100 (CET)
Received: from mails.dpdk.org (localhost [127.0.0.1])
	by mails.dpdk.org (Postfix) with ESMTP id 73A5842E94;
	Thu,  7 Mar 2024 11:14:00 +0100 (CET)
Received: from mail-pl1-f228.google.com (mail-pl1-f228.google.com
 [209.85.214.228])
 by mails.dpdk.org (Postfix) with ESMTP id 19A6240272
 for <test-report@dpdk.org>; Thu,  7 Mar 2024 11:14:00 +0100 (CET)
Received: by mail-pl1-f228.google.com with SMTP id
 d9443c01a7336-1dd5df90170so872505ad.0
 for <test-report@dpdk.org>; Thu, 07 Mar 2024 02:14:00 -0800 (PST)
DKIM-Signature: v=1; a=rsa-sha256; c=relaxed/relaxed;
 d=iol.unh.edu; s=unh-iol; t=1709806439; x=1710411239; darn=dpdk.org;
 h=references:in-reply-to:cc:to:from:subject:message-id:date:from:to
 :cc:subject:date:message-id:reply-to;
 bh=i6y35o0VFk5/pq9h3Fb0b9XQk5fdsdYxF1FjMFLMl58=;
 b=Eze+5f1iCO8kkTA5aB9voxXx0VBZSaRSTSxQgp6HFUnnz6YBt5pvH9gONjMD5d8sq0
 mf4mjLmAPA45W9RBX5A7xq8jVgBeIaw1JPi1lOMY4qK10HgsY/m3k7xQK+JyfcINM4vk
 fhaBeQkYYj2SoVXhItJjCwuwyxueYqzzwe/20=
X-Google-DKIM-Signature: v=1; a=rsa-sha256; c=relaxed/relaxed;
 d=1e100.net; s=20230601; t=1709806439; x=1710411239;
 h=references:in-reply-to:cc:to:from:subject:message-id:date
 :x-gm-message-state:from:to:cc:subject:date:message-id:reply-to;
 bh=i6y35o0VFk5/pq9h3Fb0b9XQk5fdsdYxF1FjMFLMl58=;
 b=Pqp5BCTKI97Q30Nf1cH/AfrgzwTHLDAuRoSJXOenJ/NRp7YPXPt0mbGPKIrJospiD6
 jAT5AZkV2eh9LDYpW3BYdShOhJsLf72lMpblB1gPOzMuG1LlleZBlnalsMPZbMeG48eZ
 NFTWGsyxc9SCiAD5i3pLHBWyuU1oiE1W7U2AcATxFn3XCUzdQR8YhbmbJeKt57F/FiKd
 BiTSV5/4PTGXgEH/mBuUL63NHsWZNMxzOitI4ISaQl2gX4nEwYDm66bJxPIlf6S9KKWi
 GC8+SXZT8lp9OXy79k7rvUvDgBioMkbLBFtRR7XqpN+JELRXpglYr+Q2wmsfWhZkYyG7
 DyQQ==
X-Gm-Message-State: AOJu0Yzr8j1XouEfFzf++bOmVyVXz0e5e2pQVmijAze4g4XcWeBoxe//
 iedGFUpjI8L4CYn6CGtRPYNbB2Cs7QHYctwFKzpFyYgiOB8zlRzst3sexvM9DUAoAfQHxsDXaaS
 BH8Y6Xzr6piXj8JniPDSIf5xOviWy0f9pCLwIVyUWLmn+hHECOXGluwpT
X-Google-Smtp-Source: AGHT+IGhBFz4u0FS8VZY4A45RVaMO07VdGWMcELWogEb7HGM5MtqxqoBP+dv9vvJnBWDcYqiaU0WXmNP+OYv
X-Received: by 2002:a17:902:cec9:b0:1db:fc18:2da5 with SMTP id
 d9-20020a170902cec900b001dbfc182da5mr1393626plg.30.1709806439266; 
 Thu, 07 Mar 2024 02:13:59 -0800 (PST)
Received: from postal.iol.unh.edu (postal.iol.unh.edu.
 [2606:4100:3880:1234::84]) by smtp-relay.gmail.com with ESMTPS id
 i18-20020a170902eb5200b001dc411e38a8sm366641pli.38.2024.03.07.02.13.59
 (version=TLS1_2 cipher=ECDHE-ECDSA-AES128-GCM-SHA256 bits=128/128);
 Thu, 07 Mar 2024 02:13:59 -0800 (PST)
X-Relaying-Domain: iol.unh.edu
Date: Thu, 07 Mar 2024 02:13:59 -0800 (PST)
Message-ID: <65e99367.170a0220.57f6a.66cdSMTPIN_ADDED_MISSING@mx.google.com>
Received: from [172.21.0.6] (unknown [172.18.0.240])
 by postal.iol.unh.edu (Postfix) with ESMTP id B955D605250F;
 Thu,  7 Mar 2024 05:13:58 -0500 (EST)
Subject: |SUCCESS| pw138082-138085 [PATCH] [v2,5/5] eal: fix memzone fbarray 
From: dpdklab@iol.unh.edu
To: Test Report <test-report@dpdk.org>
Cc: dpdk-test-reports@iol.unh.edu
In-Reply-To: <20240307070113.29580-6-artemyko@nvidia.com>
References: <20240307070113.29580-6-artemyko@nvidia.com>
Content-Type: text/plain
X-BeenThere: test-report@dpdk.org
X-Mailman-Version: 2.1.29
Precedence: list
List-Id: automatic DPDK test reports <test-report.dpdk.org>
List-Unsubscribe: <https://mails.dpdk.org/options/test-report>,
 <mailto:test-report-request@dpdk.org?subject=unsubscribe>
List-Archive: <http://mails.dpdk.org/archives/test-report/>
List-Post: <mailto:test-report@dpdk.org>
List-Help: <mailto:test-report-request@dpdk.org?subject=help>
List-Subscribe: <https://mails.dpdk.org/listinfo/test-report>,
 <mailto:test-report-request@dpdk.org?subject=subscribe>
Errors-To: test-report-bounces@dpdk.org

Test-Label: iol-unit-amd64-testing
Test-Status: SUCCESS
http://dpdk.org/patch/138085

_Testing PASS_

Submitter: Artemy Kovalyov <artemyko@nvidia.com>
Date: Thursday, March 07 2024 07:01:13 
DPDK git baseline: Repo:dpdk
  Branch: master
  CommitID:2a454f84f715608ee709a4c6ba00edf2e4b62b69

138082-138085 --> testing pass

Test environment and result as below:

+------------------+----------------+
|   Environment    | dpdk_unit_test |
+==================+================+
| CentOS Stream 8  | PASS           |
+------------------+----------------+
| Debian Bullseye  | PASS           |
+------------------+----------------+
| Fedora 37        | PASS           |
+------------------+----------------+
| CentOS Stream 9  | PASS           |
+------------------+----------------+
| Fedora 38        | PASS           |
+------------------+----------------+
| Debian 12 (arm)  | PASS           |
+------------------+----------------+
| openSUSE Leap 15 | PASS           |
+------------------+----------------+
| RHEL8            | PASS           |
+------------------+----------------+
| Ubuntu 20.04     | PASS           |
+------------------+----------------+
| Ubuntu 22.04     | PASS           |
+------------------+----------------+


CentOS Stream 8
	Kernel: 4.18.0-240.10.1.el8_3.x86_64
	Compiler: gcc 8.4.1 20200928

Debian Bullseye
	Kernel: 5.4.0-122-generic
	Compiler: gcc 10.2.1-6

Fedora 37
	Kernel: Depends on container host system
	Compiler: gcc 12.3.1

CentOS Stream 9
	Kernel: 4.18.0-240.10.1.el8_3.x86_64
	Compiler: gcc 11.3.1 20220421

Fedora 38
	Kernel: Depends on container host
	Compiler: gcc 13.1.1

Debian 12 (arm)
	Kernel: Container Host Kernel
	Compiler: gcc 11

openSUSE Leap 15
	Kernel: 4.18.0-240.10.1.el8_3.x86_64
	Compiler: gcc 7.5.0

RHEL8
	Kernel: 4.18.0-240.10.1.el8_3.x86_64
	Compiler: gcc 8.3.1 20191121 (Red Hat 8.3.1-5)

Ubuntu 20.04
	Kernel: 5.4.0-153-generic
	Compiler: gcc 9.4.0-1ubuntu1~20.04.1

Ubuntu 22.04
	Kernel: 4.18.0-240.10.1.el8_3.x86_64
	Compiler: gcc 11.3.0

To view detailed results, visit:
https://lab.dpdk.org/results/dashboard/patchsets/29452/

UNH-IOL DPDK Community Lab

To manage your email subscriptions, visit: 
https://lab.dpdk.org/results/dashboard/preferences/subscriptions/