From mboxrd@z Thu Jan  1 00:00:00 1970
Return-Path: <test-report-bounces@dpdk.org>
Received: from mails.dpdk.org (mails.dpdk.org [217.70.189.124])
	by inbox.dpdk.org (Postfix) with ESMTP id 847C643BA7
	for <public@inbox.dpdk.org>; Thu,  7 Mar 2024 11:29:20 +0100 (CET)
Received: from mails.dpdk.org (localhost [127.0.0.1])
	by mails.dpdk.org (Postfix) with ESMTP id 7F4FC42D26;
	Thu,  7 Mar 2024 11:29:20 +0100 (CET)
Received: from mail-io1-f97.google.com (mail-io1-f97.google.com
 [209.85.166.97]) by mails.dpdk.org (Postfix) with ESMTP id 4995D40272
 for <test-report@dpdk.org>; Thu,  7 Mar 2024 11:29:19 +0100 (CET)
Received: by mail-io1-f97.google.com with SMTP id
 ca18e2360f4ac-7c8713acecfso26945939f.0
 for <test-report@dpdk.org>; Thu, 07 Mar 2024 02:29:19 -0800 (PST)
DKIM-Signature: v=1; a=rsa-sha256; c=relaxed/relaxed;
 d=iol.unh.edu; s=unh-iol; t=1709807358; x=1710412158; darn=dpdk.org;
 h=references:in-reply-to:cc:to:from:subject:message-id:date:from:to
 :cc:subject:date:message-id:reply-to;
 bh=1tUcpOobjdG2KorNCdnDhpbaiay7L/+Mes9XMmWrVks=;
 b=EdIvcLo66FTcT/fkH4t8QQqlzLfMBKirJ8WGkAYGaq7wh+SF/nMQvGkPCVEEtknxUW
 bpwIlWaU23l0Nn5qkSOcULSNNO050k6lpIZXAkB4E6H93F2AKLenc91Ayevyc5o4kWfM
 XYyiWXm7YyvEn6k29m96N58L04kuOJXgnFwoc=
X-Google-DKIM-Signature: v=1; a=rsa-sha256; c=relaxed/relaxed;
 d=1e100.net; s=20230601; t=1709807358; x=1710412158;
 h=references:in-reply-to:cc:to:from:subject:message-id:date
 :x-gm-message-state:from:to:cc:subject:date:message-id:reply-to;
 bh=1tUcpOobjdG2KorNCdnDhpbaiay7L/+Mes9XMmWrVks=;
 b=q8ppXafzJmLeUGt4DxSUPYiwNQ1yWpMq9eOkLrne7BNKNKAzqO31zWYPn4r+LVlHLl
 6a9qbkdPzywsEmY3m1UX/x7RhF6RNuNVvT121dUMw1BDdM62AqPdrYzQmVkekS1NNLut
 3NDNiGFZ1XrJUliaGx4FYC9RBcZf9BMFU8cmWWcDcbuhjUzYphhJYwPb5QQgJnZqx74k
 RFVxuUVVVuM7OK2jpAkBsJDDqFanNaUx3Wj4z20/3SrQyAi3I7Djtu08fpJyy+6WyUOY
 aHT5wPD1zReUrRrwZ44l60b/79JNz92dQ8qzyzxlN6/vsCuG4EHAxCTA2OmBHkEy7Kkt
 7P4Q==
X-Gm-Message-State: AOJu0YwyMk9TXU8GNUlFSs3ALUtfxF2E6fVggWYmBxwldIMZwKJRJPD5
 TE6mWNcofyFK9hmY4mYGXiDYaALVhg2UoKzUS5lVImEFBkFSRM5XaAoZ0qo00EVSe8CrIiQmEGB
 Jvn5JSH+hR/D1droNEbZdljWu88aI2LvbqQME3Euv
X-Google-Smtp-Source: AGHT+IH+5Xu9/p62e1edRsdcIZ/rRnabA9ZWIb19d+cYCbsOeP1ewVxi8XXIb2Bi3Rs86YYPyo+cPAgwchKi
X-Received: by 2002:a6b:5f16:0:b0:7c8:7654:3c8a with SMTP id
 t22-20020a6b5f16000000b007c876543c8amr5189220iob.4.1709807358613; 
 Thu, 07 Mar 2024 02:29:18 -0800 (PST)
Received: from postal.iol.unh.edu (postal.iol.unh.edu. [132.177.123.84])
 by smtp-relay.gmail.com with ESMTPS id
 a36-20020a029427000000b0047465419be3sm817655jai.79.2024.03.07.02.29.18
 (version=TLS1_2 cipher=ECDHE-ECDSA-AES128-GCM-SHA256 bits=128/128);
 Thu, 07 Mar 2024 02:29:18 -0800 (PST)
X-Relaying-Domain: iol.unh.edu
Date: Thu, 07 Mar 2024 02:29:18 -0800 (PST)
Message-ID: <65e996fe.020a0220.4e7ba.2abaSMTPIN_ADDED_MISSING@mx.google.com>
Received: from [172.21.0.6] (unknown [172.18.0.240])
 by postal.iol.unh.edu (Postfix) with ESMTP id 2FBA5605250F;
 Thu,  7 Mar 2024 05:29:18 -0500 (EST)
Subject: |SUCCESS| pw138082-138085 [PATCH] [v2,5/5] eal: fix memzone fbarray 
From: dpdklab@iol.unh.edu
To: Test Report <test-report@dpdk.org>
Cc: dpdk-test-reports@iol.unh.edu
In-Reply-To: <20240307070113.29580-6-artemyko@nvidia.com>
References: <20240307070113.29580-6-artemyko@nvidia.com>
Content-Type: text/plain
X-BeenThere: test-report@dpdk.org
X-Mailman-Version: 2.1.29
Precedence: list
List-Id: automatic DPDK test reports <test-report.dpdk.org>
List-Unsubscribe: <https://mails.dpdk.org/options/test-report>,
 <mailto:test-report-request@dpdk.org?subject=unsubscribe>
List-Archive: <http://mails.dpdk.org/archives/test-report/>
List-Post: <mailto:test-report@dpdk.org>
List-Help: <mailto:test-report-request@dpdk.org?subject=help>
List-Subscribe: <https://mails.dpdk.org/listinfo/test-report>,
 <mailto:test-report-request@dpdk.org?subject=subscribe>
Errors-To: test-report-bounces@dpdk.org

Test-Label: iol-unit-arm64-testing
Test-Status: SUCCESS
http://dpdk.org/patch/138085

_Testing PASS_

Submitter: Artemy Kovalyov <artemyko@nvidia.com>
Date: Thursday, March 07 2024 07:01:13 
DPDK git baseline: Repo:dpdk
  Branch: master
  CommitID:2a454f84f715608ee709a4c6ba00edf2e4b62b69

138082-138085 --> testing pass

Test environment and result as below:

+--------------------------+----------------+---------------------------+------------------------------+--------------+
|       Environment        | dpdk_unit_test | cryptodev_sw_zuc_autotest | cryptodev_sw_snow3g_autotest | lpm_autotest |
+==========================+================+===========================+==============================+==============+
| CentOS Stream 9 (ARM)    | PASS           | SKIPPED                   | SKIPPED                      | SKIPPED      |
+--------------------------+----------------+---------------------------+------------------------------+--------------+
| Fedora 37 (ARM)          | PASS           | SKIPPED                   | SKIPPED                      | SKIPPED      |
+--------------------------+----------------+---------------------------+------------------------------+--------------+
| Debian 12 (arm)          | PASS           | PASS                      | PASS                         | SKIPPED      |
+--------------------------+----------------+---------------------------+------------------------------+--------------+
| Fedora 38 (ARM)          | PASS           | SKIPPED                   | SKIPPED                      | SKIPPED      |
+--------------------------+----------------+---------------------------+------------------------------+--------------+
| Ubuntu 20.04 (ARM)       | PASS           | SKIPPED                   | SKIPPED                      | SKIPPED      |
+--------------------------+----------------+---------------------------+------------------------------+--------------+
| Debian 11 (Buster) (ARM) | PASS           | SKIPPED                   | SKIPPED                      | SKIPPED      |
+--------------------------+----------------+---------------------------+------------------------------+--------------+
| Fedora 38 (ARM Clang)    | PASS           | SKIPPED                   | SKIPPED                      | SKIPPED      |
+--------------------------+----------------+---------------------------+------------------------------+--------------+
| Ubuntu 20.04 ARM SVE     | SKIPPED        | SKIPPED                   | SKIPPED                      | PASS         |
+--------------------------+----------------+---------------------------+------------------------------+--------------+


CentOS Stream 9 (ARM)
	Kernel: Container Host Kernel
	Compiler: gcc 11.3.1

Fedora 37 (ARM)
	Kernel: Depends on container host
	Compiler: gcc 12.3.1

Debian 12 (arm)
	Kernel: Container Host Kernel
	Compiler: gcc 11

Fedora 38 (ARM)
	Kernel: Depends on container host
	Compiler: gcc 13.1.1

Ubuntu 20.04 (ARM)
	Kernel: Container Host Kernel
	Compiler: gcc 9.4.0

Debian 11 (Buster) (ARM)
	Kernel: Container Host Kernel
	Compiler: gcc 10.2.1

Fedora 38 (ARM Clang)
	Kernel: Depends on container host
	Compiler: clang 16.0.3

Ubuntu 20.04 ARM SVE
	Kernel: 5.4.0-80-generic
	Compiler: gcc 10.3.0 (Ubuntu 10.3.0-1ubuntu1~20.04)

To view detailed results, visit:
https://lab.dpdk.org/results/dashboard/patchsets/29452/

UNH-IOL DPDK Community Lab

To manage your email subscriptions, visit: 
https://lab.dpdk.org/results/dashboard/preferences/subscriptions/