From mboxrd@z Thu Jan  1 00:00:00 1970
Return-Path: <test-report-bounces@dpdk.org>
Received: from mails.dpdk.org (mails.dpdk.org [217.70.189.124])
	by inbox.dpdk.org (Postfix) with ESMTP id C2BB843BA7
	for <public@inbox.dpdk.org>; Thu,  7 Mar 2024 11:29:39 +0100 (CET)
Received: from mails.dpdk.org (localhost [127.0.0.1])
	by mails.dpdk.org (Postfix) with ESMTP id BC6F942D26;
	Thu,  7 Mar 2024 11:29:39 +0100 (CET)
Received: from mail-qv1-f99.google.com (mail-qv1-f99.google.com
 [209.85.219.99]) by mails.dpdk.org (Postfix) with ESMTP id 8674240272
 for <test-report@dpdk.org>; Thu,  7 Mar 2024 11:29:38 +0100 (CET)
Received: by mail-qv1-f99.google.com with SMTP id
 6a1803df08f44-68fb7928970so3040266d6.2
 for <test-report@dpdk.org>; Thu, 07 Mar 2024 02:29:38 -0800 (PST)
DKIM-Signature: v=1; a=rsa-sha256; c=relaxed/relaxed;
 d=iol.unh.edu; s=unh-iol; t=1709807378; x=1710412178; darn=dpdk.org;
 h=references:in-reply-to:cc:to:from:subject:message-id:date:from:to
 :cc:subject:date:message-id:reply-to;
 bh=DyoehzjGEjgW0IsuZqCcHWMkIWjdszV/nU1JPNbHgfQ=;
 b=WWLjna14OlNIXfMDU2gTlUzrBS9ZqbQoXj8kxASosI+zmCdv+9omllOO1tEYnXGn0y
 KwSO8nqaeIXnJe1iLcnKwtqYEVtQdm0t3hN/ZeLQn8mJam7fmTytDjvADCXdIdAhDvx2
 snWV9OrFHyA8qb5+kgIDwvsA3m9bJvRU1GOAE=
X-Google-DKIM-Signature: v=1; a=rsa-sha256; c=relaxed/relaxed;
 d=1e100.net; s=20230601; t=1709807378; x=1710412178;
 h=references:in-reply-to:cc:to:from:subject:message-id:date
 :x-gm-message-state:from:to:cc:subject:date:message-id:reply-to;
 bh=DyoehzjGEjgW0IsuZqCcHWMkIWjdszV/nU1JPNbHgfQ=;
 b=TfvLjyc06R3qjKkNF6bbWt3/+lBednx6s3kFQUvlh1wVdvmv1Zsq7dd6qIJ7/R0X+x
 uu/rHMUmAlOaXx/2r2GJB2fKf9MHFRbrP/CCjb5W+voEAYdfi/LapQEhFkrWnJP8oSNY
 RAtKYX/h+GuJV9KOtKtqjr0GxV+JnQyFl6xhO3ps17mWzMJytoGZpVyz5mCN1eQakdiH
 chtqZHxHthTxBwW9bsI47Tprd5xETfTi/MfB/IgVt2vbV16SqBnz71BfhN0mWCsgQtTO
 Quwpt0LCVhewejpIhvV/pzRop+h/DKOuaqy8/mOMXnObtyQbVjTf7QnQ6rtsOBT4bZSo
 QvbA==
X-Gm-Message-State: AOJu0YzK6blgj8NtooSdCDBYvjLUQnPdjzDRhBH8WHBGUEgCkE5lskOP
 2Otk7cykrlgdzcVRzXSJGylnT3rPnWFuDhT6Z/VWQHsdDIUwu3b35NC7GDX62cyASH1i9fODqfB
 cBAIp9ZLkIGTS//40bg2Mk7UrfgaoJdzi4M+SVxpVNW9l3HV6dyz66Fvd
X-Google-Smtp-Source: AGHT+IEtI2WfK68qgWgwawOBPknED701+2Rv/oGPa9JNq1L0ss8UXVNrTf8FxHmcJ5I6EAYBhcM9Aj5BPVR+
X-Received: by 2002:a0c:e1cd:0:b0:690:4695:326b with SMTP id
 v13-20020a0ce1cd000000b006904695326bmr7237434qvl.64.1709807377995; 
 Thu, 07 Mar 2024 02:29:37 -0800 (PST)
Received: from postal.iol.unh.edu (postal.iol.unh.edu.
 [2606:4100:3880:1234::84]) by smtp-relay.gmail.com with ESMTPS id
 r5-20020a056214212500b0069039299f95sm906569qvc.56.2024.03.07.02.29.37
 (version=TLS1_2 cipher=ECDHE-ECDSA-AES128-GCM-SHA256 bits=128/128);
 Thu, 07 Mar 2024 02:29:37 -0800 (PST)
X-Relaying-Domain: iol.unh.edu
Date: Thu, 07 Mar 2024 02:29:37 -0800 (PST)
Message-ID: <65e99711.050a0220.8ea3d.9ad0SMTPIN_ADDED_MISSING@mx.google.com>
Received: from [172.21.0.6] (unknown [172.18.0.240])
 by postal.iol.unh.edu (Postfix) with ESMTP id B34C2605250F;
 Thu,  7 Mar 2024 05:29:37 -0500 (EST)
Subject: |SUCCESS| pw138082-138085 [PATCH] [v2,5/5] eal: fix memzone fbarray 
From: dpdklab@iol.unh.edu
To: Test Report <test-report@dpdk.org>
Cc: dpdk-test-reports@iol.unh.edu
In-Reply-To: <20240307070113.29580-6-artemyko@nvidia.com>
References: <20240307070113.29580-6-artemyko@nvidia.com>
Content-Type: text/plain
X-BeenThere: test-report@dpdk.org
X-Mailman-Version: 2.1.29
Precedence: list
List-Id: automatic DPDK test reports <test-report.dpdk.org>
List-Unsubscribe: <https://mails.dpdk.org/options/test-report>,
 <mailto:test-report-request@dpdk.org?subject=unsubscribe>
List-Archive: <http://mails.dpdk.org/archives/test-report/>
List-Post: <mailto:test-report@dpdk.org>
List-Help: <mailto:test-report-request@dpdk.org?subject=help>
List-Subscribe: <https://mails.dpdk.org/listinfo/test-report>,
 <mailto:test-report-request@dpdk.org?subject=subscribe>
Errors-To: test-report-bounces@dpdk.org

Test-Label: iol-compile-amd64-testing
Test-Status: SUCCESS
http://dpdk.org/patch/138085

_Testing PASS_

Submitter: Artemy Kovalyov <artemyko@nvidia.com>
Date: Thursday, March 07 2024 07:01:13 
DPDK git baseline: Repo:dpdk
  Branch: master
  CommitID:2a454f84f715608ee709a4c6ba00edf2e4b62b69

138082-138085 --> testing pass

Test environment and result as below:

+---------------------+--------------------+----------------------+
|     Environment     | dpdk_meson_compile | dpdk_mingw64_compile |
+=====================+====================+======================+
| FreeBSD 13.2        | PASS               | SKIPPED              |
+---------------------+--------------------+----------------------+
| Windows Server 2022 | PASS               | SKIPPED              |
+---------------------+--------------------+----------------------+
| Windows Server 2019 | PASS               | PASS                 |
+---------------------+--------------------+----------------------+
| Debian Bullseye     | PASS               | SKIPPED              |
+---------------------+--------------------+----------------------+
| CentOS Stream 8     | PASS               | SKIPPED              |
+---------------------+--------------------+----------------------+
| CentOS Stream 9     | PASS               | SKIPPED              |
+---------------------+--------------------+----------------------+
| Fedora 37           | PASS               | SKIPPED              |
+---------------------+--------------------+----------------------+
| Fedora 38           | PASS               | SKIPPED              |
+---------------------+--------------------+----------------------+
| openSUSE Leap 15    | PASS               | SKIPPED              |
+---------------------+--------------------+----------------------+
| Ubuntu 20.04        | PASS               | SKIPPED              |
+---------------------+--------------------+----------------------+
| RHEL8               | PASS               | SKIPPED              |
+---------------------+--------------------+----------------------+
| Ubuntu 22.04        | PASS               | SKIPPED              |
+---------------------+--------------------+----------------------+
| Debian 12 (arm)     | PASS               | SKIPPED              |
+---------------------+--------------------+----------------------+
| Alpine              | PASS               | SKIPPED              |
+---------------------+--------------------+----------------------+


FreeBSD 13.2
	Kernel: 13.2
	Compiler: clang 11.3.0

Windows Server 2022
	Kernel: OS Build 20348.2031
	Compiler: MSVC VS-Preview

Windows Server 2019
	Kernel: 10.0
	Compiler: clang 14.0 and gcc 8.1.0 (MinGW)

Debian Bullseye
	Kernel: 5.4.0-122-generic
	Compiler: gcc 10.2.1-6

CentOS Stream 8
	Kernel: 4.18.0-240.10.1.el8_3.x86_64
	Compiler: gcc 8.4.1 20200928

CentOS Stream 9
	Kernel: 4.18.0-240.10.1.el8_3.x86_64
	Compiler: gcc 11.3.1 20220421

Fedora 37
	Kernel: Depends on container host system
	Compiler: gcc 12.3.1

Fedora 38
	Kernel: Depends on container host
	Compiler: gcc 13.1.1

openSUSE Leap 15
	Kernel: 4.18.0-240.10.1.el8_3.x86_64
	Compiler: gcc 7.5.0

Ubuntu 20.04
	Kernel: 5.4.0-153-generic
	Compiler: gcc 9.4.0-1ubuntu1~20.04.1

RHEL8
	Kernel: 4.18.0-240.10.1.el8_3.x86_64
	Compiler: gcc 8.3.1 20191121 (Red Hat 8.3.1-5)

Ubuntu 22.04
	Kernel: 4.18.0-240.10.1.el8_3.x86_64
	Compiler: gcc 11.3.0

Debian 12 (arm)
	Kernel: Container Host Kernel
	Compiler: gcc 11

Alpine
	Kernel: 5.4.0-73-generic
	Compiler: gcc (Alpine 10.3.1_git20210424) 10.3.1 20210424

To view detailed results, visit:
https://lab.dpdk.org/results/dashboard/patchsets/29452/

UNH-IOL DPDK Community Lab

To manage your email subscriptions, visit: 
https://lab.dpdk.org/results/dashboard/preferences/subscriptions/