From mboxrd@z Thu Jan  1 00:00:00 1970
Return-Path: <test-report-bounces@dpdk.org>
Received: from mails.dpdk.org (mails.dpdk.org [217.70.189.124])
	by inbox.dpdk.org (Postfix) with ESMTP id C898C43BBA
	for <public@inbox.dpdk.org>; Thu,  7 Mar 2024 12:28:12 +0100 (CET)
Received: from mails.dpdk.org (localhost [127.0.0.1])
	by mails.dpdk.org (Postfix) with ESMTP id BE4FF42ECF;
	Thu,  7 Mar 2024 12:28:12 +0100 (CET)
Received: from mail-pl1-f227.google.com (mail-pl1-f227.google.com
 [209.85.214.227])
 by mails.dpdk.org (Postfix) with ESMTP id 3036842ECF
 for <test-report@dpdk.org>; Thu,  7 Mar 2024 12:28:11 +0100 (CET)
Received: by mail-pl1-f227.google.com with SMTP id
 d9443c01a7336-1dd0d46ecc3so5774155ad.2
 for <test-report@dpdk.org>; Thu, 07 Mar 2024 03:28:11 -0800 (PST)
DKIM-Signature: v=1; a=rsa-sha256; c=relaxed/relaxed;
 d=iol.unh.edu; s=unh-iol; t=1709810890; x=1710415690; darn=dpdk.org;
 h=references:in-reply-to:cc:to:from:subject:message-id:date:from:to
 :cc:subject:date:message-id:reply-to;
 bh=b9rkKeeMLpeSYeUz2kZwXyIRu4Ob7xxDqpYlM2WosVI=;
 b=FchIq9PoYSI6aNHk9hGtLTrWtuJe2YWhAAtybvLBUV1OyHHUaH09/Vec8RdvZ+Q/ru
 4B0LWWPv3NTa4fr1FRv0urYQHGbbTl2XuvdevKv00boZ8HTY22KkMC8xQsoMCn+hU/gN
 SbM+i9yCCq7G3FM7m1IdNURzGVfY4qK+hg/jY=
X-Google-DKIM-Signature: v=1; a=rsa-sha256; c=relaxed/relaxed;
 d=1e100.net; s=20230601; t=1709810890; x=1710415690;
 h=references:in-reply-to:cc:to:from:subject:message-id:date
 :x-gm-message-state:from:to:cc:subject:date:message-id:reply-to;
 bh=b9rkKeeMLpeSYeUz2kZwXyIRu4Ob7xxDqpYlM2WosVI=;
 b=D/P0/b8iH39DNb63JZm60ENC95pmvrw2WnziMY0Uk1VQmv6h6NuflCU+BVONxr29JX
 KVwtq3W3C6g3GfbHW+gmG0aOhX4r8cGIZlZjv/82xms3dvWrNRdoeALyT0LuIostvy0d
 RdJhOk/3f4v2HN5xAY/wm76MhE4Yw/77Mu7kJod3NgAEtWnjJqI5hKi2TJQisQxtiuF+
 qRDQmzW84cPfo+z8HyuzRWM467/nyCjRaY4RGvIagwPScngykJyWKy/d+GesD0b8xZ6v
 CHo29V/uxdidRZzrHa1VAMOkNDaNeQUt5oL11+Q3nNqm6eRhac0MIcmLSfNkwqfkTFP8
 jFaQ==
X-Gm-Message-State: AOJu0YyP3iFTI78qHW9VTEFk9ay72umxDVsdC4QFXEq/tD4IyQ6aIobN
 vqfjY7w3fqWkekm3Ooy+GVKFiykFWlzMfubvHQt0KsrsD/t1uxn0xXaYzCYZGU8lMcS4/Ue9COz
 d2b/M01oSHvRaWcftbbuHGHk/A0F2geKLj4WvD15eCbyiDi5fNk945Yji
X-Google-Smtp-Source: AGHT+IHNZsVOE0fE0SrH5/YI8tHHS80bf8Wa2gBmk5IrKXzsYQqHHYZxV0Nt/znG3EF66akYKhLppXWmnj3e
X-Received: by 2002:a17:902:ab85:b0:1dc:6d64:dcff with SMTP id
 f5-20020a170902ab8500b001dc6d64dcffmr6668658plr.37.1709810890416; 
 Thu, 07 Mar 2024 03:28:10 -0800 (PST)
Received: from postal.iol.unh.edu (postal.iol.unh.edu.
 [2606:4100:3880:1234::84]) by smtp-relay.gmail.com with ESMTPS id
 b12-20020a170902ed0c00b001d8937dedbfsm346964pld.33.2024.03.07.03.28.10
 (version=TLS1_2 cipher=ECDHE-ECDSA-AES128-GCM-SHA256 bits=128/128);
 Thu, 07 Mar 2024 03:28:10 -0800 (PST)
X-Relaying-Domain: iol.unh.edu
Date: Thu, 07 Mar 2024 03:28:10 -0800 (PST)
Message-ID: <65e9a4ca.170a0220.fde6e.52f4SMTPIN_ADDED_MISSING@mx.google.com>
Received: from [172.17.0.6] (unknown [172.18.0.217])
 by postal.iol.unh.edu (Postfix) with ESMTP id 98603605250F;
 Thu,  7 Mar 2024 06:28:09 -0500 (EST)
Subject: |SUCCESS| pw138088 [PATCH] net/mlx5: fix age position in hairpin spl
From: dpdklab@iol.unh.edu
To: Test Report <test-report@dpdk.org>
Cc: dpdk-test-reports@iol.unh.edu
In-Reply-To: <20240307080924.310710-1-bingz@nvidia.com>
References: <20240307080924.310710-1-bingz@nvidia.com>
Content-Type: text/plain
X-BeenThere: test-report@dpdk.org
X-Mailman-Version: 2.1.29
Precedence: list
List-Id: automatic DPDK test reports <test-report.dpdk.org>
List-Unsubscribe: <https://mails.dpdk.org/options/test-report>,
 <mailto:test-report-request@dpdk.org?subject=unsubscribe>
List-Archive: <http://mails.dpdk.org/archives/test-report/>
List-Post: <mailto:test-report@dpdk.org>
List-Help: <mailto:test-report-request@dpdk.org?subject=help>
List-Subscribe: <https://mails.dpdk.org/listinfo/test-report>,
 <mailto:test-report-request@dpdk.org?subject=subscribe>
Errors-To: test-report-bounces@dpdk.org

Test-Label: iol-unit-arm64-testing
Test-Status: SUCCESS
http://dpdk.org/patch/138088

_Testing PASS_

Submitter: Bing Zhao <bingz@nvidia.com>
Date: Thursday, March 07 2024 08:09:24 
DPDK git baseline: Repo:dpdk
  Branch: master
  CommitID:6666628362c94a0b567a39a0177539c12c97d999

138088 --> testing pass

Test environment and result as below:

+--------------------------+----------------+---------------------------+------------------------------+
|       Environment        | dpdk_unit_test | cryptodev_sw_zuc_autotest | cryptodev_sw_snow3g_autotest |
+==========================+================+===========================+==============================+
| Debian 11 (Buster) (ARM) | PASS           | SKIPPED                   | SKIPPED                      |
+--------------------------+----------------+---------------------------+------------------------------+
| Fedora 37 (ARM)          | PASS           | SKIPPED                   | SKIPPED                      |
+--------------------------+----------------+---------------------------+------------------------------+
| Fedora 38 (ARM)          | PASS           | SKIPPED                   | SKIPPED                      |
+--------------------------+----------------+---------------------------+------------------------------+
| CentOS Stream 9 (ARM)    | PASS           | SKIPPED                   | SKIPPED                      |
+--------------------------+----------------+---------------------------+------------------------------+
| Debian 12 (arm)          | PASS           | PASS                      | PASS                         |
+--------------------------+----------------+---------------------------+------------------------------+


Debian 11 (Buster) (ARM)
	Kernel: Container Host Kernel
	Compiler: gcc 10.2.1

Fedora 37 (ARM)
	Kernel: Depends on container host
	Compiler: gcc 12.3.1

Fedora 38 (ARM)
	Kernel: Depends on container host
	Compiler: gcc 13.1.1

CentOS Stream 9 (ARM)
	Kernel: Container Host Kernel
	Compiler: gcc 11.3.1

Debian 12 (arm)
	Kernel: Container Host Kernel
	Compiler: gcc 11

To view detailed results, visit:
https://lab.dpdk.org/results/dashboard/patchsets/29454/

UNH-IOL DPDK Community Lab

To manage your email subscriptions, visit: 
https://lab.dpdk.org/results/dashboard/preferences/subscriptions/