From mboxrd@z Thu Jan  1 00:00:00 1970
Return-Path: <test-report-bounces@dpdk.org>
Received: from mails.dpdk.org (mails.dpdk.org [217.70.189.124])
	by inbox.dpdk.org (Postfix) with ESMTP id 2C41643B6C
	for <public@inbox.dpdk.org>; Thu,  7 Mar 2024 12:43:34 +0100 (CET)
Received: from mails.dpdk.org (localhost [127.0.0.1])
	by mails.dpdk.org (Postfix) with ESMTP id 269574067E;
	Thu,  7 Mar 2024 12:43:34 +0100 (CET)
Received: from mail-yw1-f226.google.com (mail-yw1-f226.google.com
 [209.85.128.226])
 by mails.dpdk.org (Postfix) with ESMTP id 37C6040272
 for <test-report@dpdk.org>; Thu,  7 Mar 2024 12:43:33 +0100 (CET)
Received: by mail-yw1-f226.google.com with SMTP id
 00721157ae682-60974cb1cd7so7604747b3.3
 for <test-report@dpdk.org>; Thu, 07 Mar 2024 03:43:33 -0800 (PST)
DKIM-Signature: v=1; a=rsa-sha256; c=relaxed/relaxed;
 d=iol.unh.edu; s=unh-iol; t=1709811812; x=1710416612; darn=dpdk.org;
 h=references:in-reply-to:cc:to:from:subject:message-id:date:from:to
 :cc:subject:date:message-id:reply-to;
 bh=q44LXmd/8PW+9ncnzilN/l2xVzRwExmNdOhzIkgJn0M=;
 b=OIcEGmBEHVLKNEAwnCuHBrSKmU2xPj2Ut+9kOKf/Tt0rFwP815RITw8CRqHuqj47an
 UoGY5DLFHwMgXcTYwOfCh62IFdleFHXKhbONYMMsSCmHzQOF59YSYWRH+NwIof+oL7my
 7TIuXTf93cyUNjd/g4YasWpM1cqk+Cd8g8r+I=
X-Google-DKIM-Signature: v=1; a=rsa-sha256; c=relaxed/relaxed;
 d=1e100.net; s=20230601; t=1709811812; x=1710416612;
 h=references:in-reply-to:cc:to:from:subject:message-id:date
 :x-gm-message-state:from:to:cc:subject:date:message-id:reply-to;
 bh=q44LXmd/8PW+9ncnzilN/l2xVzRwExmNdOhzIkgJn0M=;
 b=mlXcnVLIZgokOhVUecuyo1J/oNkJP6tvu3r7dW/z3n7U1LjsLWZ1DPgp4oOcCHK3sp
 mcjjIl6qFf6AVCe+83L5nZ0fyh8DVz8gucvrl6HM6rBiPWYeJDBPQ+QOax9aW2d+Wami
 pkL+sbE9+Qm4tZi5gQFF/V1EAbp46O4sRAF/Z/ZQ8X04A1UmjTFEBU6blK6i1R0cIu6J
 VB64PissFokSu0rC1D+avuoY26259utlcxWlSuba8XlB2uWjuSBEIuCKzq4/RC0TTfkZ
 4iwJm06kEGn95f68kvMRl3LvpppxGY1++eQ8/4VoQbTBsJ6L1A74r79oEbKH7syOs62h
 6X0A==
X-Gm-Message-State: AOJu0Yzx8hNrkQtv9edPoTlYFRN7VqUlvGjVpCq4NROvgEpeYicD6m3y
 hbv8X+qjDv3h62cqpFmKTCJ6CWfSTVloDeMo3W1HfgMYaYWceKr3N/mkyg64byVBRqQA7KZouEy
 EnWJdPoW/IeK9UvVPnK9sm7e0i2+NkxV7kKb7TAhY
X-Google-Smtp-Source: AGHT+IGIz05ArBYzG7m1BOI20Qr8YMqSemo8BsZoxvN7dxE7jCr4w+UPIM66Yjr3qDMaF7FFnxKIClh/W3qh
X-Received: by 2002:a81:4e44:0:b0:609:fb41:9564 with SMTP id
 c65-20020a814e44000000b00609fb419564mr468828ywb.8.1709811812607; 
 Thu, 07 Mar 2024 03:43:32 -0800 (PST)
Received: from postal.iol.unh.edu (postal.iol.unh.edu. [132.177.123.84])
 by smtp-relay.gmail.com with ESMTPS id
 r142-20020a0de894000000b00609835216cbsm851638ywe.67.2024.03.07.03.43.32
 (version=TLS1_2 cipher=ECDHE-ECDSA-AES128-GCM-SHA256 bits=128/128);
 Thu, 07 Mar 2024 03:43:32 -0800 (PST)
X-Relaying-Domain: iol.unh.edu
Date: Thu, 07 Mar 2024 03:43:32 -0800 (PST)
Message-ID: <65e9a864.0d0a0220.75703.637bSMTPIN_ADDED_MISSING@mx.google.com>
Received: from [172.21.0.6] (unknown [172.18.0.240])
 by postal.iol.unh.edu (Postfix) with ESMTP id 4039F605250F;
 Thu,  7 Mar 2024 06:43:32 -0500 (EST)
Subject: |SUCCESS| pw138087 [PATCH] config/arm: add fallback march for Neover
From: dpdklab@iol.unh.edu
To: Test Report <test-report@dpdk.org>
Cc: dpdk-test-reports@iol.unh.edu
In-Reply-To: <20240307080627.177-1-anoobj@marvell.com>
References: <20240307080627.177-1-anoobj@marvell.com>
Content-Type: text/plain
X-BeenThere: test-report@dpdk.org
X-Mailman-Version: 2.1.29
Precedence: list
List-Id: automatic DPDK test reports <test-report.dpdk.org>
List-Unsubscribe: <https://mails.dpdk.org/options/test-report>,
 <mailto:test-report-request@dpdk.org?subject=unsubscribe>
List-Archive: <http://mails.dpdk.org/archives/test-report/>
List-Post: <mailto:test-report@dpdk.org>
List-Help: <mailto:test-report-request@dpdk.org?subject=help>
List-Subscribe: <https://mails.dpdk.org/listinfo/test-report>,
 <mailto:test-report-request@dpdk.org?subject=subscribe>
Errors-To: test-report-bounces@dpdk.org

Test-Label: iol-unit-arm64-testing
Test-Status: SUCCESS
http://dpdk.org/patch/138087

_Testing PASS_

Submitter: Anoob Joseph <anoobj@marvell.com>
Date: Thursday, March 07 2024 08:06:27 
DPDK git baseline: Repo:dpdk
  Branch: master
  CommitID:2a454f84f715608ee709a4c6ba00edf2e4b62b69

138087 --> testing pass

Test environment and result as below:

+--------------------------+----------------+
|       Environment        | dpdk_unit_test |
+==========================+================+
| Debian 11 (Buster) (ARM) | PASS           |
+--------------------------+----------------+
| CentOS Stream 9 (ARM)    | PASS           |
+--------------------------+----------------+
| Fedora 38 (ARM)          | PASS           |
+--------------------------+----------------+
| Debian 12 (arm)          | PASS           |
+--------------------------+----------------+
| Fedora 37 (ARM)          | PASS           |
+--------------------------+----------------+


Debian 11 (Buster) (ARM)
	Kernel: Container Host Kernel
	Compiler: gcc 10.2.1

CentOS Stream 9 (ARM)
	Kernel: Container Host Kernel
	Compiler: gcc 11.3.1

Fedora 38 (ARM)
	Kernel: Depends on container host
	Compiler: gcc 13.1.1

Debian 12 (arm)
	Kernel: Container Host Kernel
	Compiler: gcc 11

Fedora 37 (ARM)
	Kernel: Depends on container host
	Compiler: gcc 12.3.1

To view detailed results, visit:
https://lab.dpdk.org/results/dashboard/patchsets/29453/

UNH-IOL DPDK Community Lab

To manage your email subscriptions, visit: 
https://lab.dpdk.org/results/dashboard/preferences/subscriptions/