From mboxrd@z Thu Jan  1 00:00:00 1970
Return-Path: <test-report-bounces@dpdk.org>
Received: from mails.dpdk.org (mails.dpdk.org [217.70.189.124])
	by inbox.dpdk.org (Postfix) with ESMTP id 3931843BBA
	for <public@inbox.dpdk.org>; Thu,  7 Mar 2024 12:53:17 +0100 (CET)
Received: from mails.dpdk.org (localhost [127.0.0.1])
	by mails.dpdk.org (Postfix) with ESMTP id 34D8D4067E;
	Thu,  7 Mar 2024 12:53:17 +0100 (CET)
Received: from mail-qt1-f228.google.com (mail-qt1-f228.google.com
 [209.85.160.228])
 by mails.dpdk.org (Postfix) with ESMTP id EF3BC40272
 for <test-report@dpdk.org>; Thu,  7 Mar 2024 12:53:15 +0100 (CET)
Received: by mail-qt1-f228.google.com with SMTP id
 d75a77b69052e-42ee23c64e3so3861771cf.2
 for <test-report@dpdk.org>; Thu, 07 Mar 2024 03:53:15 -0800 (PST)
DKIM-Signature: v=1; a=rsa-sha256; c=relaxed/relaxed;
 d=iol.unh.edu; s=unh-iol; t=1709812395; x=1710417195; darn=dpdk.org;
 h=references:in-reply-to:cc:to:from:subject:message-id:date:from:to
 :cc:subject:date:message-id:reply-to;
 bh=W/ZJArELUOMwdfZ82VX5MXuD0gwF/zQ26GryMqRUFSg=;
 b=gfbNa+GovQfeSNyZloXLMwuxUaGgVLVkfDAbcihq9eGEWdi2o7tzupWHKpkYVKiyzZ
 ED4Cwvl+4z2UUMJFDNswQjeEhIpQVMt4FeYDUAdS4y9LVN3qxUQHZz5YbAu4Y6XhqjS1
 /lK77lCtwnNDzTvSpLpAgVyFbT3llNCrHsmi0=
X-Google-DKIM-Signature: v=1; a=rsa-sha256; c=relaxed/relaxed;
 d=1e100.net; s=20230601; t=1709812395; x=1710417195;
 h=references:in-reply-to:cc:to:from:subject:message-id:date
 :x-gm-message-state:from:to:cc:subject:date:message-id:reply-to;
 bh=W/ZJArELUOMwdfZ82VX5MXuD0gwF/zQ26GryMqRUFSg=;
 b=AJYHlvb7agssmEllLF/d/7e/TFdUB4v7iDfdOJcWLbtN3Pqf8N9U96gd8bE+dQgrCm
 An3t6y//gGSeplOsXRyEdN71CSun6G4o+4LreGtGmznXaOkJhJMBBufpmJp79DgzOLt2
 rlnnP5CJlT7c7r8T2KI/zYY1CUkr3jkysBYXrBIb/aQ78u8H6utEOp+2ZxjOmU4tt11t
 51UahOEoKSTNdmCmNqfefFVQkMXP0bl8d/XjrqivRD8b0ZzvWsQwP9v/SMgalJ7X6LKh
 rPG3Qb6V3byElqvqOuYB6UK/jNYWV4z5jIJaIcnehbDinsOLcvWzRquhuRbO4NNQnIKR
 7F0A==
X-Gm-Message-State: AOJu0Yyyx7vorGnckqWb7YV/e+Hz06Tj+w9U3fDxiaT+0v0PV9udNnNM
 LjiybPBS0pVY+CGabZZQEUGoFNMhnWfBrQ6nU8fUr4b5mpzvLh4ArQzku42KuxeualipuX1LmNH
 0FOMLm9vI0SrJmNqtdx/SK9zm0H8Yq3qgGzllUH9iWYKSs11v0iazBvuU
X-Google-Smtp-Source: AGHT+IFM6ZfJhtsegICmZo+aGDxT3SwxU62mXmPl+7DdIpRr8eV96dGruS5ngfjAL3m0JGM5Oz9PwRF/5Gc5
X-Received: by 2002:ac8:5d49:0:b0:42e:b74f:88e9 with SMTP id
 g9-20020ac85d49000000b0042eb74f88e9mr9212625qtx.48.1709812395382; 
 Thu, 07 Mar 2024 03:53:15 -0800 (PST)
Received: from postal.iol.unh.edu (postal.iol.unh.edu.
 [2606:4100:3880:1234::84]) by smtp-relay.gmail.com with ESMTPS id
 fw15-20020a05622a4a8f00b0042ee4e6c03bsm764279qtb.11.2024.03.07.03.53.15
 (version=TLS1_2 cipher=ECDHE-ECDSA-AES128-GCM-SHA256 bits=128/128);
 Thu, 07 Mar 2024 03:53:15 -0800 (PST)
X-Relaying-Domain: iol.unh.edu
Date: Thu, 07 Mar 2024 03:53:15 -0800 (PST)
Message-ID: <65e9aaab.050a0220.b0787.c5ccSMTPIN_ADDED_MISSING@mx.google.com>
Received: from [172.21.0.6] (unknown [172.18.0.240])
 by postal.iol.unh.edu (Postfix) with ESMTP id 20790605250F;
 Thu,  7 Mar 2024 06:53:15 -0500 (EST)
Subject: |SUCCESS| pw138088 [PATCH] net/mlx5: fix age position in hairpin spl
From: dpdklab@iol.unh.edu
To: Test Report <test-report@dpdk.org>
Cc: dpdk-test-reports@iol.unh.edu
In-Reply-To: <20240307080924.310710-1-bingz@nvidia.com>
References: <20240307080924.310710-1-bingz@nvidia.com>
Content-Type: text/plain
X-BeenThere: test-report@dpdk.org
X-Mailman-Version: 2.1.29
Precedence: list
List-Id: automatic DPDK test reports <test-report.dpdk.org>
List-Unsubscribe: <https://mails.dpdk.org/options/test-report>,
 <mailto:test-report-request@dpdk.org?subject=unsubscribe>
List-Archive: <http://mails.dpdk.org/archives/test-report/>
List-Post: <mailto:test-report@dpdk.org>
List-Help: <mailto:test-report-request@dpdk.org?subject=help>
List-Subscribe: <https://mails.dpdk.org/listinfo/test-report>,
 <mailto:test-report-request@dpdk.org?subject=subscribe>
Errors-To: test-report-bounces@dpdk.org

Test-Label: iol-compile-amd64-testing
Test-Status: SUCCESS
http://dpdk.org/patch/138088

_Testing PASS_

Submitter: Bing Zhao <bingz@nvidia.com>
Date: Thursday, March 07 2024 08:09:24 
DPDK git baseline: Repo:dpdk
  Branch: master
  CommitID:6666628362c94a0b567a39a0177539c12c97d999

138088 --> testing pass

Test environment and result as below:

+---------------------+--------------------+----------------------+
|     Environment     | dpdk_meson_compile | dpdk_mingw64_compile |
+=====================+====================+======================+
| Windows Server 2022 | PASS               | SKIPPED              |
+---------------------+--------------------+----------------------+
| FreeBSD 13.2        | PASS               | SKIPPED              |
+---------------------+--------------------+----------------------+
| Windows Server 2019 | PASS               | PASS                 |
+---------------------+--------------------+----------------------+
| CentOS Stream 8     | PASS               | SKIPPED              |
+---------------------+--------------------+----------------------+
| Debian Bullseye     | PASS               | SKIPPED              |
+---------------------+--------------------+----------------------+
| Ubuntu 22.04        | PASS               | SKIPPED              |
+---------------------+--------------------+----------------------+
| openSUSE Leap 15    | PASS               | SKIPPED              |
+---------------------+--------------------+----------------------+
| Debian 12 (arm)     | PASS               | SKIPPED              |
+---------------------+--------------------+----------------------+
| CentOS Stream 9     | PASS               | SKIPPED              |
+---------------------+--------------------+----------------------+
| RHEL8               | PASS               | SKIPPED              |
+---------------------+--------------------+----------------------+
| Fedora 37           | PASS               | SKIPPED              |
+---------------------+--------------------+----------------------+
| Fedora 38           | PASS               | SKIPPED              |
+---------------------+--------------------+----------------------+
| Ubuntu 20.04        | PASS               | SKIPPED              |
+---------------------+--------------------+----------------------+
| Alpine              | PASS               | SKIPPED              |
+---------------------+--------------------+----------------------+


Windows Server 2022
	Kernel: OS Build 20348.2031
	Compiler: MSVC VS-Preview

FreeBSD 13.2
	Kernel: 13.2
	Compiler: clang 11.3.0

Windows Server 2019
	Kernel: 10.0
	Compiler: clang 14.0 and gcc 8.1.0 (MinGW)

CentOS Stream 8
	Kernel: 4.18.0-240.10.1.el8_3.x86_64
	Compiler: gcc 8.4.1 20200928

Debian Bullseye
	Kernel: 5.4.0-122-generic
	Compiler: gcc 10.2.1-6

Ubuntu 22.04
	Kernel: 4.18.0-240.10.1.el8_3.x86_64
	Compiler: gcc 11.3.0

openSUSE Leap 15
	Kernel: 4.18.0-240.10.1.el8_3.x86_64
	Compiler: gcc 7.5.0

Debian 12 (arm)
	Kernel: Container Host Kernel
	Compiler: gcc 11

CentOS Stream 9
	Kernel: 4.18.0-240.10.1.el8_3.x86_64
	Compiler: gcc 11.3.1 20220421

RHEL8
	Kernel: 4.18.0-240.10.1.el8_3.x86_64
	Compiler: gcc 8.3.1 20191121 (Red Hat 8.3.1-5)

Fedora 37
	Kernel: Depends on container host system
	Compiler: gcc 12.3.1

Fedora 38
	Kernel: Depends on container host
	Compiler: clang 16.0.3

Ubuntu 20.04
	Kernel: 5.4.0-153-generic
	Compiler: gcc 9.4.0-1ubuntu1~20.04.1

Alpine
	Kernel: 5.4.0-73-generic
	Compiler: gcc (Alpine 10.3.1_git20210424) 10.3.1 20210424

To view detailed results, visit:
https://lab.dpdk.org/results/dashboard/patchsets/29454/

UNH-IOL DPDK Community Lab

To manage your email subscriptions, visit: 
https://lab.dpdk.org/results/dashboard/preferences/subscriptions/