From mboxrd@z Thu Jan  1 00:00:00 1970
Return-Path: <test-report-bounces@dpdk.org>
Received: from mails.dpdk.org (mails.dpdk.org [217.70.189.124])
	by inbox.dpdk.org (Postfix) with ESMTP id 0733643BBA
	for <public@inbox.dpdk.org>; Thu,  7 Mar 2024 13:07:52 +0100 (CET)
Received: from mails.dpdk.org (localhost [127.0.0.1])
	by mails.dpdk.org (Postfix) with ESMTP id 039F34067E;
	Thu,  7 Mar 2024 13:07:52 +0100 (CET)
Received: from mail-il1-f227.google.com (mail-il1-f227.google.com
 [209.85.166.227])
 by mails.dpdk.org (Postfix) with ESMTP id A3B3140272
 for <test-report@dpdk.org>; Thu,  7 Mar 2024 13:07:50 +0100 (CET)
Received: by mail-il1-f227.google.com with SMTP id
 e9e14a558f8ab-365c8257940so3157885ab.2
 for <test-report@dpdk.org>; Thu, 07 Mar 2024 04:07:50 -0800 (PST)
DKIM-Signature: v=1; a=rsa-sha256; c=relaxed/relaxed;
 d=iol.unh.edu; s=unh-iol; t=1709813270; x=1710418070; darn=dpdk.org;
 h=references:in-reply-to:cc:to:from:subject:message-id:date:from:to
 :cc:subject:date:message-id:reply-to;
 bh=JJzzZIyVPO6wwYP+nBA2LTlpumSoNKD6kBa+eBtaQfU=;
 b=UunTYagyu0Qj6mVEwdxQmlyzsW+pxNFpahBiHo696ljDV9c+2MMm5Pd2kg8WxWhstD
 ykyMzFLwDQNsQNaHZHIzrjRx1D8bgEXZHAP+GDRpwpLY0gSEHnGWK3PCfgc7/lV9d+8l
 SzFJiojmR+AW0E8TEGBM0NNRaqJhFWoDeBpLQ=
X-Google-DKIM-Signature: v=1; a=rsa-sha256; c=relaxed/relaxed;
 d=1e100.net; s=20230601; t=1709813270; x=1710418070;
 h=references:in-reply-to:cc:to:from:subject:message-id:date
 :x-gm-message-state:from:to:cc:subject:date:message-id:reply-to;
 bh=JJzzZIyVPO6wwYP+nBA2LTlpumSoNKD6kBa+eBtaQfU=;
 b=hcdCHsn65/O+l9GTK6jYQKr0i7VTKFIahiYxqD8ndNX2TbUP6lLBOFC1BRh8KZHW6Y
 bPs9bFh7d8fZ2HQg3CBBbVUe3dc6CZr3yxwD6I5l7z2AlOBZuUffxv05KOT146ypOOFw
 0jZdeYIfCChUtRVZCyV+QbfLB/IknKmu4CNPNnhS2T8hp2FahlBkh3IrKYkBxtW5Mo4J
 lt2kUGpsBFmg7KvhXrpI/zi2WYEgx/TDfglGG/PChqtcU3me/z4TisqsdrwdVXYPe+hn
 LVxPpJLYvx1IYQ5PgYSyYbqx6QOxzfU+YaD9dkMi7KzDYF7+e29rbVtRGF/jEjs1r3KL
 QWQA==
X-Gm-Message-State: AOJu0Yxfr2w5i1/WsP437OH2XJqrQyvsYS8DNdhUUxozewNqjufpTkWX
 eBHoST8Agrrneu4wrX3UHAtq0ftG5ZTBYNn2RtPKdHZPgmfLNfFx+gTkylTvYm1my9S9zaEiz49
 vbnl1yIbK75lpZhiMX/Xt5INJwpPY3jBZOFOfPFHnMltoVSSX4oo54pTD
X-Google-Smtp-Source: AGHT+IGI25ur+O7OZzwsWBcdd2Ne99hYHZKerma4sjb/iQFUkqUIg5Lyoyb2TwxqRP+rfWw43VWO5UTMsluU
X-Received: by 2002:a05:6e02:b22:b0:365:a941:1b7d with SMTP id
 e2-20020a056e020b2200b00365a9411b7dmr20148874ilu.18.1709813270121; 
 Thu, 07 Mar 2024 04:07:50 -0800 (PST)
Received: from postal.iol.unh.edu (postal.iol.unh.edu.
 [2606:4100:3880:1234::84]) by smtp-relay.gmail.com with ESMTPS id
 bn7-20020a056e02338700b0036600f7ba65sm231637ilb.11.2024.03.07.04.07.50
 (version=TLS1_2 cipher=ECDHE-ECDSA-AES128-GCM-SHA256 bits=128/128);
 Thu, 07 Mar 2024 04:07:50 -0800 (PST)
X-Relaying-Domain: iol.unh.edu
Date: Thu, 07 Mar 2024 04:07:50 -0800 (PST)
Message-ID: <65e9ae16.050a0220.c078a.d8a0SMTPIN_ADDED_MISSING@mx.google.com>
Received: from [172.17.0.8] (unknown [172.18.0.217])
 by postal.iol.unh.edu (Postfix) with ESMTP id A3100605250F;
 Thu,  7 Mar 2024 07:07:49 -0500 (EST)
Subject: |SUCCESS| pw138087 [PATCH] config/arm: add fallback march for Neover
From: dpdklab@iol.unh.edu
To: Test Report <test-report@dpdk.org>
Cc: dpdk-test-reports@iol.unh.edu
In-Reply-To: <20240307080627.177-1-anoobj@marvell.com>
References: <20240307080627.177-1-anoobj@marvell.com>
Content-Type: text/plain
X-BeenThere: test-report@dpdk.org
X-Mailman-Version: 2.1.29
Precedence: list
List-Id: automatic DPDK test reports <test-report.dpdk.org>
List-Unsubscribe: <https://mails.dpdk.org/options/test-report>,
 <mailto:test-report-request@dpdk.org?subject=unsubscribe>
List-Archive: <http://mails.dpdk.org/archives/test-report/>
List-Post: <mailto:test-report@dpdk.org>
List-Help: <mailto:test-report-request@dpdk.org?subject=help>
List-Subscribe: <https://mails.dpdk.org/listinfo/test-report>,
 <mailto:test-report-request@dpdk.org?subject=subscribe>
Errors-To: test-report-bounces@dpdk.org

Test-Label: iol-unit-amd64-testing
Test-Status: SUCCESS
http://dpdk.org/patch/138087

_Testing PASS_

Submitter: Anoob Joseph <anoobj@marvell.com>
Date: Thursday, March 07 2024 08:06:27 
DPDK git baseline: Repo:dpdk
  Branch: master
  CommitID:2a454f84f715608ee709a4c6ba00edf2e4b62b69

138087 --> testing pass

Test environment and result as below:

+------------------+----------------+
|   Environment    | dpdk_unit_test |
+==================+================+
| Debian 12 (arm)  | PASS           |
+------------------+----------------+
| CentOS Stream 9  | PASS           |
+------------------+----------------+
| Debian Bullseye  | PASS           |
+------------------+----------------+
| CentOS Stream 8  | PASS           |
+------------------+----------------+
| Fedora 37        | PASS           |
+------------------+----------------+
| Fedora 38        | PASS           |
+------------------+----------------+
| RHEL8            | PASS           |
+------------------+----------------+
| Ubuntu 22.04     | PASS           |
+------------------+----------------+
| openSUSE Leap 15 | PASS           |
+------------------+----------------+
| Ubuntu 20.04     | PASS           |
+------------------+----------------+


Debian 12 (arm)
	Kernel: Container Host Kernel
	Compiler: gcc 11

CentOS Stream 9
	Kernel: 4.18.0-240.10.1.el8_3.x86_64
	Compiler: gcc 11.3.1 20220421

Debian Bullseye
	Kernel: 5.4.0-122-generic
	Compiler: gcc 10.2.1-6

CentOS Stream 8
	Kernel: 4.18.0-240.10.1.el8_3.x86_64
	Compiler: gcc 8.4.1 20200928

Fedora 37
	Kernel: Depends on container host system
	Compiler: gcc 12.3.1

Fedora 38
	Kernel: Depends on container host
	Compiler: gcc 13.1.1

RHEL8
	Kernel: 4.18.0-240.10.1.el8_3.x86_64
	Compiler: gcc 8.3.1 20191121 (Red Hat 8.3.1-5)

Ubuntu 22.04
	Kernel: 4.18.0-240.10.1.el8_3.x86_64
	Compiler: gcc 11.3.0

openSUSE Leap 15
	Kernel: 4.18.0-240.10.1.el8_3.x86_64
	Compiler: gcc 7.5.0

Ubuntu 20.04
	Kernel: 5.4.0-153-generic
	Compiler: gcc 9.4.0-1ubuntu1~20.04.1

To view detailed results, visit:
https://lab.dpdk.org/results/dashboard/patchsets/29453/

UNH-IOL DPDK Community Lab

To manage your email subscriptions, visit: 
https://lab.dpdk.org/results/dashboard/preferences/subscriptions/