From mboxrd@z Thu Jan  1 00:00:00 1970
Return-Path: <test-report-bounces@dpdk.org>
Received: from mails.dpdk.org (mails.dpdk.org [217.70.189.124])
	by inbox.dpdk.org (Postfix) with ESMTP id 7039243C0C
	for <public@inbox.dpdk.org>; Thu,  7 Mar 2024 16:28:20 +0100 (CET)
Received: from mails.dpdk.org (localhost [127.0.0.1])
	by mails.dpdk.org (Postfix) with ESMTP id 6B5064067E;
	Thu,  7 Mar 2024 16:28:20 +0100 (CET)
Received: from mail-pf1-f225.google.com (mail-pf1-f225.google.com
 [209.85.210.225])
 by mails.dpdk.org (Postfix) with ESMTP id BE4F940272
 for <test-report@dpdk.org>; Thu,  7 Mar 2024 16:28:18 +0100 (CET)
Received: by mail-pf1-f225.google.com with SMTP id
 d2e1a72fcca58-6e62c65865cso856764b3a.2
 for <test-report@dpdk.org>; Thu, 07 Mar 2024 07:28:18 -0800 (PST)
DKIM-Signature: v=1; a=rsa-sha256; c=relaxed/relaxed;
 d=iol.unh.edu; s=unh-iol; t=1709825298; x=1710430098; darn=dpdk.org;
 h=references:in-reply-to:cc:to:from:subject:message-id:date:from:to
 :cc:subject:date:message-id:reply-to;
 bh=zJ46B7NjoaM2ce2erCRXy8YLgCd4gtXY64JRsJZqaro=;
 b=gxJ+5UmGZpcRwIyp8fuXLdU4vywUo1rAmJcb4EqeCp1oZ2s4S1O9+W0hF+i74qZ7H+
 ZZrXg++9V3lEGhXwrfCyo5v27ai80DNPrbm2Pj//HYUXnZoIre4Gxb607tWmmFBjMo0O
 /mzePNs9uWTRyGDOZIfj1GL2jo+7YMKCH716A=
X-Google-DKIM-Signature: v=1; a=rsa-sha256; c=relaxed/relaxed;
 d=1e100.net; s=20230601; t=1709825298; x=1710430098;
 h=references:in-reply-to:cc:to:from:subject:message-id:date
 :x-gm-message-state:from:to:cc:subject:date:message-id:reply-to;
 bh=zJ46B7NjoaM2ce2erCRXy8YLgCd4gtXY64JRsJZqaro=;
 b=qYR0NWCAE5Zzq3SxNPqjQsSUrOWTIeWBgPjl1YMb/pxJk1Ly00kdnOQkSuo24fYKU2
 JqQ+Oyt3olTxOOiEcPMl8MPIO0WFEhBWpsSTWF2u0gIGfoBh6WgWD/O7lLpfHN/EOnV1
 TtnS2KoFH1xroMrfA+K+76uYniEQXgBMkBXzLNWLqLCbOVJq43qyoUz5k60Dj93ZzUaR
 lnyviMPEqFYYlf4GbPnKqJu2wn1gn0S8TjpelUZmgdncnUOGtghVzqQYOsXgV1hPCMrq
 gd2h5JXmnVbn4YsooqBb7p7G4lqdavDwVX4ap7bWxwBrUE0/tEWbLYODXzBNUWdVT8zt
 c8jA==
X-Gm-Message-State: AOJu0Yz0xYmLmOMnIcrbW2T31RTDZkBP9UhsXFa65+dvU3x/M2dkOFLn
 ykI5Yj/fMzl3nYfMXTMLj/ZMySr6eCStvUI1oOrX1z9lgEdRkvLQbonhg3tmJx16H2LP2hiwcy0
 FQF1nQXlmcOPhjS8+aMxD770Ge+1DuKN7PEoA9E8Dx00KppcrSzIcljia
X-Google-Smtp-Source: AGHT+IHsBCndPO1hHMNbIaaL54ul188K8uVceA0Hfqh0pFianbMtGMg9rBd2oWCicm2d5fLgB5niG1vfu7YC
X-Received: by 2002:a05:6a00:99a:b0:6e5:faca:3683 with SMTP id
 u26-20020a056a00099a00b006e5faca3683mr18656596pfg.26.1709825297987; 
 Thu, 07 Mar 2024 07:28:17 -0800 (PST)
Received: from postal.iol.unh.edu (postal.iol.unh.edu.
 [2606:4100:3880:1234::84]) by smtp-relay.gmail.com with ESMTPS id
 fb20-20020a056a002d9400b006e64b9fda11sm165221pfb.7.2024.03.07.07.28.17
 (version=TLS1_2 cipher=ECDHE-ECDSA-AES128-GCM-SHA256 bits=128/128);
 Thu, 07 Mar 2024 07:28:17 -0800 (PST)
X-Relaying-Domain: iol.unh.edu
Date: Thu, 07 Mar 2024 07:28:17 -0800 (PST)
Message-ID: <65e9dd11.050a0220.31f5f.8f54SMTPIN_ADDED_MISSING@mx.google.com>
Received: from [172.21.0.8] (unknown [172.18.0.240])
 by postal.iol.unh.edu (Postfix) with ESMTP id 33A816052510;
 Thu,  7 Mar 2024 10:28:17 -0500 (EST)
Subject: |SUCCESS| pw138098 [PATCH] vhost: fix vring addr update with vDPA
From: dpdklab@iol.unh.edu
To: Test Report <test-report@dpdk.org>
Cc: dpdk-test-reports@iol.unh.edu
In-Reply-To: <20240307103443.609960-1-david.marchand@redhat.com>
References: <20240307103443.609960-1-david.marchand@redhat.com>
Content-Type: text/plain
X-BeenThere: test-report@dpdk.org
X-Mailman-Version: 2.1.29
Precedence: list
List-Id: automatic DPDK test reports <test-report.dpdk.org>
List-Unsubscribe: <https://mails.dpdk.org/options/test-report>,
 <mailto:test-report-request@dpdk.org?subject=unsubscribe>
List-Archive: <http://mails.dpdk.org/archives/test-report/>
List-Post: <mailto:test-report@dpdk.org>
List-Help: <mailto:test-report-request@dpdk.org?subject=help>
List-Subscribe: <https://mails.dpdk.org/listinfo/test-report>,
 <mailto:test-report-request@dpdk.org?subject=subscribe>
Errors-To: test-report-bounces@dpdk.org

Test-Label: iol-unit-arm64-testing
Test-Status: SUCCESS
http://dpdk.org/patch/138098

_Testing PASS_

Submitter: David Marchand <david.marchand@redhat.com>
Date: Thursday, March 07 2024 10:34:43 
DPDK git baseline: Repo:dpdk
  Branch: master
  CommitID:deedfb86a7a6e10064d3cccd593f62072de96e36

138098 --> testing pass

Test environment and result as below:

+--------------------------+----------------+------------------------------+---------------------------+
|       Environment        | dpdk_unit_test | cryptodev_sw_snow3g_autotest | cryptodev_sw_zuc_autotest |
+==========================+================+==============================+===========================+
| Debian 11 (Buster) (ARM) | PASS           | SKIPPED                      | SKIPPED                   |
+--------------------------+----------------+------------------------------+---------------------------+
| Fedora 38 (ARM)          | PASS           | SKIPPED                      | SKIPPED                   |
+--------------------------+----------------+------------------------------+---------------------------+
| CentOS Stream 9 (ARM)    | PASS           | SKIPPED                      | SKIPPED                   |
+--------------------------+----------------+------------------------------+---------------------------+
| Fedora 37 (ARM)          | PASS           | SKIPPED                      | SKIPPED                   |
+--------------------------+----------------+------------------------------+---------------------------+
| Debian 12 (arm)          | PASS           | PASS                         | PASS                      |
+--------------------------+----------------+------------------------------+---------------------------+
| Ubuntu 20.04 (ARM)       | PASS           | SKIPPED                      | SKIPPED                   |
+--------------------------+----------------+------------------------------+---------------------------+
| Fedora 38 (ARM Clang)    | PASS           | SKIPPED                      | SKIPPED                   |
+--------------------------+----------------+------------------------------+---------------------------+


Debian 11 (Buster) (ARM)
	Kernel: Container Host Kernel
	Compiler: gcc 10.2.1

Fedora 38 (ARM)
	Kernel: Depends on container host
	Compiler: gcc 13.1.1

CentOS Stream 9 (ARM)
	Kernel: Container Host Kernel
	Compiler: gcc 11.3.1

Fedora 37 (ARM)
	Kernel: Depends on container host
	Compiler: gcc 12.3.1

Debian 12 (arm)
	Kernel: Container Host Kernel
	Compiler: gcc 11

Ubuntu 20.04 (ARM)
	Kernel: Container Host Kernel
	Compiler: gcc 9.4.0

Fedora 38 (ARM Clang)
	Kernel: Depends on container host
	Compiler: clang 16.0.3

To view detailed results, visit:
https://lab.dpdk.org/results/dashboard/patchsets/29460/

UNH-IOL DPDK Community Lab

To manage your email subscriptions, visit: 
https://lab.dpdk.org/results/dashboard/preferences/subscriptions/