From mboxrd@z Thu Jan  1 00:00:00 1970
Return-Path: <test-report-bounces@dpdk.org>
Received: from mails.dpdk.org (mails.dpdk.org [217.70.189.124])
	by inbox.dpdk.org (Postfix) with ESMTP id 2487D43C0C
	for <public@inbox.dpdk.org>; Thu,  7 Mar 2024 16:53:42 +0100 (CET)
Received: from mails.dpdk.org (localhost [127.0.0.1])
	by mails.dpdk.org (Postfix) with ESMTP id 1F0A94067E;
	Thu,  7 Mar 2024 16:53:42 +0100 (CET)
Received: from mail-pl1-f226.google.com (mail-pl1-f226.google.com
 [209.85.214.226])
 by mails.dpdk.org (Postfix) with ESMTP id D41C740272
 for <test-report@dpdk.org>; Thu,  7 Mar 2024 16:53:40 +0100 (CET)
Received: by mail-pl1-f226.google.com with SMTP id
 d9443c01a7336-1dc3b4b9b62so8275505ad.1
 for <test-report@dpdk.org>; Thu, 07 Mar 2024 07:53:40 -0800 (PST)
DKIM-Signature: v=1; a=rsa-sha256; c=relaxed/relaxed;
 d=iol.unh.edu; s=unh-iol; t=1709826820; x=1710431620; darn=dpdk.org;
 h=references:in-reply-to:cc:to:from:subject:message-id:date:from:to
 :cc:subject:date:message-id:reply-to;
 bh=k5HPK+dJJDhoagD11ogXxRNAvUzrkGt0QUQgPr6wNqs=;
 b=KwOYy1YMn6eGNhMIaqpBZ1+RxzKOWw2uhLoVhP7D+u2tJC82QnakOIILJPussgjMV+
 5PBIMCoAg7jg3vbQYgXImVa0Wpl0/TKH/gk6JzpAMwebk2tuzWdBmwKUj2mTwKMPeoMS
 ue/LCcOUYIUVK4o1P1MXjwMsEGJs/TOdX7yas=
X-Google-DKIM-Signature: v=1; a=rsa-sha256; c=relaxed/relaxed;
 d=1e100.net; s=20230601; t=1709826820; x=1710431620;
 h=references:in-reply-to:cc:to:from:subject:message-id:date
 :x-gm-message-state:from:to:cc:subject:date:message-id:reply-to;
 bh=k5HPK+dJJDhoagD11ogXxRNAvUzrkGt0QUQgPr6wNqs=;
 b=oxHMBm3gYfzZrjtLgaz8ijooHypWcgi6A+a6lDicilyPLMnRCpNyfk9CuSWhqHn3C9
 UHT4kHOH42vbGiNl5+IveEPpE/KFSxilLxp5DtE1tQlhoLVZJz2Z38ISiqSWRb08eM2D
 VTv1/blyo83lqPkGzvspZgNJ372/q3SS7Fj3ayjmzQSOPj0tprzF2PmAWs3/bO8MdFPx
 B97H8OSE17v2B7mshktVaLYUqpdI6ul+J6dawZ6OY08SiiWApK+x0kLVe7reG30Bcxeg
 VkJkMXmYptguBh0PQnYRd6ZJAuQIQMvDfolqy69TiIIMCcHhUOpYO3DFD1/VpXWb6ueP
 NMKg==
X-Gm-Message-State: AOJu0Yz5c4tplQSL2QGDeaJfV8Eu2rr6QfZMUHcDIut6TEmua0ZMcF8L
 bIeQUj7omCr1vAw42TKzStq5sA3Sn1ls4oTqI7V07t1zvgRvoQhNNqQKKhG7nbu1L3xLtWRwbwe
 PR/S+E0oX4+3dkFATtQZgWpuW0Fsq8HyAr6E4SWMrFps/+DN5m6E97RFe
X-Google-Smtp-Source: AGHT+IGEiJaUuEBbqBFBcTWnnu0oHoRhOf2vSz5z77tqDAG40utW5pIhlX6gdQphC15m1g20oGtmGX+jCS+p
X-Received: by 2002:a17:903:228b:b0:1db:ea2b:d2c4 with SMTP id
 b11-20020a170903228b00b001dbea2bd2c4mr2907609plh.15.1709826820047; 
 Thu, 07 Mar 2024 07:53:40 -0800 (PST)
Received: from postal.iol.unh.edu (postal.iol.unh.edu.
 [2606:4100:3880:1234::84]) by smtp-relay.gmail.com with ESMTPS id
 o18-20020a17090323d200b001dc7427abcasm404507plh.62.2024.03.07.07.53.39
 (version=TLS1_2 cipher=ECDHE-ECDSA-AES128-GCM-SHA256 bits=128/128);
 Thu, 07 Mar 2024 07:53:40 -0800 (PST)
X-Relaying-Domain: iol.unh.edu
Date: Thu, 07 Mar 2024 07:53:40 -0800 (PST)
Message-ID: <65e9e304.170a0220.51a25.81abSMTPIN_ADDED_MISSING@mx.google.com>
Received: from [172.21.0.6] (unknown [172.18.0.240])
 by postal.iol.unh.edu (Postfix) with ESMTP id 838376052510;
 Thu,  7 Mar 2024 10:53:39 -0500 (EST)
Subject: |SUCCESS| pw138098 [PATCH] vhost: fix vring addr update with vDPA
From: dpdklab@iol.unh.edu
To: Test Report <test-report@dpdk.org>
Cc: dpdk-test-reports@iol.unh.edu
In-Reply-To: <20240307103443.609960-1-david.marchand@redhat.com>
References: <20240307103443.609960-1-david.marchand@redhat.com>
Content-Type: text/plain
X-BeenThere: test-report@dpdk.org
X-Mailman-Version: 2.1.29
Precedence: list
List-Id: automatic DPDK test reports <test-report.dpdk.org>
List-Unsubscribe: <https://mails.dpdk.org/options/test-report>,
 <mailto:test-report-request@dpdk.org?subject=unsubscribe>
List-Archive: <http://mails.dpdk.org/archives/test-report/>
List-Post: <mailto:test-report@dpdk.org>
List-Help: <mailto:test-report-request@dpdk.org?subject=help>
List-Subscribe: <https://mails.dpdk.org/listinfo/test-report>,
 <mailto:test-report-request@dpdk.org?subject=subscribe>
Errors-To: test-report-bounces@dpdk.org

Test-Label: iol-unit-amd64-testing
Test-Status: SUCCESS
http://dpdk.org/patch/138098

_Testing PASS_

Submitter: David Marchand <david.marchand@redhat.com>
Date: Thursday, March 07 2024 10:34:43 
DPDK git baseline: Repo:dpdk
  Branch: master
  CommitID:deedfb86a7a6e10064d3cccd593f62072de96e36

138098 --> testing pass

Test environment and result as below:

+------------------+----------------+
|   Environment    | dpdk_unit_test |
+==================+================+
| Debian Bullseye  | PASS           |
+------------------+----------------+
| CentOS Stream 8  | PASS           |
+------------------+----------------+
| Fedora 38        | PASS           |
+------------------+----------------+
| CentOS Stream 9  | PASS           |
+------------------+----------------+
| Debian 12 (arm)  | PASS           |
+------------------+----------------+
| openSUSE Leap 15 | PASS           |
+------------------+----------------+
| Fedora 37        | PASS           |
+------------------+----------------+
| RHEL8            | PASS           |
+------------------+----------------+


Debian Bullseye
	Kernel: 5.4.0-122-generic
	Compiler: gcc 10.2.1-6

CentOS Stream 8
	Kernel: 4.18.0-240.10.1.el8_3.x86_64
	Compiler: gcc 8.4.1 20200928

Fedora 38
	Kernel: Depends on container host
	Compiler: gcc 13.1.1

CentOS Stream 9
	Kernel: 4.18.0-240.10.1.el8_3.x86_64
	Compiler: gcc 11.3.1 20220421

Debian 12 (arm)
	Kernel: Container Host Kernel
	Compiler: gcc 11

openSUSE Leap 15
	Kernel: 4.18.0-240.10.1.el8_3.x86_64
	Compiler: gcc 7.5.0

Fedora 37
	Kernel: Depends on container host system
	Compiler: gcc 12.3.1

RHEL8
	Kernel: 4.18.0-240.10.1.el8_3.x86_64
	Compiler: gcc 8.3.1 20191121 (Red Hat 8.3.1-5)

To view detailed results, visit:
https://lab.dpdk.org/results/dashboard/patchsets/29460/

UNH-IOL DPDK Community Lab

To manage your email subscriptions, visit: 
https://lab.dpdk.org/results/dashboard/preferences/subscriptions/