From mboxrd@z Thu Jan  1 00:00:00 1970
Return-Path: <test-report-bounces@dpdk.org>
Received: from mails.dpdk.org (mails.dpdk.org [217.70.189.124])
	by inbox.dpdk.org (Postfix) with ESMTP id 0019243C0C
	for <public@inbox.dpdk.org>; Thu,  7 Mar 2024 16:56:22 +0100 (CET)
Received: from mails.dpdk.org (localhost [127.0.0.1])
	by mails.dpdk.org (Postfix) with ESMTP id F079B4067E;
	Thu,  7 Mar 2024 16:56:22 +0100 (CET)
Received: from mail-vs1-f100.google.com (mail-vs1-f100.google.com
 [209.85.217.100])
 by mails.dpdk.org (Postfix) with ESMTP id 5036A40272
 for <test-report@dpdk.org>; Thu,  7 Mar 2024 16:56:21 +0100 (CET)
Received: by mail-vs1-f100.google.com with SMTP id
 ada2fe7eead31-472807a1d59so306294137.2
 for <test-report@dpdk.org>; Thu, 07 Mar 2024 07:56:21 -0800 (PST)
DKIM-Signature: v=1; a=rsa-sha256; c=relaxed/relaxed;
 d=iol.unh.edu; s=unh-iol; t=1709826980; x=1710431780; darn=dpdk.org;
 h=references:in-reply-to:cc:to:from:subject:message-id:date:from:to
 :cc:subject:date:message-id:reply-to;
 bh=aaa77Ybls8mLs1OzFRRI1EO8m+Y/1moXplCl3uaaCxY=;
 b=Y1QO27k96XL2QeY2EVZgC4qy2/m16i1hwA4EphoijnPnf33SgwHpJ1Of4HSPD444qB
 e8HYJkwjuqPMom6hc5vEVoUmuS7+8yUSHGVZcMiEW7+Gw2KKDpWlJfmSdemdQ2lsn8hh
 xX+K7HJzQ0gt6rPzD14Ci0qP6gQVxzZfytG54=
X-Google-DKIM-Signature: v=1; a=rsa-sha256; c=relaxed/relaxed;
 d=1e100.net; s=20230601; t=1709826980; x=1710431780;
 h=references:in-reply-to:cc:to:from:subject:message-id:date
 :x-gm-message-state:from:to:cc:subject:date:message-id:reply-to;
 bh=aaa77Ybls8mLs1OzFRRI1EO8m+Y/1moXplCl3uaaCxY=;
 b=nl5e3XxnrSpbB9h6YEoiEwPiSPBAKlR2sDwmm0YOSodFQdHRy3UvXZVc0yD01Uv56H
 QkKEGxPAy+RtD/ZKhFuE6/p/g0cQDiDMHV8uOnjudMQA+SfSIkX5IM70zHo1DpCh5C1y
 8+qI4Ng19J4+3BgTilb7KbaHliL/VFsBaEieVChguwLKvnI7daB0nUMF0owpZ60kNDeH
 CxGxR91Hhrc70+VyvbfDHv4TxQ/rKlWsgyDF7+qcdPrYzCZ/T5VP436kBrWdG1We77Ys
 USYZi8d/lhEHesmwTauhAaaiUG3FvWRIQ5TscMHDGxpGGEAfo8MqooqJS6G1YjT2YYAP
 flOw==
X-Gm-Message-State: AOJu0YzUcB6jSqzJcpc6BdV3LaKZXSzn9ZxGPeoptMbRXgxy4Fyex1Lu
 ti/Wih2oMIsQboKhk3T6ppnMEMNAWy+MNRPeXTCVK1FLFxWI5TsdObqMsR9znHXhk3ig9ZFRYAl
 EQxAlom1ZlTQl9Cck3wmDJ2fWuQCssEK4C14mqcBZ
X-Google-Smtp-Source: AGHT+IHqiWTsNHSH9dZRnqsxhW1y+G77R/4kY5zCDU7uMRAGPJpO0HA2LSbEHk+/ZDFsIrlWZYQ8DEZfD0jr
X-Received: by 2002:a67:cd0d:0:b0:472:622c:fb6e with SMTP id
 u13-20020a67cd0d000000b00472622cfb6emr7173025vsl.14.1709826980788; 
 Thu, 07 Mar 2024 07:56:20 -0800 (PST)
Received: from postal.iol.unh.edu (postal.iol.unh.edu. [132.177.123.84])
 by smtp-relay.gmail.com with ESMTPS id
 g22-20020ab01056000000b007db938e7d27sm129063uab.8.2024.03.07.07.56.20
 (version=TLS1_2 cipher=ECDHE-ECDSA-AES128-GCM-SHA256 bits=128/128);
 Thu, 07 Mar 2024 07:56:20 -0800 (PST)
X-Relaying-Domain: iol.unh.edu
Date: Thu, 07 Mar 2024 07:56:20 -0800 (PST)
Message-ID: <65e9e3a4.b00a0220.3d353.7e4eSMTPIN_ADDED_MISSING@mx.google.com>
Received: from [172.21.0.6] (unknown [172.18.0.240])
 by postal.iol.unh.edu (Postfix) with ESMTP id 77D736052712;
 Thu,  7 Mar 2024 10:56:20 -0500 (EST)
Subject: |SUCCESS| pw138098 [PATCH] vhost: fix vring addr update with vDPA
From: dpdklab@iol.unh.edu
To: Test Report <test-report@dpdk.org>
Cc: dpdk-test-reports@iol.unh.edu
In-Reply-To: <20240307103443.609960-1-david.marchand@redhat.com>
References: <20240307103443.609960-1-david.marchand@redhat.com>
Content-Type: text/plain
X-BeenThere: test-report@dpdk.org
X-Mailman-Version: 2.1.29
Precedence: list
List-Id: automatic DPDK test reports <test-report.dpdk.org>
List-Unsubscribe: <https://mails.dpdk.org/options/test-report>,
 <mailto:test-report-request@dpdk.org?subject=unsubscribe>
List-Archive: <http://mails.dpdk.org/archives/test-report/>
List-Post: <mailto:test-report@dpdk.org>
List-Help: <mailto:test-report-request@dpdk.org?subject=help>
List-Subscribe: <https://mails.dpdk.org/listinfo/test-report>,
 <mailto:test-report-request@dpdk.org?subject=subscribe>
Errors-To: test-report-bounces@dpdk.org

Test-Label: iol-unit-amd64-testing
Test-Status: SUCCESS
http://dpdk.org/patch/138098

_Testing PASS_

Submitter: David Marchand <david.marchand@redhat.com>
Date: Thursday, March 07 2024 10:34:43 
DPDK git baseline: Repo:dpdk
  Branch: master
  CommitID:deedfb86a7a6e10064d3cccd593f62072de96e36

138098 --> testing pass

Test environment and result as below:

+------------------+----------------+
|   Environment    | dpdk_unit_test |
+==================+================+
| Debian Bullseye  | PASS           |
+------------------+----------------+
| CentOS Stream 8  | PASS           |
+------------------+----------------+
| Fedora 38        | PASS           |
+------------------+----------------+
| CentOS Stream 9  | PASS           |
+------------------+----------------+
| Debian 12 (arm)  | PASS           |
+------------------+----------------+
| openSUSE Leap 15 | PASS           |
+------------------+----------------+
| Fedora 37        | PASS           |
+------------------+----------------+
| RHEL8            | PASS           |
+------------------+----------------+
| Ubuntu 22.04     | PASS           |
+------------------+----------------+


Debian Bullseye
	Kernel: 5.4.0-122-generic
	Compiler: gcc 10.2.1-6

CentOS Stream 8
	Kernel: 4.18.0-240.10.1.el8_3.x86_64
	Compiler: gcc 8.4.1 20200928

Fedora 38
	Kernel: Depends on container host
	Compiler: gcc 13.1.1

CentOS Stream 9
	Kernel: 4.18.0-240.10.1.el8_3.x86_64
	Compiler: gcc 11.3.1 20220421

Debian 12 (arm)
	Kernel: Container Host Kernel
	Compiler: gcc 11

openSUSE Leap 15
	Kernel: 4.18.0-240.10.1.el8_3.x86_64
	Compiler: gcc 7.5.0

Fedora 37
	Kernel: Depends on container host system
	Compiler: gcc 12.3.1

RHEL8
	Kernel: 4.18.0-240.10.1.el8_3.x86_64
	Compiler: gcc 8.3.1 20191121 (Red Hat 8.3.1-5)

Ubuntu 22.04
	Kernel: 4.18.0-240.10.1.el8_3.x86_64
	Compiler: gcc 11.3.0

To view detailed results, visit:
https://lab.dpdk.org/results/dashboard/patchsets/29460/

UNH-IOL DPDK Community Lab

To manage your email subscriptions, visit: 
https://lab.dpdk.org/results/dashboard/preferences/subscriptions/