From mboxrd@z Thu Jan  1 00:00:00 1970
Return-Path: <test-report-bounces@dpdk.org>
Received: from mails.dpdk.org (mails.dpdk.org [217.70.189.124])
	by inbox.dpdk.org (Postfix) with ESMTP id E693C43C0C
	for <public@inbox.dpdk.org>; Thu,  7 Mar 2024 17:17:16 +0100 (CET)
Received: from mails.dpdk.org (localhost [127.0.0.1])
	by mails.dpdk.org (Postfix) with ESMTP id DF3194067E;
	Thu,  7 Mar 2024 17:17:16 +0100 (CET)
Received: from mail-oo1-f98.google.com (mail-oo1-f98.google.com
 [209.85.161.98]) by mails.dpdk.org (Postfix) with ESMTP id 9AA8F40272
 for <test-report@dpdk.org>; Thu,  7 Mar 2024 17:17:15 +0100 (CET)
Received: by mail-oo1-f98.google.com with SMTP id
 006d021491bc7-5a128e202b6so490644eaf.2
 for <test-report@dpdk.org>; Thu, 07 Mar 2024 08:17:15 -0800 (PST)
DKIM-Signature: v=1; a=rsa-sha256; c=relaxed/relaxed;
 d=iol.unh.edu; s=unh-iol; t=1709828235; x=1710433035; darn=dpdk.org;
 h=references:in-reply-to:cc:to:from:subject:message-id:date:from:to
 :cc:subject:date:message-id:reply-to;
 bh=Px1cRVyp25rDEr11GX6yoazgpXMc1/HPoroCE3m4/Yo=;
 b=Rxpf1HEOAuUcLbRJFGOUfVF5Xyaae9UM4/GBsmFdJmZiEny+/gJUIUaNSgqXo4yJxZ
 jzwGNAaqMzBt8iLXI2lsmVTI2Ox5Wa/nPIDEUIm+SLIQjXDLROG4CwZsgo9o0D9ZkFJV
 IEENeXWL0ZW9XxJP2/OWKw2+5F23x5IQukyUs=
X-Google-DKIM-Signature: v=1; a=rsa-sha256; c=relaxed/relaxed;
 d=1e100.net; s=20230601; t=1709828235; x=1710433035;
 h=references:in-reply-to:cc:to:from:subject:message-id:date
 :x-gm-message-state:from:to:cc:subject:date:message-id:reply-to;
 bh=Px1cRVyp25rDEr11GX6yoazgpXMc1/HPoroCE3m4/Yo=;
 b=P2B7lIAfZNzeuFaqMiJ98fLP/gAaJj15t/6y+tYdIeofYbKkPuQs0YylADVmvpLvlI
 qaeoWPs6oNwhRQbi6WQr7ODqPHtudBXZD/FcQ4WiGgRCgUjnugVnenijnK+FgziWGjgZ
 cOxAoUUT4s9Fxv9u2NqUS3b7Q+BURIw2+THHg7o6bCf+5qB9IUIjU51Kn+a5kWZ1BvMn
 pB1XtvfyrH2VK6SOMdnxa+j1yPmGCWxXvf39PRf8yxuApUMqzYhk1vH5Y4CZsmjy/gbY
 kAS7LIsbyP+HN+upOMYujNBIZaFzRD9SGJdhcWdSpjANvxqd0763IpLgje/piSFP5RVu
 Ui6w==
X-Gm-Message-State: AOJu0YyEyih+qE6onWB/0IRwi/2sF//KangBTMlks0VtJBUYm6QSPEde
 QdOgzSZqf2VGEF3KOuPfsqq32qakQkHPfycgt+HePPl1BYauLucGD2WmpFpt5n6Vf2hxC64o38/
 cXk2nanUR32xM72rAY4+1enKfL4q9UJy59cWYK6pTy6gSXffkMqSG9f8E
X-Google-Smtp-Source: AGHT+IEXypb99+wa17cgxpg1pVEDbgzg6GXVepJFOAhjx16XGIkazpHLMubEHnaGweP9S39CdwlryzW8WFwb
X-Received: by 2002:a05:6820:80a:b0:5a1:21fc:7508 with SMTP id
 bg10-20020a056820080a00b005a121fc7508mr9596612oob.7.1709828235004; 
 Thu, 07 Mar 2024 08:17:15 -0800 (PST)
Received: from postal.iol.unh.edu (postal.iol.unh.edu.
 [2606:4100:3880:1234::84]) by smtp-relay.gmail.com with ESMTPS id
 b1-20020a4a98c1000000b005a1682d683esm255961ooj.22.2024.03.07.08.17.14
 (version=TLS1_2 cipher=ECDHE-ECDSA-AES128-GCM-SHA256 bits=128/128);
 Thu, 07 Mar 2024 08:17:14 -0800 (PST)
X-Relaying-Domain: iol.unh.edu
Date: Thu, 07 Mar 2024 08:17:14 -0800 (PST)
Message-ID: <65e9e88a.4a0a0220.34807.eb42SMTPIN_ADDED_MISSING@mx.google.com>
Received: from [172.21.0.6] (unknown [172.18.0.240])
 by postal.iol.unh.edu (Postfix) with ESMTP id 3C8D46052712;
 Thu,  7 Mar 2024 11:17:14 -0500 (EST)
Subject: |SUCCESS| pw138094-138096 [PATCH] [v2,3/3] net/mlx5: fix indirect ac
From: dpdklab@iol.unh.edu
To: Test Report <test-report@dpdk.org>
Cc: dpdk-test-reports@iol.unh.edu
In-Reply-To: <20240307101910.1135720-4-getelson@nvidia.com>
References: <20240307101910.1135720-4-getelson@nvidia.com>
Content-Type: text/plain
X-BeenThere: test-report@dpdk.org
X-Mailman-Version: 2.1.29
Precedence: list
List-Id: automatic DPDK test reports <test-report.dpdk.org>
List-Unsubscribe: <https://mails.dpdk.org/options/test-report>,
 <mailto:test-report-request@dpdk.org?subject=unsubscribe>
List-Archive: <http://mails.dpdk.org/archives/test-report/>
List-Post: <mailto:test-report@dpdk.org>
List-Help: <mailto:test-report-request@dpdk.org?subject=help>
List-Subscribe: <https://mails.dpdk.org/listinfo/test-report>,
 <mailto:test-report-request@dpdk.org?subject=subscribe>
Errors-To: test-report-bounces@dpdk.org

Test-Label: iol-compile-arm64-testing
Test-Status: SUCCESS
http://dpdk.org/patch/138096

_Testing PASS_

Submitter: Gregory Etelson <getelson@nvidia.com>
Date: Thursday, March 07 2024 10:19:10 
DPDK git baseline: Repo:dpdk
  Branch: master
  CommitID:6666628362c94a0b567a39a0177539c12c97d999

138094-138096 --> testing pass

Test environment and result as below:

+--------------------------+--------------------+
|       Environment        | dpdk_meson_compile |
+==========================+====================+
| Ubuntu 20.04 ARM SVE     | PASS               |
+--------------------------+--------------------+
| Fedora 37 (ARM)          | PASS               |
+--------------------------+--------------------+
| Fedora 38 (ARM)          | PASS               |
+--------------------------+--------------------+
| CentOS Stream 9 (ARM)    | PASS               |
+--------------------------+--------------------+
| Ubuntu 20.04 (ARM)       | PASS               |
+--------------------------+--------------------+
| Debian 11 (Buster) (ARM) | PASS               |
+--------------------------+--------------------+


Ubuntu 20.04 ARM SVE
	Kernel: 5.4.0-80-generic
	Compiler: gcc 10.3.0 (Ubuntu 10.3.0-1ubuntu1~20.04)

Fedora 37 (ARM)
	Kernel: Depends on container host
	Compiler: gcc 12.3.1

Fedora 38 (ARM)
	Kernel: Depends on container host
	Compiler: gcc 13.1.1

CentOS Stream 9 (ARM)
	Kernel: Container Host Kernel
	Compiler: gcc 11.3.1

Ubuntu 20.04 (ARM)
	Kernel: Container Host Kernel
	Compiler: gcc 9.4.0

Debian 11 (Buster) (ARM)
	Kernel: Container Host Kernel
	Compiler: gcc 10.2.1

To view detailed results, visit:
https://lab.dpdk.org/results/dashboard/patchsets/29458/

UNH-IOL DPDK Community Lab

To manage your email subscriptions, visit: 
https://lab.dpdk.org/results/dashboard/preferences/subscriptions/