From mboxrd@z Thu Jan  1 00:00:00 1970
Return-Path: <test-report-bounces@dpdk.org>
Received: from mails.dpdk.org (mails.dpdk.org [217.70.189.124])
	by inbox.dpdk.org (Postfix) with ESMTP id 7D65D43C0C
	for <public@inbox.dpdk.org>; Thu,  7 Mar 2024 17:18:42 +0100 (CET)
Received: from mails.dpdk.org (localhost [127.0.0.1])
	by mails.dpdk.org (Postfix) with ESMTP id 78AC24067E;
	Thu,  7 Mar 2024 17:18:42 +0100 (CET)
Received: from mail-io1-f97.google.com (mail-io1-f97.google.com
 [209.85.166.97]) by mails.dpdk.org (Postfix) with ESMTP id DD47C40272
 for <test-report@dpdk.org>; Thu,  7 Mar 2024 17:18:40 +0100 (CET)
Received: by mail-io1-f97.google.com with SMTP id
 ca18e2360f4ac-7bc332d3a8cso59531539f.2
 for <test-report@dpdk.org>; Thu, 07 Mar 2024 08:18:40 -0800 (PST)
DKIM-Signature: v=1; a=rsa-sha256; c=relaxed/relaxed;
 d=iol.unh.edu; s=unh-iol; t=1709828320; x=1710433120; darn=dpdk.org;
 h=references:in-reply-to:cc:to:from:subject:message-id:date:from:to
 :cc:subject:date:message-id:reply-to;
 bh=kRE56KUNMtSkLHStibxuX3j9G7qTROKopzePAeQ78KE=;
 b=JVlPEEsHD3x98aIKWQ2aBUSeLenHpdBCua5ZdNQnF5iRcQ+ULuwkxUecPd8dVGm7qY
 vP/Vc2+CCev4a/mOxyW/KEJ0oLGnnxRVDeq4pFELpKAWrjUjWMBpy7GIoduMlkwS7CCm
 0aMlDU5iLrm+sI0HLIM1i3njouSEJJS1qUfWs=
X-Google-DKIM-Signature: v=1; a=rsa-sha256; c=relaxed/relaxed;
 d=1e100.net; s=20230601; t=1709828320; x=1710433120;
 h=references:in-reply-to:cc:to:from:subject:message-id:date
 :x-gm-message-state:from:to:cc:subject:date:message-id:reply-to;
 bh=kRE56KUNMtSkLHStibxuX3j9G7qTROKopzePAeQ78KE=;
 b=MejxmWgJrm2yscN+kreTOByd4+qGJt1X4liAsHtpmwSSMTkdDkN9URtAGvvostuQxJ
 RrTCWTKHuH7Qm+oWMt42pPzW7EhNGVVv0xL9wIqsdioS3n6DFdoxr4/Rcx+b7ReGFeva
 kDHo16WcQlgf0FiTiHu7J+lkvbLy7x+QgnPTQzwT1Ns8z1Cd2TVp5iy7uRNLNh5lcbgq
 tXZbXhel4OJ+2z+LkzskBFHVL7zzM67wendMKTl61jkuq3kiGFSLrG1JGEPwUvvoMhDS
 4nh+rSM89ClP0neecWWRzot758ZV9AZA8eI4hpmAMDs7epuxtqjK/ON5sqKIAnLp3HBd
 14tg==
X-Gm-Message-State: AOJu0Yz40AWTbkDegLmr76v3avx9njz/gq01YqYCCnIthX5GriEr5iLM
 TjFCcsbVge+2D2Sp805w7IXlQG3t3MZs60wifbAHSmc+HnIc3Y2zRfZWAwIqYflpX9Ta3ADqgY6
 Rq1+MSsHOV01SygRa/lVjrQ4OQt/lc+nmew+l8xIbM2mQlZqh+/F5Z36c
X-Google-Smtp-Source: AGHT+IElkV1aTTZKqdHrVVCZ3FsOttm/QzSPWakR0NnB8rZ+hxqJOBM2zBcMb5hjw5FT8MHXCO0VI561Mdtv
X-Received: by 2002:a6b:f60a:0:b0:7c8:7a37:189e with SMTP id
 n10-20020a6bf60a000000b007c87a37189emr5148245ioh.5.1709828320351; 
 Thu, 07 Mar 2024 08:18:40 -0800 (PST)
Received: from postal.iol.unh.edu (postal.iol.unh.edu.
 [2606:4100:3880:1234::84]) by smtp-relay.gmail.com with ESMTPS id
 g11-20020a05663816cb00b00474fa18aadfsm231397jat.16.2024.03.07.08.18.40
 (version=TLS1_2 cipher=ECDHE-ECDSA-AES128-GCM-SHA256 bits=128/128);
 Thu, 07 Mar 2024 08:18:40 -0800 (PST)
X-Relaying-Domain: iol.unh.edu
Date: Thu, 07 Mar 2024 08:18:40 -0800 (PST)
Message-ID: <65e9e8e0.050a0220.4f16f.d29dSMTPIN_ADDED_MISSING@mx.google.com>
Received: from [172.21.0.6] (unknown [172.18.0.240])
 by postal.iol.unh.edu (Postfix) with ESMTP id D82E16052712;
 Thu,  7 Mar 2024 11:18:39 -0500 (EST)
Subject: |SUCCESS| pw138094-138096 [PATCH] [v2,3/3] net/mlx5: fix indirect ac
From: dpdklab@iol.unh.edu
To: Test Report <test-report@dpdk.org>
Cc: dpdk-test-reports@iol.unh.edu
In-Reply-To: <20240307101910.1135720-4-getelson@nvidia.com>
References: <20240307101910.1135720-4-getelson@nvidia.com>
Content-Type: text/plain
X-BeenThere: test-report@dpdk.org
X-Mailman-Version: 2.1.29
Precedence: list
List-Id: automatic DPDK test reports <test-report.dpdk.org>
List-Unsubscribe: <https://mails.dpdk.org/options/test-report>,
 <mailto:test-report-request@dpdk.org?subject=unsubscribe>
List-Archive: <http://mails.dpdk.org/archives/test-report/>
List-Post: <mailto:test-report@dpdk.org>
List-Help: <mailto:test-report-request@dpdk.org?subject=help>
List-Subscribe: <https://mails.dpdk.org/listinfo/test-report>,
 <mailto:test-report-request@dpdk.org?subject=subscribe>
Errors-To: test-report-bounces@dpdk.org

Test-Label: iol-unit-arm64-testing
Test-Status: SUCCESS
http://dpdk.org/patch/138096

_Testing PASS_

Submitter: Gregory Etelson <getelson@nvidia.com>
Date: Thursday, March 07 2024 10:19:10 
DPDK git baseline: Repo:dpdk
  Branch: master
  CommitID:6666628362c94a0b567a39a0177539c12c97d999

138094-138096 --> testing pass

Test environment and result as below:

+--------------------------+----------------+---------------------------+------------------------------+
|       Environment        | dpdk_unit_test | cryptodev_sw_zuc_autotest | cryptodev_sw_snow3g_autotest |
+==========================+================+===========================+==============================+
| Debian 11 (Buster) (ARM) | PASS           | SKIPPED                   | SKIPPED                      |
+--------------------------+----------------+---------------------------+------------------------------+
| CentOS Stream 9 (ARM)    | PASS           | SKIPPED                   | SKIPPED                      |
+--------------------------+----------------+---------------------------+------------------------------+
| Debian 12 (arm)          | PASS           | PASS                      | PASS                         |
+--------------------------+----------------+---------------------------+------------------------------+
| Fedora 37 (ARM)          | PASS           | SKIPPED                   | SKIPPED                      |
+--------------------------+----------------+---------------------------+------------------------------+
| Fedora 38 (ARM)          | PASS           | SKIPPED                   | SKIPPED                      |
+--------------------------+----------------+---------------------------+------------------------------+
| Ubuntu 20.04 (ARM)       | PASS           | SKIPPED                   | SKIPPED                      |
+--------------------------+----------------+---------------------------+------------------------------+


Debian 11 (Buster) (ARM)
	Kernel: Container Host Kernel
	Compiler: gcc 10.2.1

CentOS Stream 9 (ARM)
	Kernel: Container Host Kernel
	Compiler: gcc 11.3.1

Debian 12 (arm)
	Kernel: Container Host Kernel
	Compiler: gcc 11

Fedora 37 (ARM)
	Kernel: Depends on container host
	Compiler: gcc 12.3.1

Fedora 38 (ARM)
	Kernel: Depends on container host
	Compiler: gcc 13.1.1

Ubuntu 20.04 (ARM)
	Kernel: Container Host Kernel
	Compiler: gcc 9.4.0

To view detailed results, visit:
https://lab.dpdk.org/results/dashboard/patchsets/29458/

UNH-IOL DPDK Community Lab

To manage your email subscriptions, visit: 
https://lab.dpdk.org/results/dashboard/preferences/subscriptions/