From mboxrd@z Thu Jan  1 00:00:00 1970
Return-Path: <test-report-bounces@dpdk.org>
Received: from mails.dpdk.org (mails.dpdk.org [217.70.189.124])
	by inbox.dpdk.org (Postfix) with ESMTP id F032D43C0C
	for <public@inbox.dpdk.org>; Thu,  7 Mar 2024 17:19:47 +0100 (CET)
Received: from mails.dpdk.org (localhost [127.0.0.1])
	by mails.dpdk.org (Postfix) with ESMTP id EAF31410D5;
	Thu,  7 Mar 2024 17:19:47 +0100 (CET)
Received: from mail-il1-f228.google.com (mail-il1-f228.google.com
 [209.85.166.228])
 by mails.dpdk.org (Postfix) with ESMTP id 8CF5B40272
 for <test-report@dpdk.org>; Thu,  7 Mar 2024 17:19:45 +0100 (CET)
Received: by mail-il1-f228.google.com with SMTP id
 e9e14a558f8ab-3652731b2b7so3425435ab.2
 for <test-report@dpdk.org>; Thu, 07 Mar 2024 08:19:45 -0800 (PST)
DKIM-Signature: v=1; a=rsa-sha256; c=relaxed/relaxed;
 d=iol.unh.edu; s=unh-iol; t=1709828385; x=1710433185; darn=dpdk.org;
 h=references:in-reply-to:cc:to:from:subject:message-id:date:from:to
 :cc:subject:date:message-id:reply-to;
 bh=5hSUBOzo/SNrWr8SBbBLpSQ78IFFOjhVfynCBKgiQl0=;
 b=F/OH8XgtJN3X5f1mTkDbRHY8o+QfaQDmI6e2dLPUsUXYPrLGI0gqoMhPyxP21IGb3F
 KD/effwtnqKX5Be9wjzlcVYSwxtrb4JGqaC7SmhLK6dQjnrGS46OJQbdSkJMRlL4lvmi
 RzRp80NPrKlzWtsrgJqUOLqcKMUODLt5twoSY=
X-Google-DKIM-Signature: v=1; a=rsa-sha256; c=relaxed/relaxed;
 d=1e100.net; s=20230601; t=1709828385; x=1710433185;
 h=references:in-reply-to:cc:to:from:subject:message-id:date
 :x-gm-message-state:from:to:cc:subject:date:message-id:reply-to;
 bh=5hSUBOzo/SNrWr8SBbBLpSQ78IFFOjhVfynCBKgiQl0=;
 b=FRg7SglaqVqeYe6F8w4LugaE44xZrZE5sRJillKeLK5ZX+2VyfP8jJzEgI9wNgG2sr
 u3hmhKN6oT4pDvEZlqr4GGSEnGA2WLuYLlyq5wkFD8l0xUqZWUlX8LLzORu3zIl+IPwQ
 ByMGIgOu/NPOMQ5PCzg4gUCD7B/0oX8uQrtlP0lCND70/72KqeWlK4wur20BXHp2LpXv
 9mUsTwL8SRC4zhFZaFZgZTl0p2yxUPeDOGll6gaDvCgrFFpXkGr/8AfY70pYt6TelIga
 3XznKULvutMEbWqCBARDnHpZZB5PryqQK92O9WOCuKLMNjZ/U4whhoS6MV08HeRLs8xF
 zgWQ==
X-Gm-Message-State: AOJu0YxoqW+MmVTwC3HQh47UX4AiFBus9r0qQieTsDLnNbkYc2lEwOQu
 taEl/B2ltiB5fsXE8UO1CTDdpb/ogJniARoJD0UTBvQN2UBMnrM1/fPwMo60y2ykDF3LhGq5z0r
 lgr6/cSCLfNQJKwPoCBccarKOpNC7cF8OxGlWwgHS
X-Google-Smtp-Source: AGHT+IH93R0A7rWrw8R4I4VhRHW5yIMUvC4wWS73mMe+eS2XfIxK8Nsh5E3Oq+7Z7gQN3hCJ8GqKuUZVMaHR
X-Received: by 2002:a92:cda5:0:b0:365:1f5d:31c9 with SMTP id
 g5-20020a92cda5000000b003651f5d31c9mr25665760ild.25.1709828385176; 
 Thu, 07 Mar 2024 08:19:45 -0800 (PST)
Received: from postal.iol.unh.edu (postal.iol.unh.edu. [132.177.123.84])
 by smtp-relay.gmail.com with ESMTPS id
 g8-20020a056e021e0800b003657afc06f4sm750673ila.33.2024.03.07.08.19.45
 (version=TLS1_2 cipher=ECDHE-ECDSA-AES128-GCM-SHA256 bits=128/128);
 Thu, 07 Mar 2024 08:19:45 -0800 (PST)
X-Relaying-Domain: iol.unh.edu
Date: Thu, 07 Mar 2024 08:19:45 -0800 (PST)
Message-ID: <65e9e921.050a0220.2a65d.f095SMTPIN_ADDED_MISSING@mx.google.com>
Received: from [172.21.0.6] (unknown [172.18.0.240])
 by postal.iol.unh.edu (Postfix) with ESMTP id B19FB6052712;
 Thu,  7 Mar 2024 11:19:44 -0500 (EST)
Subject: |SUCCESS| pw138098 [PATCH] vhost: fix vring addr update with vDPA
From: dpdklab@iol.unh.edu
To: Test Report <test-report@dpdk.org>
Cc: dpdk-test-reports@iol.unh.edu
In-Reply-To: <20240307103443.609960-1-david.marchand@redhat.com>
References: <20240307103443.609960-1-david.marchand@redhat.com>
Content-Type: text/plain
X-BeenThere: test-report@dpdk.org
X-Mailman-Version: 2.1.29
Precedence: list
List-Id: automatic DPDK test reports <test-report.dpdk.org>
List-Unsubscribe: <https://mails.dpdk.org/options/test-report>,
 <mailto:test-report-request@dpdk.org?subject=unsubscribe>
List-Archive: <http://mails.dpdk.org/archives/test-report/>
List-Post: <mailto:test-report@dpdk.org>
List-Help: <mailto:test-report-request@dpdk.org?subject=help>
List-Subscribe: <https://mails.dpdk.org/listinfo/test-report>,
 <mailto:test-report-request@dpdk.org?subject=subscribe>
Errors-To: test-report-bounces@dpdk.org

Test-Label: iol-unit-amd64-testing
Test-Status: SUCCESS
http://dpdk.org/patch/138098

_Testing PASS_

Submitter: David Marchand <david.marchand@redhat.com>
Date: Thursday, March 07 2024 10:34:43 
DPDK git baseline: Repo:dpdk
  Branch: master
  CommitID:deedfb86a7a6e10064d3cccd593f62072de96e36

138098 --> testing pass

Test environment and result as below:

+------------------+----------------+
|   Environment    | dpdk_unit_test |
+==================+================+
| Debian Bullseye  | PASS           |
+------------------+----------------+
| CentOS Stream 8  | PASS           |
+------------------+----------------+
| Fedora 38        | PASS           |
+------------------+----------------+
| CentOS Stream 9  | PASS           |
+------------------+----------------+
| Debian 12 (arm)  | PASS           |
+------------------+----------------+
| openSUSE Leap 15 | PASS           |
+------------------+----------------+
| Fedora 37        | PASS           |
+------------------+----------------+
| RHEL8            | PASS           |
+------------------+----------------+
| Ubuntu 22.04     | PASS           |
+------------------+----------------+
| Ubuntu 20.04     | PASS           |
+------------------+----------------+


Debian Bullseye
	Kernel: 5.4.0-122-generic
	Compiler: gcc 10.2.1-6

CentOS Stream 8
	Kernel: 4.18.0-240.10.1.el8_3.x86_64
	Compiler: gcc 8.4.1 20200928

Fedora 38
	Kernel: Depends on container host
	Compiler: gcc 13.1.1

CentOS Stream 9
	Kernel: 4.18.0-240.10.1.el8_3.x86_64
	Compiler: gcc 11.3.1 20220421

Debian 12 (arm)
	Kernel: Container Host Kernel
	Compiler: gcc 11

openSUSE Leap 15
	Kernel: 4.18.0-240.10.1.el8_3.x86_64
	Compiler: gcc 7.5.0

Fedora 37
	Kernel: Depends on container host system
	Compiler: gcc 12.3.1

RHEL8
	Kernel: 4.18.0-240.10.1.el8_3.x86_64
	Compiler: gcc 8.3.1 20191121 (Red Hat 8.3.1-5)

Ubuntu 22.04
	Kernel: 4.18.0-240.10.1.el8_3.x86_64
	Compiler: gcc 11.3.0

Ubuntu 20.04
	Kernel: 5.4.0-153-generic
	Compiler: gcc 9.4.0-1ubuntu1~20.04.1

To view detailed results, visit:
https://lab.dpdk.org/results/dashboard/patchsets/29460/

UNH-IOL DPDK Community Lab

To manage your email subscriptions, visit: 
https://lab.dpdk.org/results/dashboard/preferences/subscriptions/