From mboxrd@z Thu Jan  1 00:00:00 1970
Return-Path: <test-report-bounces@dpdk.org>
Received: from mails.dpdk.org (mails.dpdk.org [217.70.189.124])
	by inbox.dpdk.org (Postfix) with ESMTP id ACB1B43C0C
	for <public@inbox.dpdk.org>; Thu,  7 Mar 2024 17:21:07 +0100 (CET)
Received: from mails.dpdk.org (localhost [127.0.0.1])
	by mails.dpdk.org (Postfix) with ESMTP id 9242442DD2;
	Thu,  7 Mar 2024 17:21:07 +0100 (CET)
Received: from mail-ot1-f100.google.com (mail-ot1-f100.google.com
 [209.85.210.100])
 by mails.dpdk.org (Postfix) with ESMTP id C4CC242DD1
 for <test-report@dpdk.org>; Thu,  7 Mar 2024 17:21:06 +0100 (CET)
Received: by mail-ot1-f100.google.com with SMTP id
 46e09a7af769-6e45ef83c54so708265a34.2
 for <test-report@dpdk.org>; Thu, 07 Mar 2024 08:21:06 -0800 (PST)
DKIM-Signature: v=1; a=rsa-sha256; c=relaxed/relaxed;
 d=iol.unh.edu; s=unh-iol; t=1709828466; x=1710433266; darn=dpdk.org;
 h=references:in-reply-to:cc:to:from:subject:message-id:date:from:to
 :cc:subject:date:message-id:reply-to;
 bh=5hSUBOzo/SNrWr8SBbBLpSQ78IFFOjhVfynCBKgiQl0=;
 b=N5VH5X2jnENA4FLPYzd6BM4xsl57xJuWOWULAmSfl01ZRLLMYqjjEDFD1G/w5k+ROM
 uhjYbtVgJpbarxGgS/rItaVwO6qR5kHMObVlSmdYkIehazEfBn9pPyW+w9ouB6rjGHqe
 g55LLZF+UhCrWkHtBfB6j0fd438iMawN9vL40=
X-Google-DKIM-Signature: v=1; a=rsa-sha256; c=relaxed/relaxed;
 d=1e100.net; s=20230601; t=1709828466; x=1710433266;
 h=references:in-reply-to:cc:to:from:subject:message-id:date
 :x-gm-message-state:from:to:cc:subject:date:message-id:reply-to;
 bh=5hSUBOzo/SNrWr8SBbBLpSQ78IFFOjhVfynCBKgiQl0=;
 b=r4yMWoQHnFT/3ORw5vtqhdkg608/eRRJD/GPcuno9kj0VJkNCrkhcuR/kwear7wI7f
 MfbWHF4/AMC0aj7mmmpuLgKuFyntEz2dTH+cV1ccsRKI18RXUVvCB3brq75eSS8PIA99
 VQHlKHVFj1kxuGkjOsYLd4dw3ULW4cmqF8PL3NQSU2tLeYD7CInPs0dp1Ju2ZjDQllgF
 zir+V5rwjNvQXshhiTYhAiOHhrJ6kWfDrIpuqmbiM1mox37YArJXqtPjiOWutcHTBpFp
 Zp2ywRPl7r6bHU1i/DA8amdeOO2LU4BG+2NP16yw4vxkt/3hEHrHoE7z+NzgO5FWp3g5
 nLPw==
X-Gm-Message-State: AOJu0YzHrGpImCW09G2eSKw1ScJyyX0tYxtegzyuqW4tpN+1pBICpOYt
 e06FliAQJvzeRLyyte7kGWyMri/zAh26Z4+ec1mzLPMBobt1Dycw4FmLPZxt8AzXOjV5qsZBnhp
 bXgz6TE5i0t8KkldKQYJzGHq4ZDW6NKfOf76ScA4Y
X-Google-Smtp-Source: AGHT+IHsojNR+jQ6QOYx3Fj/y3FfnocfmA8K2hQDAtEemgSjol3UdYE2uWxOTxb+a+/BVodiGaTrXaqbxKq2
X-Received: by 2002:a05:6870:6128:b0:21e:df8b:5280 with SMTP id
 s40-20020a056870612800b0021edf8b5280mr320103oae.27.1709828466034; 
 Thu, 07 Mar 2024 08:21:06 -0800 (PST)
Received: from postal.iol.unh.edu (postal.iol.unh.edu. [132.177.123.84])
 by smtp-relay.gmail.com with ESMTPS id
 ow1-20020a056871778100b0021e7c9d798bsm366158oac.5.2024.03.07.08.21.05
 (version=TLS1_2 cipher=ECDHE-ECDSA-AES128-GCM-SHA256 bits=128/128);
 Thu, 07 Mar 2024 08:21:06 -0800 (PST)
X-Relaying-Domain: iol.unh.edu
Date: Thu, 07 Mar 2024 08:21:06 -0800 (PST)
Message-ID: <65e9e972.050a0220.79007.4c4eSMTPIN_ADDED_MISSING@mx.google.com>
Received: from [172.21.0.6] (unknown [172.18.0.240])
 by postal.iol.unh.edu (Postfix) with ESMTP id 403086052712;
 Thu,  7 Mar 2024 11:21:05 -0500 (EST)
Subject: |SUCCESS| pw138098 [PATCH] vhost: fix vring addr update with vDPA
From: dpdklab@iol.unh.edu
To: Test Report <test-report@dpdk.org>
Cc: dpdk-test-reports@iol.unh.edu
In-Reply-To: <20240307103443.609960-1-david.marchand@redhat.com>
References: <20240307103443.609960-1-david.marchand@redhat.com>
Content-Type: text/plain
X-BeenThere: test-report@dpdk.org
X-Mailman-Version: 2.1.29
Precedence: list
List-Id: automatic DPDK test reports <test-report.dpdk.org>
List-Unsubscribe: <https://mails.dpdk.org/options/test-report>,
 <mailto:test-report-request@dpdk.org?subject=unsubscribe>
List-Archive: <http://mails.dpdk.org/archives/test-report/>
List-Post: <mailto:test-report@dpdk.org>
List-Help: <mailto:test-report-request@dpdk.org?subject=help>
List-Subscribe: <https://mails.dpdk.org/listinfo/test-report>,
 <mailto:test-report-request@dpdk.org?subject=subscribe>
Errors-To: test-report-bounces@dpdk.org

Test-Label: iol-unit-amd64-testing
Test-Status: SUCCESS
http://dpdk.org/patch/138098

_Testing PASS_

Submitter: David Marchand <david.marchand@redhat.com>
Date: Thursday, March 07 2024 10:34:43 
DPDK git baseline: Repo:dpdk
  Branch: master
  CommitID:deedfb86a7a6e10064d3cccd593f62072de96e36

138098 --> testing pass

Test environment and result as below:

+------------------+----------------+
|   Environment    | dpdk_unit_test |
+==================+================+
| Debian Bullseye  | PASS           |
+------------------+----------------+
| CentOS Stream 8  | PASS           |
+------------------+----------------+
| Fedora 38        | PASS           |
+------------------+----------------+
| CentOS Stream 9  | PASS           |
+------------------+----------------+
| Debian 12 (arm)  | PASS           |
+------------------+----------------+
| openSUSE Leap 15 | PASS           |
+------------------+----------------+
| Fedora 37        | PASS           |
+------------------+----------------+
| RHEL8            | PASS           |
+------------------+----------------+
| Ubuntu 22.04     | PASS           |
+------------------+----------------+
| Ubuntu 20.04     | PASS           |
+------------------+----------------+


Debian Bullseye
	Kernel: 5.4.0-122-generic
	Compiler: gcc 10.2.1-6

CentOS Stream 8
	Kernel: 4.18.0-240.10.1.el8_3.x86_64
	Compiler: gcc 8.4.1 20200928

Fedora 38
	Kernel: Depends on container host
	Compiler: gcc 13.1.1

CentOS Stream 9
	Kernel: 4.18.0-240.10.1.el8_3.x86_64
	Compiler: gcc 11.3.1 20220421

Debian 12 (arm)
	Kernel: Container Host Kernel
	Compiler: gcc 11

openSUSE Leap 15
	Kernel: 4.18.0-240.10.1.el8_3.x86_64
	Compiler: gcc 7.5.0

Fedora 37
	Kernel: Depends on container host system
	Compiler: gcc 12.3.1

RHEL8
	Kernel: 4.18.0-240.10.1.el8_3.x86_64
	Compiler: gcc 8.3.1 20191121 (Red Hat 8.3.1-5)

Ubuntu 22.04
	Kernel: 4.18.0-240.10.1.el8_3.x86_64
	Compiler: gcc 11.3.0

Ubuntu 20.04
	Kernel: 5.4.0-153-generic
	Compiler: gcc 9.4.0-1ubuntu1~20.04.1

To view detailed results, visit:
https://lab.dpdk.org/results/dashboard/patchsets/29460/

UNH-IOL DPDK Community Lab

To manage your email subscriptions, visit: 
https://lab.dpdk.org/results/dashboard/preferences/subscriptions/