From mboxrd@z Thu Jan  1 00:00:00 1970
Return-Path: <test-report-bounces@dpdk.org>
Received: from mails.dpdk.org (mails.dpdk.org [217.70.189.124])
	by inbox.dpdk.org (Postfix) with ESMTP id 4C27743B6C
	for <public@inbox.dpdk.org>; Thu,  7 Mar 2024 17:22:39 +0100 (CET)
Received: from mails.dpdk.org (localhost [127.0.0.1])
	by mails.dpdk.org (Postfix) with ESMTP id 47E864067E;
	Thu,  7 Mar 2024 17:22:39 +0100 (CET)
Received: from mail-ot1-f99.google.com (mail-ot1-f99.google.com
 [209.85.210.99]) by mails.dpdk.org (Postfix) with ESMTP id ACAAB40272
 for <test-report@dpdk.org>; Thu,  7 Mar 2024 17:22:37 +0100 (CET)
Received: by mail-ot1-f99.google.com with SMTP id
 46e09a7af769-6e4eaa4b394so510930a34.1
 for <test-report@dpdk.org>; Thu, 07 Mar 2024 08:22:37 -0800 (PST)
DKIM-Signature: v=1; a=rsa-sha256; c=relaxed/relaxed;
 d=iol.unh.edu; s=unh-iol; t=1709828557; x=1710433357; darn=dpdk.org;
 h=references:in-reply-to:cc:to:from:subject:message-id:date:from:to
 :cc:subject:date:message-id:reply-to;
 bh=EzBMMCUBQj2shB0DTt67HE+kSWHC1rtd8b4x7IT/f9E=;
 b=dIzDZ0hn66zfva6Ln3a6+HYyzr2sQ6LclUm2DTTbaGC1mt++86ZrYIeXJQnVtCxY8y
 KhqPKOOm6XNlI6A03uLo4fO5xJvnV/z24UgzvK5N6BL0vMWMtqPAOVPmCU9rJdYTOcGy
 DcSBpieIGbw9b/Vz2SRIWL/bGuPB+Go98rCcc=
X-Google-DKIM-Signature: v=1; a=rsa-sha256; c=relaxed/relaxed;
 d=1e100.net; s=20230601; t=1709828557; x=1710433357;
 h=references:in-reply-to:cc:to:from:subject:message-id:date
 :x-gm-message-state:from:to:cc:subject:date:message-id:reply-to;
 bh=EzBMMCUBQj2shB0DTt67HE+kSWHC1rtd8b4x7IT/f9E=;
 b=u1F8DVzYUasdT5FGLE8VxWfjFQwg4+cmoDxoCb0OXHsBI2cfNHN8SGAu2TyIwIvoCy
 AH3JXIr9qLA7/Oe09eKAzrTmyFQ1zMO05vRLKupb6TxPPVRH9+K9Ds7uPJUQ8x5lwweO
 lJPkB7iP8nSHZwzUbZhj3eSoruw8/mzLykKY1AHizxQ/4UQLmZc5yum0OxQ81j+6fhw+
 9V3FKvhEiJ4TlTuPVsNaxcelCMQETYNf5BOVuj678CZnsKFM+JeX82DEdkJLBKYs/3P6
 lHTkYta1VhIH87lrKiJFAXWfG6Wqw6yMnA05fsJrfDUPQap6PEuDo6vmc/gVjxH0WqRg
 3W/g==
X-Gm-Message-State: AOJu0YwcIyAnlN9zPYGSSU6pxlV6+XQMUpk+VLLSNfWBrFe4V0pFEmVM
 CIETYJ/R1bNFCvquHTsbnX9p6Qg/8MVUPWd0Hr3bbYCJNU3/e3Qv8LsfQsqXAwGYRRbGUII8KlN
 oqkNhGLhfpzG4BJWIv9WysJHfP5LxhiHXh23Njg+9VKiAvMeger5tvpfM
X-Google-Smtp-Source: AGHT+IF/FWeSd5KUidyMSkW6keEzLYeUSyx95vQrUvXqtdIQLj4zlellAkKkZv7wHI1YOuz/VZVHjFjY3O/i
X-Received: by 2002:a05:6830:4108:b0:6e5:dc2:552e with SMTP id
 w8-20020a056830410800b006e50dc2552emr933179ott.17.1709828557079; 
 Thu, 07 Mar 2024 08:22:37 -0800 (PST)
Received: from postal.iol.unh.edu (postal.iol.unh.edu.
 [2606:4100:3880:1234::84]) by smtp-relay.gmail.com with ESMTPS id
 t18-20020a9d7492000000b006e4f08ad900sm323683otk.14.2024.03.07.08.22.36
 (version=TLS1_2 cipher=ECDHE-ECDSA-AES128-GCM-SHA256 bits=128/128);
 Thu, 07 Mar 2024 08:22:37 -0800 (PST)
X-Relaying-Domain: iol.unh.edu
Date: Thu, 07 Mar 2024 08:22:37 -0800 (PST)
Message-ID: <65e9e9cd.9d0a0220.75a5a.0987SMTPIN_ADDED_MISSING@mx.google.com>
Received: from [172.21.0.6] (unknown [172.18.0.240])
 by postal.iol.unh.edu (Postfix) with ESMTP id 8EA776052712;
 Thu,  7 Mar 2024 11:22:36 -0500 (EST)
Subject: |SUCCESS| pw138098 [PATCH] vhost: fix vring addr update with vDPA
From: dpdklab@iol.unh.edu
To: Test Report <test-report@dpdk.org>
Cc: dpdk-test-reports@iol.unh.edu
In-Reply-To: <20240307103443.609960-1-david.marchand@redhat.com>
References: <20240307103443.609960-1-david.marchand@redhat.com>
Content-Type: text/plain
X-BeenThere: test-report@dpdk.org
X-Mailman-Version: 2.1.29
Precedence: list
List-Id: automatic DPDK test reports <test-report.dpdk.org>
List-Unsubscribe: <https://mails.dpdk.org/options/test-report>,
 <mailto:test-report-request@dpdk.org?subject=unsubscribe>
List-Archive: <http://mails.dpdk.org/archives/test-report/>
List-Post: <mailto:test-report@dpdk.org>
List-Help: <mailto:test-report-request@dpdk.org?subject=help>
List-Subscribe: <https://mails.dpdk.org/listinfo/test-report>,
 <mailto:test-report-request@dpdk.org?subject=subscribe>
Errors-To: test-report-bounces@dpdk.org

Test-Label: iol-compile-amd64-testing
Test-Status: SUCCESS
http://dpdk.org/patch/138098

_Testing PASS_

Submitter: David Marchand <david.marchand@redhat.com>
Date: Thursday, March 07 2024 10:34:43 
DPDK git baseline: Repo:dpdk
  Branch: master
  CommitID:deedfb86a7a6e10064d3cccd593f62072de96e36

138098 --> testing pass

Test environment and result as below:

+---------------------+--------------------+----------------------+
|     Environment     | dpdk_meson_compile | dpdk_mingw64_compile |
+=====================+====================+======================+
| FreeBSD 13.2        | PASS               | SKIPPED              |
+---------------------+--------------------+----------------------+
| Windows Server 2022 | PASS               | SKIPPED              |
+---------------------+--------------------+----------------------+
| Windows Server 2019 | PASS               | PASS                 |
+---------------------+--------------------+----------------------+
| CentOS Stream 9     | PASS               | SKIPPED              |
+---------------------+--------------------+----------------------+
| Debian 12 (arm)     | PASS               | SKIPPED              |
+---------------------+--------------------+----------------------+
| Fedora 37           | PASS               | SKIPPED              |
+---------------------+--------------------+----------------------+
| openSUSE Leap 15    | PASS               | SKIPPED              |
+---------------------+--------------------+----------------------+
| Ubuntu 22.04        | PASS               | SKIPPED              |
+---------------------+--------------------+----------------------+
| Fedora 38           | PASS               | SKIPPED              |
+---------------------+--------------------+----------------------+
| CentOS Stream 8     | PASS               | SKIPPED              |
+---------------------+--------------------+----------------------+
| Debian Bullseye     | PASS               | SKIPPED              |
+---------------------+--------------------+----------------------+
| RHEL8               | PASS               | SKIPPED              |
+---------------------+--------------------+----------------------+
| Ubuntu 20.04        | PASS               | SKIPPED              |
+---------------------+--------------------+----------------------+
| Alpine              | PASS               | SKIPPED              |
+---------------------+--------------------+----------------------+


FreeBSD 13.2
	Kernel: 13.2
	Compiler: clang 11.3.0

Windows Server 2022
	Kernel: OS Build 20348.2031
	Compiler: MSVC VS-Preview

Windows Server 2019
	Kernel: 10.0
	Compiler: clang 14.0 and gcc 8.1.0 (MinGW)

CentOS Stream 9
	Kernel: 4.18.0-240.10.1.el8_3.x86_64
	Compiler: gcc 11.3.1 20220421

Debian 12 (arm)
	Kernel: Container Host Kernel
	Compiler: gcc 11

Fedora 37
	Kernel: Depends on container host system
	Compiler: gcc 12.3.1

openSUSE Leap 15
	Kernel: 4.18.0-240.10.1.el8_3.x86_64
	Compiler: gcc 7.5.0

Ubuntu 22.04
	Kernel: 4.18.0-240.10.1.el8_3.x86_64
	Compiler: gcc 11.3.0

Fedora 38
	Kernel: Depends on container host
	Compiler: clang 16.0.3

CentOS Stream 8
	Kernel: 4.18.0-240.10.1.el8_3.x86_64
	Compiler: gcc 8.4.1 20200928

Debian Bullseye
	Kernel: 5.4.0-122-generic
	Compiler: gcc 10.2.1-6

RHEL8
	Kernel: 4.18.0-240.10.1.el8_3.x86_64
	Compiler: gcc 8.3.1 20191121 (Red Hat 8.3.1-5)

Ubuntu 20.04
	Kernel: 5.4.0-153-generic
	Compiler: gcc 9.4.0-1ubuntu1~20.04.1

Alpine
	Kernel: 5.4.0-73-generic
	Compiler: gcc (Alpine 10.3.1_git20210424) 10.3.1 20210424

To view detailed results, visit:
https://lab.dpdk.org/results/dashboard/patchsets/29460/

UNH-IOL DPDK Community Lab

To manage your email subscriptions, visit: 
https://lab.dpdk.org/results/dashboard/preferences/subscriptions/