From mboxrd@z Thu Jan  1 00:00:00 1970
Return-Path: <test-report-bounces@dpdk.org>
Received: from mails.dpdk.org (mails.dpdk.org [217.70.189.124])
	by inbox.dpdk.org (Postfix) with ESMTP id DE6E843C21
	for <public@inbox.dpdk.org>; Thu,  7 Mar 2024 17:32:21 +0100 (CET)
Received: from mails.dpdk.org (localhost [127.0.0.1])
	by mails.dpdk.org (Postfix) with ESMTP id D6AB14067E;
	Thu,  7 Mar 2024 17:32:21 +0100 (CET)
Received: from mail-qt1-f225.google.com (mail-qt1-f225.google.com
 [209.85.160.225])
 by mails.dpdk.org (Postfix) with ESMTP id 942E040272
 for <test-report@dpdk.org>; Thu,  7 Mar 2024 17:32:20 +0100 (CET)
Received: by mail-qt1-f225.google.com with SMTP id
 d75a77b69052e-42a029c8e62so7895081cf.1
 for <test-report@dpdk.org>; Thu, 07 Mar 2024 08:32:20 -0800 (PST)
DKIM-Signature: v=1; a=rsa-sha256; c=relaxed/relaxed;
 d=iol.unh.edu; s=unh-iol; t=1709829140; x=1710433940; darn=dpdk.org;
 h=references:in-reply-to:cc:to:from:subject:message-id:date:from:to
 :cc:subject:date:message-id:reply-to;
 bh=EzBMMCUBQj2shB0DTt67HE+kSWHC1rtd8b4x7IT/f9E=;
 b=VKqLm+SYT1xYKFQ+PW83QpVy0PobAa7MGUS7oQhXw0ghEYGlNIKUW57wWQhsm7GNlz
 k9765QRCdRv4MUGxs6LMMef1JkHF1EKerkQWzAC7bEngIksBrnp8GgeoWWiNOC8wGDQ2
 3XFMMbgVDHeGr22JMh2z3t0De1szPI0i/WOK8=
X-Google-DKIM-Signature: v=1; a=rsa-sha256; c=relaxed/relaxed;
 d=1e100.net; s=20230601; t=1709829140; x=1710433940;
 h=references:in-reply-to:cc:to:from:subject:message-id:date
 :x-gm-message-state:from:to:cc:subject:date:message-id:reply-to;
 bh=EzBMMCUBQj2shB0DTt67HE+kSWHC1rtd8b4x7IT/f9E=;
 b=TVis5GHH3AOtreQJvdRSmhbRDKe+zSCy57i5jBXD4jUDsCKarZPse5jlpJBs5wdIOw
 L3OAUqTpBHL1FHzt8v3Z1wzuxmTLeSncBKtjENrzh1cU45WX+aht72SMk/UGloZnt7ta
 CL58brMdG72B4GjifTfGxnOIO/u3Xgab2haEw3UTInDZtxr+/Jh6Vi7BJbDtsP6/AHaX
 RhP4dwHECGD89Jt6AuX4zAhhAQFj22OS2IxIuK8o4kc3H3MA1xgl67s1nSzrtdyplrtL
 fn2nhWWAolvblIjf5ricsQFDfD87zOUWgLdCSexy1/gy/n8+qhRgIPcOdHVayEe9XZHP
 odUw==
X-Gm-Message-State: AOJu0Yw8/xgAcpoXebRzHzr0jJa9Fr2ppon1dj+zvzjH5DHhU2gl6zUm
 stu5AobgEhkIOdADJAHWJxvPITx1Aii1KbBfTo7C1OivRTUShc4JgCRwLrMRqi51IB8FqzYOa2c
 aBYTCp9/cfHMCz+2nsl0quK+QQcVPmcF7XfGFCJPHPlDoTW7w1/vSBvnJ
X-Google-Smtp-Source: AGHT+IHhT+DuJ4rGrfN9Jxmvp+TYoW1f6CSOA76umIee0p7QLrCjCD1R28dvp6EOtXx9QthRm27LsDhnvbvO
X-Received: by 2002:ac8:5bd0:0:b0:42e:f6b1:b801 with SMTP id
 b16-20020ac85bd0000000b0042ef6b1b801mr10168725qtb.20.1709829139992; 
 Thu, 07 Mar 2024 08:32:19 -0800 (PST)
Received: from postal.iol.unh.edu (postal.iol.unh.edu.
 [2606:4100:3880:1234::84]) by smtp-relay.gmail.com with ESMTPS id
 hg20-20020a05622a611400b0042ed1f20e5fsm707310qtb.3.2024.03.07.08.32.19
 (version=TLS1_2 cipher=ECDHE-ECDSA-AES128-GCM-SHA256 bits=128/128);
 Thu, 07 Mar 2024 08:32:19 -0800 (PST)
X-Relaying-Domain: iol.unh.edu
Date: Thu, 07 Mar 2024 08:32:19 -0800 (PST)
Message-ID: <65e9ec13.050a0220.73c3d.a594SMTPIN_ADDED_MISSING@mx.google.com>
Received: from [172.21.0.6] (unknown [172.18.0.240])
 by postal.iol.unh.edu (Postfix) with ESMTP id B51066043484;
 Thu,  7 Mar 2024 11:32:19 -0500 (EST)
Subject: |SUCCESS| pw138098 [PATCH] vhost: fix vring addr update with vDPA
From: dpdklab@iol.unh.edu
To: Test Report <test-report@dpdk.org>
Cc: dpdk-test-reports@iol.unh.edu
In-Reply-To: <20240307103443.609960-1-david.marchand@redhat.com>
References: <20240307103443.609960-1-david.marchand@redhat.com>
Content-Type: text/plain
X-BeenThere: test-report@dpdk.org
X-Mailman-Version: 2.1.29
Precedence: list
List-Id: automatic DPDK test reports <test-report.dpdk.org>
List-Unsubscribe: <https://mails.dpdk.org/options/test-report>,
 <mailto:test-report-request@dpdk.org?subject=unsubscribe>
List-Archive: <http://mails.dpdk.org/archives/test-report/>
List-Post: <mailto:test-report@dpdk.org>
List-Help: <mailto:test-report-request@dpdk.org?subject=help>
List-Subscribe: <https://mails.dpdk.org/listinfo/test-report>,
 <mailto:test-report-request@dpdk.org?subject=subscribe>
Errors-To: test-report-bounces@dpdk.org

Test-Label: iol-compile-amd64-testing
Test-Status: SUCCESS
http://dpdk.org/patch/138098

_Testing PASS_

Submitter: David Marchand <david.marchand@redhat.com>
Date: Thursday, March 07 2024 10:34:43 
DPDK git baseline: Repo:dpdk
  Branch: master
  CommitID:deedfb86a7a6e10064d3cccd593f62072de96e36

138098 --> testing pass

Test environment and result as below:

+---------------------+--------------------+----------------------+
|     Environment     | dpdk_meson_compile | dpdk_mingw64_compile |
+=====================+====================+======================+
| FreeBSD 13.2        | PASS               | SKIPPED              |
+---------------------+--------------------+----------------------+
| Windows Server 2022 | PASS               | SKIPPED              |
+---------------------+--------------------+----------------------+
| Windows Server 2019 | PASS               | PASS                 |
+---------------------+--------------------+----------------------+
| CentOS Stream 9     | PASS               | SKIPPED              |
+---------------------+--------------------+----------------------+
| Debian 12 (arm)     | PASS               | SKIPPED              |
+---------------------+--------------------+----------------------+
| Fedora 37           | PASS               | SKIPPED              |
+---------------------+--------------------+----------------------+
| openSUSE Leap 15    | PASS               | SKIPPED              |
+---------------------+--------------------+----------------------+
| Ubuntu 22.04        | PASS               | SKIPPED              |
+---------------------+--------------------+----------------------+
| Fedora 38           | PASS               | SKIPPED              |
+---------------------+--------------------+----------------------+
| CentOS Stream 8     | PASS               | SKIPPED              |
+---------------------+--------------------+----------------------+
| Debian Bullseye     | PASS               | SKIPPED              |
+---------------------+--------------------+----------------------+
| RHEL8               | PASS               | SKIPPED              |
+---------------------+--------------------+----------------------+
| Ubuntu 20.04        | PASS               | SKIPPED              |
+---------------------+--------------------+----------------------+
| Alpine              | PASS               | SKIPPED              |
+---------------------+--------------------+----------------------+


FreeBSD 13.2
	Kernel: 13.2
	Compiler: clang 11.3.0

Windows Server 2022
	Kernel: OS Build 20348.2031
	Compiler: MSVC VS-Preview

Windows Server 2019
	Kernel: 10.0
	Compiler: clang 14.0 and gcc 8.1.0 (MinGW)

CentOS Stream 9
	Kernel: 4.18.0-240.10.1.el8_3.x86_64
	Compiler: gcc 11.3.1 20220421

Debian 12 (arm)
	Kernel: Container Host Kernel
	Compiler: gcc 11

Fedora 37
	Kernel: Depends on container host system
	Compiler: gcc 12.3.1

openSUSE Leap 15
	Kernel: 4.18.0-240.10.1.el8_3.x86_64
	Compiler: gcc 7.5.0

Ubuntu 22.04
	Kernel: 4.18.0-240.10.1.el8_3.x86_64
	Compiler: gcc 11.3.0

Fedora 38
	Kernel: Depends on container host
	Compiler: clang 16.0.3

CentOS Stream 8
	Kernel: 4.18.0-240.10.1.el8_3.x86_64
	Compiler: gcc 8.4.1 20200928

Debian Bullseye
	Kernel: 5.4.0-122-generic
	Compiler: gcc 10.2.1-6

RHEL8
	Kernel: 4.18.0-240.10.1.el8_3.x86_64
	Compiler: gcc 8.3.1 20191121 (Red Hat 8.3.1-5)

Ubuntu 20.04
	Kernel: 5.4.0-153-generic
	Compiler: gcc 9.4.0-1ubuntu1~20.04.1

Alpine
	Kernel: 5.4.0-73-generic
	Compiler: gcc (Alpine 10.3.1_git20210424) 10.3.1 20210424

To view detailed results, visit:
https://lab.dpdk.org/results/dashboard/patchsets/29460/

UNH-IOL DPDK Community Lab

To manage your email subscriptions, visit: 
https://lab.dpdk.org/results/dashboard/preferences/subscriptions/