From mboxrd@z Thu Jan  1 00:00:00 1970
Return-Path: <test-report-bounces@dpdk.org>
Received: from mails.dpdk.org (mails.dpdk.org [217.70.189.124])
	by inbox.dpdk.org (Postfix) with ESMTP id 80D8143C21
	for <public@inbox.dpdk.org>; Thu,  7 Mar 2024 17:34:32 +0100 (CET)
Received: from mails.dpdk.org (localhost [127.0.0.1])
	by mails.dpdk.org (Postfix) with ESMTP id 7D4A64067E;
	Thu,  7 Mar 2024 17:34:32 +0100 (CET)
Received: from mail-qv1-f98.google.com (mail-qv1-f98.google.com
 [209.85.219.98]) by mails.dpdk.org (Postfix) with ESMTP id 3A11040272
 for <test-report@dpdk.org>; Thu,  7 Mar 2024 17:34:31 +0100 (CET)
Received: by mail-qv1-f98.google.com with SMTP id
 6a1803df08f44-690978f60ccso13607436d6.0
 for <test-report@dpdk.org>; Thu, 07 Mar 2024 08:34:31 -0800 (PST)
DKIM-Signature: v=1; a=rsa-sha256; c=relaxed/relaxed;
 d=iol.unh.edu; s=unh-iol; t=1709829270; x=1710434070; darn=dpdk.org;
 h=references:in-reply-to:cc:to:from:subject:message-id:date:from:to
 :cc:subject:date:message-id:reply-to;
 bh=4nUrjLyyuBO2Flx9jTBbdlZoAH8JZ8GI+RlxxvmZaZM=;
 b=RCZDZ5FhT2IkDJSynAgOq+tdLYx0ZZW1lPspy1beE6kQso7kYDzvxbPYkG0asl/5VQ
 qN92L5PbUl0N+pX4jlGeZ7WzSCM9OIt90MV+HYjItx800wtgrB4z4SIgK8dKkxo4ySTL
 6zsF9hIXHhE9yAryWiMGrYAKN6Sw9BEFkeRVI=
X-Google-DKIM-Signature: v=1; a=rsa-sha256; c=relaxed/relaxed;
 d=1e100.net; s=20230601; t=1709829270; x=1710434070;
 h=references:in-reply-to:cc:to:from:subject:message-id:date
 :x-gm-message-state:from:to:cc:subject:date:message-id:reply-to;
 bh=4nUrjLyyuBO2Flx9jTBbdlZoAH8JZ8GI+RlxxvmZaZM=;
 b=hm7d+xRixpT+27OQ3zMbGklFYfV7E823sUTNTKK+vziIJbsMeAVDsJZcNfZsAuhxu8
 hhQQ36cepan4GfrA7BuwRwtGDc/RhVKHgxXRH/w5paO8Af/PvavDhF6DfbtwTBWqc1Ii
 B0IARJRGcfTHa7MLCMOaQdVsWsPQU7blOY5rjSEgwQsC2bUsg1GD5y8Wlz32JMXlrJnr
 tFgTPMf6td6K1XH2rDjDz5mMPbrPAMd+75RC/MkuztjDYpOg/95FW75lzaFOxrduzTnu
 sQHNIfu8bkuPwSNekrwsq8aNh7zRnMNLz9G5YWmpN1ZVMhORFcKjCOm1nAaNaZixUalj
 TpXg==
X-Gm-Message-State: AOJu0YxDluDK45O7nAWOuAhZDRez+QWhhLs4bq2goZiSFvj/7hBXtcWr
 sjanqhPN2uzEYvD5sKPsRptL3dn2bluo+VrGZtNnBlAy/3WgnVQmb9/50oIlzzl+92UH9CF8nL6
 /LuZiJNFPrJU5fWDkQ1vGfQz9gexKhiKDCX7W6+0q2ADMjffTZXducw7f
X-Google-Smtp-Source: AGHT+IEps8BQLCRLrD7gx4xyvzUMnBru/HGOA2J/XJFi+0GLTINpaps6r9Sl4D6/z5rRC7OO7mU6utUVV0zN
X-Received: by 2002:a05:6214:1bc8:b0:68f:c83f:a5c8 with SMTP id
 m8-20020a0562141bc800b0068fc83fa5c8mr3006596qvc.2.1709829270714; 
 Thu, 07 Mar 2024 08:34:30 -0800 (PST)
Received: from postal.iol.unh.edu (postal.iol.unh.edu.
 [2606:4100:3880:1234::84]) by smtp-relay.gmail.com with ESMTPS id
 q14-20020ad45cae000000b0068fb9952b24sm905211qvh.73.2024.03.07.08.34.30
 (version=TLS1_2 cipher=ECDHE-ECDSA-AES128-GCM-SHA256 bits=128/128);
 Thu, 07 Mar 2024 08:34:30 -0800 (PST)
X-Relaying-Domain: iol.unh.edu
Date: Thu, 07 Mar 2024 08:34:30 -0800 (PST)
Message-ID: <65e9ec96.d40a0220.ffc0d.953bSMTPIN_ADDED_MISSING@mx.google.com>
Received: from [172.21.0.6] (unknown [172.18.0.240])
 by postal.iol.unh.edu (Postfix) with ESMTP id 6CF836043484;
 Thu,  7 Mar 2024 11:34:30 -0500 (EST)
Subject: |SUCCESS| pw138094-138096 [PATCH] [v2,3/3] net/mlx5: fix indirect ac
From: dpdklab@iol.unh.edu
To: Test Report <test-report@dpdk.org>
Cc: dpdk-test-reports@iol.unh.edu
In-Reply-To: <20240307101910.1135720-4-getelson@nvidia.com>
References: <20240307101910.1135720-4-getelson@nvidia.com>
Content-Type: text/plain
X-BeenThere: test-report@dpdk.org
X-Mailman-Version: 2.1.29
Precedence: list
List-Id: automatic DPDK test reports <test-report.dpdk.org>
List-Unsubscribe: <https://mails.dpdk.org/options/test-report>,
 <mailto:test-report-request@dpdk.org?subject=unsubscribe>
List-Archive: <http://mails.dpdk.org/archives/test-report/>
List-Post: <mailto:test-report@dpdk.org>
List-Help: <mailto:test-report-request@dpdk.org?subject=help>
List-Subscribe: <https://mails.dpdk.org/listinfo/test-report>,
 <mailto:test-report-request@dpdk.org?subject=subscribe>
Errors-To: test-report-bounces@dpdk.org

Test-Label: iol-compile-arm64-testing
Test-Status: SUCCESS
http://dpdk.org/patch/138096

_Testing PASS_

Submitter: Gregory Etelson <getelson@nvidia.com>
Date: Thursday, March 07 2024 10:19:10 
DPDK git baseline: Repo:dpdk
  Branch: master
  CommitID:6666628362c94a0b567a39a0177539c12c97d999

138094-138096 --> testing pass

Test environment and result as below:

+--------------------------+--------------------+
|       Environment        | dpdk_meson_compile |
+==========================+====================+
| Ubuntu 20.04 ARM SVE     | PASS               |
+--------------------------+--------------------+
| Fedora 37 (ARM)          | PASS               |
+--------------------------+--------------------+
| Fedora 38 (ARM)          | PASS               |
+--------------------------+--------------------+
| CentOS Stream 9 (ARM)    | PASS               |
+--------------------------+--------------------+
| Ubuntu 20.04 (ARM)       | PASS               |
+--------------------------+--------------------+
| Debian 11 (Buster) (ARM) | PASS               |
+--------------------------+--------------------+
| Debian 12 (arm)          | PASS               |
+--------------------------+--------------------+


Ubuntu 20.04 ARM SVE
	Kernel: 5.4.0-80-generic
	Compiler: gcc 10.3.0 (Ubuntu 10.3.0-1ubuntu1~20.04)

Fedora 37 (ARM)
	Kernel: Depends on container host
	Compiler: gcc 12.3.1

Fedora 38 (ARM)
	Kernel: Depends on container host
	Compiler: gcc 13.1.1

CentOS Stream 9 (ARM)
	Kernel: Container Host Kernel
	Compiler: gcc 11.3.1

Ubuntu 20.04 (ARM)
	Kernel: Container Host Kernel
	Compiler: gcc 9.4.0

Debian 11 (Buster) (ARM)
	Kernel: Container Host Kernel
	Compiler: gcc 10.2.1

Debian 12 (arm)
	Kernel: Container Host Kernel
	Compiler: gcc 11

To view detailed results, visit:
https://lab.dpdk.org/results/dashboard/patchsets/29458/

UNH-IOL DPDK Community Lab

To manage your email subscriptions, visit: 
https://lab.dpdk.org/results/dashboard/preferences/subscriptions/