From mboxrd@z Thu Jan  1 00:00:00 1970
Return-Path: <test-report-bounces@dpdk.org>
Received: from mails.dpdk.org (mails.dpdk.org [217.70.189.124])
	by inbox.dpdk.org (Postfix) with ESMTP id 46B1C43C12
	for <public@inbox.dpdk.org>; Thu,  7 Mar 2024 19:11:19 +0100 (CET)
Received: from mails.dpdk.org (localhost [127.0.0.1])
	by mails.dpdk.org (Postfix) with ESMTP id 414DC402BA;
	Thu,  7 Mar 2024 19:11:19 +0100 (CET)
Received: from mail-pg1-f227.google.com (mail-pg1-f227.google.com
 [209.85.215.227])
 by mails.dpdk.org (Postfix) with ESMTP id 04AC840272
 for <test-report@dpdk.org>; Thu,  7 Mar 2024 19:11:17 +0100 (CET)
Received: by mail-pg1-f227.google.com with SMTP id
 41be03b00d2f7-5dcc4076c13so905562a12.0
 for <test-report@dpdk.org>; Thu, 07 Mar 2024 10:11:16 -0800 (PST)
DKIM-Signature: v=1; a=rsa-sha256; c=relaxed/relaxed;
 d=iol.unh.edu; s=unh-iol; t=1709835076; x=1710439876; darn=dpdk.org;
 h=references:in-reply-to:cc:to:from:subject:message-id:date:from:to
 :cc:subject:date:message-id:reply-to;
 bh=9zQstlXX531XsNCRcg46e7oiGE5lIzxQ315axCFydXc=;
 b=iNS10u0Es4dCT4Yvdn0Lx51pjdnQzxDci46Hnv/0gndcHlKvpEfstWAPG5QnvmhqJb
 njhCDx6gTnh9+KdCBSw6F8KFVVI4/Io5AQ+fco39FtXobSORK5Oeyf0k1xYC9/LdHHTi
 E7wQdQ+MHs1VCkRSpf/nIm1fYSiQC0D4CbsLw=
X-Google-DKIM-Signature: v=1; a=rsa-sha256; c=relaxed/relaxed;
 d=1e100.net; s=20230601; t=1709835076; x=1710439876;
 h=references:in-reply-to:cc:to:from:subject:message-id:date
 :x-gm-message-state:from:to:cc:subject:date:message-id:reply-to;
 bh=9zQstlXX531XsNCRcg46e7oiGE5lIzxQ315axCFydXc=;
 b=Kv14sAVVEUiotg0ik2mS1FpQjjyssa97W4LJd2fld0nkaM1/rm/PNlFhbV9M6SW4K0
 G6D8zMHiaLDcmIFh1opy1IVkcngQy5KyY52+8oMSVjZwl2sElj8dVJbU0HkbM4LKxyHe
 EJ1T9wF8vMBXjWyytST0OkKdOn/J+W9OqCnGy7mSTRqzSjj6CanPz4ZOniK4Bs2Ji0V8
 rb6FPEe/JYNJLPp8x9gX30YYlHZqUoZctKBiRvk5Sg44FQ1EJ1fbfTTZpfzHU0RwW36t
 mbY3CjB7yKWo7LW/Q12nRoET3Ff4yyEp7oWBO0AkOyS4NDdNpDzuYwRSdm/yE1D7DYMO
 dXkg==
X-Gm-Message-State: AOJu0YxoWgdgL8D5Br2IotikgAuW+ZBovfs/SRtP/GMQ5gt2a1ff7ODK
 7UELxDJxoD8+abMtaxirpx5rs+NHnHv7evCCc34GokMuYLRB1+2+erFHgVlyATBFlUD8kK73x4n
 GmTvJ7vWUC4hrKAd6cv88YiDIgvDPCd/TQsonUbBVNECZUFIdzh85cv2Z
X-Google-Smtp-Source: AGHT+IFlaE41Gdw2UfPk1fTCn6BM/jYUrhIdGmta+KVRTQtw87+PoFHTh6lhKOseAiLsFWxJ5LvflM5X/Bca
X-Received: by 2002:a17:902:db07:b0:1dc:6b26:d1cd with SMTP id
 m7-20020a170902db0700b001dc6b26d1cdmr3605224plx.2.1709835076278; 
 Thu, 07 Mar 2024 10:11:16 -0800 (PST)
Received: from postal.iol.unh.edu (postal.iol.unh.edu.
 [2606:4100:3880:1234::84]) by smtp-relay.gmail.com with ESMTPS id
 y13-20020a1709027c8d00b001db81819d0dsm163741pll.49.2024.03.07.10.11.16
 (version=TLS1_2 cipher=ECDHE-ECDSA-AES128-GCM-SHA256 bits=128/128);
 Thu, 07 Mar 2024 10:11:16 -0800 (PST)
X-Relaying-Domain: iol.unh.edu
Date: Thu, 07 Mar 2024 10:11:16 -0800 (PST)
Message-ID: <65ea0344.170a0220.774c6.a4a2SMTPIN_ADDED_MISSING@mx.google.com>
Received: from [172.21.0.6] (unknown [172.18.0.240])
 by postal.iol.unh.edu (Postfix) with ESMTP id 79E5B6043484;
 Thu,  7 Mar 2024 13:11:15 -0500 (EST)
Subject: |SUCCESS| pw138105-138103 [PATCH] [v2,5/5] test/argparse: refine tes
From: dpdklab@iol.unh.edu
To: Test Report <test-report@dpdk.org>
Cc: dpdk-test-reports@iol.unh.edu
In-Reply-To: <20240307130742.5578-6-fengchengwen@huawei.com>
References: <20240307130742.5578-6-fengchengwen@huawei.com>
Content-Type: text/plain
X-BeenThere: test-report@dpdk.org
X-Mailman-Version: 2.1.29
Precedence: list
List-Id: automatic DPDK test reports <test-report.dpdk.org>
List-Unsubscribe: <https://mails.dpdk.org/options/test-report>,
 <mailto:test-report-request@dpdk.org?subject=unsubscribe>
List-Archive: <http://mails.dpdk.org/archives/test-report/>
List-Post: <mailto:test-report@dpdk.org>
List-Help: <mailto:test-report-request@dpdk.org?subject=help>
List-Subscribe: <https://mails.dpdk.org/listinfo/test-report>,
 <mailto:test-report-request@dpdk.org?subject=subscribe>
Errors-To: test-report-bounces@dpdk.org

Test-Label: iol-compile-amd64-testing
Test-Status: SUCCESS
http://dpdk.org/patch/138103

_Testing PASS_

Submitter: fengchengwen <fengchengwen@huawei.com>
Date: Thursday, March 07 2024 13:07:42 
DPDK git baseline: Repo:dpdk
  Branch: master
  CommitID:19082c1fac430c74bb4b1c101edd12d88928e7c2

138105-138103 --> testing pass

Test environment and result as below:

+---------------------+--------------------+----------------------+
|     Environment     | dpdk_meson_compile | dpdk_mingw64_compile |
+=====================+====================+======================+
| FreeBSD 13.2        | PASS               | SKIPPED              |
+---------------------+--------------------+----------------------+
| Windows Server 2022 | PASS               | SKIPPED              |
+---------------------+--------------------+----------------------+
| Windows Server 2019 | PASS               | PASS                 |
+---------------------+--------------------+----------------------+
| Debian Bullseye     | PASS               | SKIPPED              |
+---------------------+--------------------+----------------------+
| CentOS Stream 9     | PASS               | SKIPPED              |
+---------------------+--------------------+----------------------+
| Fedora 37           | PASS               | SKIPPED              |
+---------------------+--------------------+----------------------+
| Ubuntu 20.04        | PASS               | SKIPPED              |
+---------------------+--------------------+----------------------+
| RHEL8               | PASS               | SKIPPED              |
+---------------------+--------------------+----------------------+
| Debian 12 (arm)     | PASS               | SKIPPED              |
+---------------------+--------------------+----------------------+
| CentOS Stream 8     | PASS               | SKIPPED              |
+---------------------+--------------------+----------------------+
| Fedora 38           | PASS               | SKIPPED              |
+---------------------+--------------------+----------------------+


FreeBSD 13.2
	Kernel: 13.2
	Compiler: clang 11.3.0

Windows Server 2022
	Kernel: OS Build 20348.2031
	Compiler: MSVC VS-Preview

Windows Server 2019
	Kernel: 10.0
	Compiler: clang 14.0 and gcc 8.1.0 (MinGW)

Debian Bullseye
	Kernel: 5.4.0-122-generic
	Compiler: gcc 10.2.1-6

CentOS Stream 9
	Kernel: 4.18.0-240.10.1.el8_3.x86_64
	Compiler: gcc 11.3.1 20220421

Fedora 37
	Kernel: Depends on container host system
	Compiler: gcc 12.3.1

Ubuntu 20.04
	Kernel: 5.4.0-153-generic
	Compiler: gcc 9.4.0-1ubuntu1~20.04.1

RHEL8
	Kernel: 4.18.0-240.10.1.el8_3.x86_64
	Compiler: gcc 8.3.1 20191121 (Red Hat 8.3.1-5)

Debian 12 (arm)
	Kernel: Container Host Kernel
	Compiler: gcc 11

CentOS Stream 8
	Kernel: 4.18.0-240.10.1.el8_3.x86_64
	Compiler: gcc 8.4.1 20200928

Fedora 38
	Kernel: Depends on container host
	Compiler: clang 16.0.3

To view detailed results, visit:
https://lab.dpdk.org/results/dashboard/patchsets/29463/

UNH-IOL DPDK Community Lab

To manage your email subscriptions, visit: 
https://lab.dpdk.org/results/dashboard/preferences/subscriptions/