From mboxrd@z Thu Jan  1 00:00:00 1970
Return-Path: <test-report-bounces@dpdk.org>
Received: from mails.dpdk.org (mails.dpdk.org [217.70.189.124])
	by inbox.dpdk.org (Postfix) with ESMTP id 28EBE43C12
	for <public@inbox.dpdk.org>; Thu,  7 Mar 2024 19:20:36 +0100 (CET)
Received: from mails.dpdk.org (localhost [127.0.0.1])
	by mails.dpdk.org (Postfix) with ESMTP id 20C2F402BA;
	Thu,  7 Mar 2024 19:20:36 +0100 (CET)
Received: from mail-il1-f225.google.com (mail-il1-f225.google.com
 [209.85.166.225])
 by mails.dpdk.org (Postfix) with ESMTP id CF13840272
 for <test-report@dpdk.org>; Thu,  7 Mar 2024 19:20:34 +0100 (CET)
Received: by mail-il1-f225.google.com with SMTP id
 e9e14a558f8ab-365ff075e4bso4617485ab.1
 for <test-report@dpdk.org>; Thu, 07 Mar 2024 10:20:34 -0800 (PST)
DKIM-Signature: v=1; a=rsa-sha256; c=relaxed/relaxed;
 d=iol.unh.edu; s=unh-iol; t=1709835634; x=1710440434; darn=dpdk.org;
 h=references:in-reply-to:cc:to:from:subject:message-id:date:from:to
 :cc:subject:date:message-id:reply-to;
 bh=OUluqCeva/1zucNrHqMrgCLjSo68ZHFj5m1lE5X1H7E=;
 b=JtodkIwKinPMlARYM8pkR4O+sY0JVxeni0fU+bwFD0jttaa978Jvk9PKEw0WS2ug+A
 c2V/Aj/57j2/ch7Xyymy9EOFRzdO1cUvmnhSXqbdcawq4lJ2nhUb4RGK9izZE8eEUh2M
 o2n8lIeaNnYY/uv2D8r6fqcxDDSSrAWTLUVM4=
X-Google-DKIM-Signature: v=1; a=rsa-sha256; c=relaxed/relaxed;
 d=1e100.net; s=20230601; t=1709835634; x=1710440434;
 h=references:in-reply-to:cc:to:from:subject:message-id:date
 :x-gm-message-state:from:to:cc:subject:date:message-id:reply-to;
 bh=OUluqCeva/1zucNrHqMrgCLjSo68ZHFj5m1lE5X1H7E=;
 b=RlMFby/C2k6VboTWj0mBKPXB5yJOp3MpKW3dJVSYCJPASoCcJT7ETgcTL9F6SelXZa
 pcJCRb5ZB1KK9Ull6sEsJzSa6Joha6cAwX1S6bGNwRYBWwbuY+iC4ZXcyBst6WI2WC9n
 LQ82sXn48GgwVRhcNVewin4HU4DoTWFEoC/dyNFumh3tMMMFXlShHhWczBgNYhCDIdl4
 zKh9NDLBC6svkbjwccjLJMfTE1ZVzOSk5VWmuh4YmVi6zKdGBj5Wvu0yt1vwNtQgY1KG
 OiObdGTRByov0mScuRXShXogKt+Q8QbBWiN3zNVEt1NEbjNWpBwpcNZrHgkrHf0Vh3fm
 n1tg==
X-Gm-Message-State: AOJu0YwQCW4dN5Xyo1wG2iUW1UZWW1ASCbSnFOZ5/ji4+uqsw/woXqom
 x0xgxhitKdSufr5yXnUnUrK7gfvUN11IETz8P3UXoObJPCSUNjXdhDUOO6o6OOxGZ+doNQWzVw+
 5YdOX6PW/q0TZKJwhN4qGg7+2tcGlmh5WjXTYsOcbLz4rFHPOerw4w3o6
X-Google-Smtp-Source: AGHT+IHpkM05gZCJJ6kL/sreC2fvzgDv0kVXrynf2x7jNJPFSWEh/wO6VP0w3hd6xKE3LwDc9LLmDPKPyD+y
X-Received: by 2002:a05:6e02:1c03:b0:365:2732:8bb6 with SMTP id
 l3-20020a056e021c0300b0036527328bb6mr21066908ilh.11.1709835634260; 
 Thu, 07 Mar 2024 10:20:34 -0800 (PST)
Received: from postal.iol.unh.edu (postal.iol.unh.edu.
 [2606:4100:3880:1234::84]) by smtp-relay.gmail.com with ESMTPS id
 o7-20020a92d387000000b00364f27ae917sm829809ilo.78.2024.03.07.10.20.34
 (version=TLS1_2 cipher=ECDHE-ECDSA-AES128-GCM-SHA256 bits=128/128);
 Thu, 07 Mar 2024 10:20:34 -0800 (PST)
X-Relaying-Domain: iol.unh.edu
Date: Thu, 07 Mar 2024 10:20:34 -0800 (PST)
Message-ID: <65ea0572.920a0220.5b7b7.5e26SMTPIN_ADDED_MISSING@mx.google.com>
Received: from [172.21.0.12] (unknown [172.18.0.240])
 by postal.iol.unh.edu (Postfix) with ESMTP id C98496043484;
 Thu,  7 Mar 2024 13:20:33 -0500 (EST)
Subject: |SUCCESS| pw138105-138103 [PATCH] [v2,5/5] test/argparse: refine tes
From: dpdklab@iol.unh.edu
To: Test Report <test-report@dpdk.org>
Cc: dpdk-test-reports@iol.unh.edu
In-Reply-To: <20240307130742.5578-6-fengchengwen@huawei.com>
References: <20240307130742.5578-6-fengchengwen@huawei.com>
Content-Type: text/plain
X-BeenThere: test-report@dpdk.org
X-Mailman-Version: 2.1.29
Precedence: list
List-Id: automatic DPDK test reports <test-report.dpdk.org>
List-Unsubscribe: <https://mails.dpdk.org/options/test-report>,
 <mailto:test-report-request@dpdk.org?subject=unsubscribe>
List-Archive: <http://mails.dpdk.org/archives/test-report/>
List-Post: <mailto:test-report@dpdk.org>
List-Help: <mailto:test-report-request@dpdk.org?subject=help>
List-Subscribe: <https://mails.dpdk.org/listinfo/test-report>,
 <mailto:test-report-request@dpdk.org?subject=subscribe>
Errors-To: test-report-bounces@dpdk.org

Test-Label: iol-unit-amd64-testing
Test-Status: SUCCESS
http://dpdk.org/patch/138103

_Testing PASS_

Submitter: fengchengwen <fengchengwen@huawei.com>
Date: Thursday, March 07 2024 13:07:42 
DPDK git baseline: Repo:dpdk
  Branch: master
  CommitID:19082c1fac430c74bb4b1c101edd12d88928e7c2

138105-138103 --> testing pass

Test environment and result as below:

+------------------+----------------+
|   Environment    | dpdk_unit_test |
+==================+================+
| CentOS Stream 8  | PASS           |
+------------------+----------------+
| Debian Bullseye  | PASS           |
+------------------+----------------+
| Debian 12 (arm)  | PASS           |
+------------------+----------------+
| Fedora 37        | PASS           |
+------------------+----------------+
| Fedora 38        | PASS           |
+------------------+----------------+
| openSUSE Leap 15 | PASS           |
+------------------+----------------+
| RHEL8            | PASS           |
+------------------+----------------+
| CentOS Stream 9  | PASS           |
+------------------+----------------+
| Ubuntu 22.04     | PASS           |
+------------------+----------------+
| Ubuntu 20.04     | PASS           |
+------------------+----------------+


CentOS Stream 8
	Kernel: 4.18.0-240.10.1.el8_3.x86_64
	Compiler: gcc 8.4.1 20200928

Debian Bullseye
	Kernel: 5.4.0-122-generic
	Compiler: gcc 10.2.1-6

Debian 12 (arm)
	Kernel: Container Host Kernel
	Compiler: gcc 11

Fedora 37
	Kernel: Depends on container host system
	Compiler: gcc 12.3.1

Fedora 38
	Kernel: Depends on container host
	Compiler: gcc 13.1.1

openSUSE Leap 15
	Kernel: 4.18.0-240.10.1.el8_3.x86_64
	Compiler: gcc 7.5.0

RHEL8
	Kernel: 4.18.0-240.10.1.el8_3.x86_64
	Compiler: gcc 8.3.1 20191121 (Red Hat 8.3.1-5)

CentOS Stream 9
	Kernel: 4.18.0-240.10.1.el8_3.x86_64
	Compiler: gcc 11.3.1 20220421

Ubuntu 22.04
	Kernel: 4.18.0-240.10.1.el8_3.x86_64
	Compiler: gcc 11.3.0

Ubuntu 20.04
	Kernel: 5.4.0-153-generic
	Compiler: gcc 9.4.0-1ubuntu1~20.04.1

To view detailed results, visit:
https://lab.dpdk.org/results/dashboard/patchsets/29463/

UNH-IOL DPDK Community Lab

To manage your email subscriptions, visit: 
https://lab.dpdk.org/results/dashboard/preferences/subscriptions/