From mboxrd@z Thu Jan  1 00:00:00 1970
Return-Path: <test-report-bounces@dpdk.org>
Received: from mails.dpdk.org (mails.dpdk.org [217.70.189.124])
	by inbox.dpdk.org (Postfix) with ESMTP id 0A7BD43C12
	for <public@inbox.dpdk.org>; Thu,  7 Mar 2024 19:32:10 +0100 (CET)
Received: from mails.dpdk.org (localhost [127.0.0.1])
	by mails.dpdk.org (Postfix) with ESMTP id 060B3402BA;
	Thu,  7 Mar 2024 19:32:10 +0100 (CET)
Received: from mail-io1-f100.google.com (mail-io1-f100.google.com
 [209.85.166.100])
 by mails.dpdk.org (Postfix) with ESMTP id 6346740272
 for <test-report@dpdk.org>; Thu,  7 Mar 2024 19:32:09 +0100 (CET)
Received: by mail-io1-f100.google.com with SMTP id
 ca18e2360f4ac-7c86a12a2a1so42117839f.1
 for <test-report@dpdk.org>; Thu, 07 Mar 2024 10:32:09 -0800 (PST)
DKIM-Signature: v=1; a=rsa-sha256; c=relaxed/relaxed;
 d=iol.unh.edu; s=unh-iol; t=1709836329; x=1710441129; darn=dpdk.org;
 h=references:in-reply-to:cc:to:from:subject:message-id:date:from:to
 :cc:subject:date:message-id:reply-to;
 bh=Pl3ikabRNYDK4IeO2FloKZoBc4PLBUivqcaLevfx02E=;
 b=R4zjhW2xYj8CuzxuyOMxvHoTWj5nAvHXkVPm7ddSuwYExwlFpmjdjPySw8agQkqJEo
 UeDFkO5ACW497Sqaj+37BpSMchQbUTf9Zy4eshv1b/T4asXVDWt1Gk4mH+gaAjdF9ZVP
 V3Tkxc81Nu0nC7E1l/ALpfAB+XTzcVvf955rA=
X-Google-DKIM-Signature: v=1; a=rsa-sha256; c=relaxed/relaxed;
 d=1e100.net; s=20230601; t=1709836329; x=1710441129;
 h=references:in-reply-to:cc:to:from:subject:message-id:date
 :x-gm-message-state:from:to:cc:subject:date:message-id:reply-to;
 bh=Pl3ikabRNYDK4IeO2FloKZoBc4PLBUivqcaLevfx02E=;
 b=T2AOojbZxurPiNiuHmv5OIsgjPAgrMGCUu2XcMMEq1dhZ083LxL/SnkyU07rrDI4Ee
 4czSPBynfczB7RF3Yz7v1HT8SjUfm58rf8ejIecTUcRE1WGFHe8wG5+DAfMbJGFADKdx
 ZaUT8gUCS59FsYzoY8cm/NrZOV0IDoRDFj1x13giXb8ZGRO+keVMS4gD9D9lSk/Da46x
 q5T9amAGXX8EblDEqNsxKnh6xECmQpGjCmjFbU+Fh9mBc+2k+M9zp6HbS/RVek0kirRt
 DmFz/sWxcWKVQarMjTfXKGz/M/hBqH74mLaBp1fRvirf07PNGkjEGHXrUPiaoSjOb77b
 RHMw==
X-Gm-Message-State: AOJu0YyB9XmIPuYZVhlOpElMU6+7yYlPqyQMUGpcx3+r8X5cbSTDk6Kw
 cJ8AqGOErrrRLVkIhLHOqGJPb08HUiEk/8ERBYjX/BxpupZswRZmUOt6ue2hqZtBa2MmVOuFG4f
 umjdOGKKu7U3DHRHn8Pz77nDHmTUDKRKTsArSACtl
X-Google-Smtp-Source: AGHT+IG2zhLGAF2NARORBDWQNfYzKB+S3BYV0mthrLfGNIQ2sp54GdcY/ZHnRrCvf460buzsbu8Fou9eNZ+j
X-Received: by 2002:a6b:6816:0:b0:7c8:3d06:5a3 with SMTP id
 d22-20020a6b6816000000b007c83d0605a3mr17156693ioc.9.1709836328837; 
 Thu, 07 Mar 2024 10:32:08 -0800 (PST)
Received: from postal.iol.unh.edu (postal.iol.unh.edu. [132.177.123.84])
 by smtp-relay.gmail.com with ESMTPS id
 ee24-20020a056638293800b004744c3ba6easm537876jab.12.2024.03.07.10.32.08
 (version=TLS1_2 cipher=ECDHE-ECDSA-AES128-GCM-SHA256 bits=128/128);
 Thu, 07 Mar 2024 10:32:08 -0800 (PST)
X-Relaying-Domain: iol.unh.edu
Date: Thu, 07 Mar 2024 10:32:08 -0800 (PST)
Message-ID: <65ea0828.050a0220.ba4e8.f716SMTPIN_ADDED_MISSING@mx.google.com>
Received: from [172.21.0.6] (unknown [172.18.0.240])
 by postal.iol.unh.edu (Postfix) with ESMTP id 636566043484;
 Thu,  7 Mar 2024 13:32:08 -0500 (EST)
Subject: |SUCCESS| pw138105-138103 [PATCH] [v2,5/5] test/argparse: refine tes
From: dpdklab@iol.unh.edu
To: Test Report <test-report@dpdk.org>
Cc: dpdk-test-reports@iol.unh.edu
In-Reply-To: <20240307130742.5578-6-fengchengwen@huawei.com>
References: <20240307130742.5578-6-fengchengwen@huawei.com>
Content-Type: text/plain
X-BeenThere: test-report@dpdk.org
X-Mailman-Version: 2.1.29
Precedence: list
List-Id: automatic DPDK test reports <test-report.dpdk.org>
List-Unsubscribe: <https://mails.dpdk.org/options/test-report>,
 <mailto:test-report-request@dpdk.org?subject=unsubscribe>
List-Archive: <http://mails.dpdk.org/archives/test-report/>
List-Post: <mailto:test-report@dpdk.org>
List-Help: <mailto:test-report-request@dpdk.org?subject=help>
List-Subscribe: <https://mails.dpdk.org/listinfo/test-report>,
 <mailto:test-report-request@dpdk.org?subject=subscribe>
Errors-To: test-report-bounces@dpdk.org

Test-Label: iol-compile-amd64-testing
Test-Status: SUCCESS
http://dpdk.org/patch/138103

_Testing PASS_

Submitter: fengchengwen <fengchengwen@huawei.com>
Date: Thursday, March 07 2024 13:07:42 
DPDK git baseline: Repo:dpdk
  Branch: master
  CommitID:19082c1fac430c74bb4b1c101edd12d88928e7c2

138105-138103 --> testing pass

Test environment and result as below:

+---------------------+--------------------+----------------------+
|     Environment     | dpdk_meson_compile | dpdk_mingw64_compile |
+=====================+====================+======================+
| FreeBSD 13.2        | PASS               | SKIPPED              |
+---------------------+--------------------+----------------------+
| Windows Server 2022 | PASS               | SKIPPED              |
+---------------------+--------------------+----------------------+
| Windows Server 2019 | PASS               | PASS                 |
+---------------------+--------------------+----------------------+
| Debian Bullseye     | PASS               | SKIPPED              |
+---------------------+--------------------+----------------------+
| CentOS Stream 9     | PASS               | SKIPPED              |
+---------------------+--------------------+----------------------+
| Fedora 37           | PASS               | SKIPPED              |
+---------------------+--------------------+----------------------+
| Ubuntu 20.04        | PASS               | SKIPPED              |
+---------------------+--------------------+----------------------+
| RHEL8               | PASS               | SKIPPED              |
+---------------------+--------------------+----------------------+
| Debian 12 (arm)     | PASS               | SKIPPED              |
+---------------------+--------------------+----------------------+
| CentOS Stream 8     | PASS               | SKIPPED              |
+---------------------+--------------------+----------------------+
| Fedora 38           | PASS               | SKIPPED              |
+---------------------+--------------------+----------------------+
| openSUSE Leap 15    | PASS               | SKIPPED              |
+---------------------+--------------------+----------------------+
| Alpine              | PASS               | SKIPPED              |
+---------------------+--------------------+----------------------+
| Ubuntu 22.04        | PASS               | SKIPPED              |
+---------------------+--------------------+----------------------+


FreeBSD 13.2
	Kernel: 13.2
	Compiler: clang 11.3.0

Windows Server 2022
	Kernel: OS Build 20348.2031
	Compiler: MSVC VS-Preview

Windows Server 2019
	Kernel: 10.0
	Compiler: clang 14.0 and gcc 8.1.0 (MinGW)

Debian Bullseye
	Kernel: 5.4.0-122-generic
	Compiler: gcc 10.2.1-6

CentOS Stream 9
	Kernel: 4.18.0-240.10.1.el8_3.x86_64
	Compiler: gcc 11.3.1 20220421

Fedora 37
	Kernel: Depends on container host system
	Compiler: gcc 12.3.1

Ubuntu 20.04
	Kernel: 5.4.0-153-generic
	Compiler: gcc 9.4.0-1ubuntu1~20.04.1

RHEL8
	Kernel: 4.18.0-240.10.1.el8_3.x86_64
	Compiler: gcc 8.3.1 20191121 (Red Hat 8.3.1-5)

Debian 12 (arm)
	Kernel: Container Host Kernel
	Compiler: gcc 11

CentOS Stream 8
	Kernel: 4.18.0-240.10.1.el8_3.x86_64
	Compiler: gcc 8.4.1 20200928

Fedora 38
	Kernel: Depends on container host
	Compiler: clang 16.0.3

openSUSE Leap 15
	Kernel: 4.18.0-240.10.1.el8_3.x86_64
	Compiler: gcc 7.5.0

Alpine
	Kernel: 5.4.0-73-generic
	Compiler: gcc (Alpine 10.3.1_git20210424) 10.3.1 20210424

Ubuntu 22.04
	Kernel: 4.18.0-240.10.1.el8_3.x86_64
	Compiler: gcc 11.3.0

To view detailed results, visit:
https://lab.dpdk.org/results/dashboard/patchsets/29463/

UNH-IOL DPDK Community Lab

To manage your email subscriptions, visit: 
https://lab.dpdk.org/results/dashboard/preferences/subscriptions/