From mboxrd@z Thu Jan  1 00:00:00 1970
Return-Path: <test-report-bounces@dpdk.org>
Received: from mails.dpdk.org (mails.dpdk.org [217.70.189.124])
	by inbox.dpdk.org (Postfix) with ESMTP id 9DB0643C27
	for <public@inbox.dpdk.org>; Thu,  7 Mar 2024 22:30:30 +0100 (CET)
Received: from mails.dpdk.org (localhost [127.0.0.1])
	by mails.dpdk.org (Postfix) with ESMTP id 9A040402A3;
	Thu,  7 Mar 2024 22:30:30 +0100 (CET)
Received: from mail-vk1-f228.google.com (mail-vk1-f228.google.com
 [209.85.221.228])
 by mails.dpdk.org (Postfix) with ESMTP id 011B540284
 for <test-report@dpdk.org>; Thu,  7 Mar 2024 22:30:29 +0100 (CET)
Received: by mail-vk1-f228.google.com with SMTP id
 71dfb90a1353d-4d33b077ec9so364128e0c.0
 for <test-report@dpdk.org>; Thu, 07 Mar 2024 13:30:28 -0800 (PST)
DKIM-Signature: v=1; a=rsa-sha256; c=relaxed/relaxed;
 d=iol.unh.edu; s=unh-iol; t=1709847028; x=1710451828; darn=dpdk.org;
 h=references:in-reply-to:cc:to:from:subject:message-id:date:from:to
 :cc:subject:date:message-id:reply-to;
 bh=Yk2or9S1qxvDcO3+/NJjVrrVoMREl3XhsyBVT85tVGk=;
 b=MXLIyTkWGcSPbGyg3WGKoRxp5lUKUVFhkFzCeQar2ACnPA4Vaa5U3RPsokZafj/OA2
 FF1szIJOsZFaLZzoa0MM6hWjB7G9NSVmumX3sKL+Yo/zybcTU/6Xb8PXLkhxkjMU9TbP
 xBDOJJByp5du/pVlBQLtkeVIvOeCtm7M4U9Ec=
X-Google-DKIM-Signature: v=1; a=rsa-sha256; c=relaxed/relaxed;
 d=1e100.net; s=20230601; t=1709847028; x=1710451828;
 h=references:in-reply-to:cc:to:from:subject:message-id:date
 :x-gm-message-state:from:to:cc:subject:date:message-id:reply-to;
 bh=Yk2or9S1qxvDcO3+/NJjVrrVoMREl3XhsyBVT85tVGk=;
 b=uW7HtFllATY9IDsg5sbLl7SG7b1yv648mJMThHSl8ii99XqVdtb3Xqz5IDzX3O/W8s
 81k9wkAycfkIj/EgNhZ+glQippMP5uj/aKbm8SSpN33gC2mURcn2NxytD5CT23M45q0t
 FNoISv3ofDK0TzwGBn99HYcnucDrDnH9rRIx2xb8xBq58tOl62Ugg88TXk1RwEhfIa7k
 FxOORDniUPkXLcTKvGRX9pL4NfxXfILNpW8umyCwgLzFInb29oP2ip32lofV92KVQh1c
 rMj2XLyrxzjqS8QIwXfrsXD5RxTGv3HO9gxe4qdo96DebHqaTazjokNiNxQKJFXd2gYB
 vW8A==
X-Gm-Message-State: AOJu0YyaO8uSlvWKeYWQIn93PAl2ubJMABOA/2NjwniywpacYyBrN7QE
 LBWgVxtQQDR9Lo31K1yu4gZaX8db8gX1kXZHlHjQHop5A0Yjm0cPX8tRfKg5t6cdsZtZu/I8mB9
 dD8IfLxmkWakkTv6TozeQBTf+YGbLyNahiSyGcYZC
X-Google-Smtp-Source: AGHT+IEAJUu3T0D7RfpxvNBfo7v5LT3k1iDbX15SXSFMcuaD76JmPVcOkLsAnlDz/qTRZ0ig4eiqVP9faPST
X-Received: by 2002:a05:6122:985:b0:4d1:3f59:5c79 with SMTP id
 g5-20020a056122098500b004d13f595c79mr9757607vkd.15.1709847028445; 
 Thu, 07 Mar 2024 13:30:28 -0800 (PST)
Received: from postal.iol.unh.edu (postal.iol.unh.edu. [132.177.123.84])
 by smtp-relay.gmail.com with ESMTPS id
 o123-20020a1f7381000000b004cbf532b73dsm1453298vkc.11.2024.03.07.13.30.28
 (version=TLS1_2 cipher=ECDHE-ECDSA-AES128-GCM-SHA256 bits=128/128);
 Thu, 07 Mar 2024 13:30:28 -0800 (PST)
X-Relaying-Domain: iol.unh.edu
Date: Thu, 07 Mar 2024 13:30:28 -0800 (PST)
Message-ID: <65ea31f4.1f0a0220.8649b.5c89SMTPIN_ADDED_MISSING@mx.google.com>
Received: from [172.17.0.7] (unknown [172.18.0.217])
 by postal.iol.unh.edu (Postfix) with ESMTP id 220AA6052712;
 Thu,  7 Mar 2024 16:30:28 -0500 (EST)
Subject: |SUCCESS| pw138105-138103 [PATCH] [v2,5/5] test/argparse: refine tes
From: dpdklab@iol.unh.edu
To: Test Report <test-report@dpdk.org>
Cc: dpdk-test-reports@iol.unh.edu
In-Reply-To: <20240307130742.5578-6-fengchengwen@huawei.com>
References: <20240307130742.5578-6-fengchengwen@huawei.com>
Content-Type: text/plain
X-BeenThere: test-report@dpdk.org
X-Mailman-Version: 2.1.29
Precedence: list
List-Id: automatic DPDK test reports <test-report.dpdk.org>
List-Unsubscribe: <https://mails.dpdk.org/options/test-report>,
 <mailto:test-report-request@dpdk.org?subject=unsubscribe>
List-Archive: <http://mails.dpdk.org/archives/test-report/>
List-Post: <mailto:test-report@dpdk.org>
List-Help: <mailto:test-report-request@dpdk.org?subject=help>
List-Subscribe: <https://mails.dpdk.org/listinfo/test-report>,
 <mailto:test-report-request@dpdk.org?subject=subscribe>
Errors-To: test-report-bounces@dpdk.org

Test-Label: iol-compile-arm64-testing
Test-Status: SUCCESS
http://dpdk.org/patch/138103

_Testing PASS_

Submitter: fengchengwen <fengchengwen@huawei.com>
Date: Thursday, March 07 2024 13:07:42 
DPDK git baseline: Repo:dpdk
  Branch: master
  CommitID:19082c1fac430c74bb4b1c101edd12d88928e7c2

138105-138103 --> testing pass

Test environment and result as below:

+----------------------------------------+--------------------+
|              Environment               | dpdk_meson_compile |
+========================================+====================+
| Ubuntu 20.04 ARM SVE                   | PASS               |
+----------------------------------------+--------------------+
| Fedora 38 (ARM)                        | PASS               |
+----------------------------------------+--------------------+
| Fedora 37 (ARM)                        | PASS               |
+----------------------------------------+--------------------+
| Debian 12 (arm)                        | PASS               |
+----------------------------------------+--------------------+
| Ubuntu 20.04 (ARM)                     | PASS               |
+----------------------------------------+--------------------+
| Debian 11 (Buster) (ARM)               | PASS               |
+----------------------------------------+--------------------+
| CentOS Stream 9 (ARM)                  | PASS               |
+----------------------------------------+--------------------+
| Ubuntu 20.04 aarch32 GCC Cross Compile | PASS               |
+----------------------------------------+--------------------+
| Ubuntu 20.04 ARM GCC Cross Compile     | PASS               |
+----------------------------------------+--------------------+
| Ubuntu 20.04 ARM Clang Cross Compile   | PASS               |
+----------------------------------------+--------------------+
| Debian 12 (Bookworm)                   | PASS               |
+----------------------------------------+--------------------+
| Fedora 38 (ARM Clang)                  | PASS               |
+----------------------------------------+--------------------+


Ubuntu 20.04 ARM SVE
	Kernel: 5.4.0-80-generic
	Compiler: gcc 10.3.0 (Ubuntu 10.3.0-1ubuntu1~20.04)

Fedora 38 (ARM)
	Kernel: Depends on container host
	Compiler: gcc 13.1.1

Fedora 37 (ARM)
	Kernel: Depends on container host
	Compiler: gcc 12.3.1

Debian 12 (arm)
	Kernel: Container Host Kernel
	Compiler: gcc 11

Ubuntu 20.04 (ARM)
	Kernel: Container Host Kernel
	Compiler: gcc 9.4.0

Debian 11 (Buster) (ARM)
	Kernel: Container Host Kernel
	Compiler: gcc 10.2.1

CentOS Stream 9 (ARM)
	Kernel: Container Host Kernel
	Compiler: gcc 11.3.1

Ubuntu 20.04 aarch32 GCC Cross Compile
	Kernel: 5.4.0-72-generic
	Compiler: gcc 9.3.0

Ubuntu 20.04 ARM GCC Cross Compile
	Kernel: 5.4.0-72-generic
	Compiler: aarch64-linux-gnu-gcc (Ubuntu 9.3.0-17ubuntu1~20.04) 9.3.0

Ubuntu 20.04 ARM Clang Cross Compile
	Kernel: 5.4.0-72-generic
	Compiler: clang version 10.0.0-4ubuntu1

Debian 12 (Bookworm)
	Kernel: Container Host Kernel
	Compiler: gcc 12

Fedora 38 (ARM Clang)
	Kernel: Depends on container host
	Compiler: clang 16.0.3

To view detailed results, visit:
https://lab.dpdk.org/results/dashboard/patchsets/29463/

UNH-IOL DPDK Community Lab

To manage your email subscriptions, visit: 
https://lab.dpdk.org/results/dashboard/preferences/subscriptions/