From mboxrd@z Thu Jan  1 00:00:00 1970
Return-Path: <test-report-bounces@dpdk.org>
Received: from mails.dpdk.org (mails.dpdk.org [217.70.189.124])
	by inbox.dpdk.org (Postfix) with ESMTP id DAC3243829
	for <public@inbox.dpdk.org>; Fri,  8 Mar 2024 16:42:24 +0100 (CET)
Received: from mails.dpdk.org (localhost [127.0.0.1])
	by mails.dpdk.org (Postfix) with ESMTP id D6E4240A76;
	Fri,  8 Mar 2024 16:42:24 +0100 (CET)
Received: from mail-oo1-f99.google.com (mail-oo1-f99.google.com
 [209.85.161.99]) by mails.dpdk.org (Postfix) with ESMTP id AEE5E40291
 for <test-report@dpdk.org>; Fri,  8 Mar 2024 16:42:23 +0100 (CET)
Received: by mail-oo1-f99.google.com with SMTP id
 006d021491bc7-5a1bd83d55dso425324eaf.2
 for <test-report@dpdk.org>; Fri, 08 Mar 2024 07:42:23 -0800 (PST)
DKIM-Signature: v=1; a=rsa-sha256; c=relaxed/relaxed;
 d=iol.unh.edu; s=unh-iol; t=1709912543; x=1710517343; darn=dpdk.org;
 h=references:in-reply-to:cc:to:from:subject:message-id:date:from:to
 :cc:subject:date:message-id:reply-to;
 bh=IkZPWRMgJ15h4FPbrRoD07EKfyayXky6+cqYvnJe3/A=;
 b=LGN9mx0YTbnT2oEV4yl5eEOf9VGhP6BGIPKCEWsQRL9xeATjbf6hBw9ObI3g/iqq/T
 jr4SUBalpTXFaRjbuup/WgdL7rGujwmZ54iJ7xnOTeATqWmFdzXwN3lP1mSJbGUbKITG
 kZGfaRVpV2pGJ0oSs1uQ/wBGtgd0mcmnhybvQ=
X-Google-DKIM-Signature: v=1; a=rsa-sha256; c=relaxed/relaxed;
 d=1e100.net; s=20230601; t=1709912543; x=1710517343;
 h=references:in-reply-to:cc:to:from:subject:message-id:date
 :x-gm-message-state:from:to:cc:subject:date:message-id:reply-to;
 bh=IkZPWRMgJ15h4FPbrRoD07EKfyayXky6+cqYvnJe3/A=;
 b=JgTXBYdAb8WRGOFzudaM3D86DSHFlFOlS5UtX9shKjAbBE+6wgH5UWedOAjdBvCTj4
 bYNy0HJfB2qTzb7kKrh1nYZBExYOW43n29roGlWPH42Bpi+CkryUJNiludUpLAXgOA8G
 Zr1mXYZIa10GMSj+eC1BiZdpBnXPas9SuY+1Lr7OFWUo5tkU2rza0TStSRbtQ0IE6E6P
 GiE2WAQ7fZHXrDC+AoWQeKzeQgL6Bvwt8vMDrYIylsUzmfA+7aBsR7Npx5twfkQlGTKO
 BZyQiGdLel2QIZQvTmD9qa6JLLbg/tDw35URYu0MC8ZVatjBEBDd6MQdZUSV+eV/SdLC
 X4CQ==
X-Gm-Message-State: AOJu0YymMn2XoUqgj0bWblJxOd0jqzZDmX5lqVHauB6ZilK/Ot5iRz19
 ZVqyAO4SVJXBfT3gAdSiLT99sgKPB5STOGeZN62O/1RI0r6uceNHSOFeEqJpZjEB5XI4M42cNWv
 wblsM577qKwWATyGGx/vdcLoju9dUf96XXK5wEmOFBVwBrTXmxFg7nn/w
X-Google-Smtp-Source: AGHT+IH9xuIl/aUqW54hQtR0ftP6FQCWhSwJ74XOiRpdQf6U/mrEJ7Ce36UVAvmc1sxhyt8YO6TGCz3i3rf6
X-Received: by 2002:a05:6358:6f0e:b0:17c:1da1:aa8f with SMTP id
 r14-20020a0563586f0e00b0017c1da1aa8fmr12430261rwn.24.1709912542993; 
 Fri, 08 Mar 2024 07:42:22 -0800 (PST)
Received: from postal.iol.unh.edu (postal.iol.unh.edu.
 [2606:4100:3880:1234::84]) by smtp-relay.gmail.com with ESMTPS id
 kk23-20020a056214509700b0068ce579c96fsm964713qvb.54.2024.03.08.07.42.22
 (version=TLS1_2 cipher=ECDHE-ECDSA-AES128-GCM-SHA256 bits=128/128);
 Fri, 08 Mar 2024 07:42:22 -0800 (PST)
X-Relaying-Domain: iol.unh.edu
Date: Fri, 08 Mar 2024 07:42:22 -0800 (PST)
Message-ID: <65eb31de.050a0220.90455.e05eSMTPIN_ADDED_MISSING@mx.google.com>
Received: from [172.21.0.6] (unknown [172.18.0.240])
 by postal.iol.unh.edu (Postfix) with ESMTP id A9F886043300;
 Fri,  8 Mar 2024 10:42:22 -0500 (EST)
Subject: |SUCCESS| pw138124-138127 [PATCH] [4/4] app/testpmd: enhance getopt_
From: dpdklab@iol.unh.edu
To: Test Report <test-report@dpdk.org>
Cc: dpdk-test-reports@iol.unh.edu
In-Reply-To: <20240308144841.3615262-5-david.marchand@redhat.com>
References: <20240308144841.3615262-5-david.marchand@redhat.com>
Content-Type: text/plain
X-BeenThere: test-report@dpdk.org
X-Mailman-Version: 2.1.29
Precedence: list
List-Id: automatic DPDK test reports <test-report.dpdk.org>
List-Unsubscribe: <https://mails.dpdk.org/options/test-report>,
 <mailto:test-report-request@dpdk.org?subject=unsubscribe>
List-Archive: <http://mails.dpdk.org/archives/test-report/>
List-Post: <mailto:test-report@dpdk.org>
List-Help: <mailto:test-report-request@dpdk.org?subject=help>
List-Subscribe: <https://mails.dpdk.org/listinfo/test-report>,
 <mailto:test-report-request@dpdk.org?subject=subscribe>
Errors-To: test-report-bounces@dpdk.org

Test-Label: iol-compile-amd64-testing
Test-Status: SUCCESS
http://dpdk.org/patch/138127

_Testing PASS_

Submitter: David Marchand <david.marchand@redhat.com>
Date: Friday, March 08 2024 14:48:41 
DPDK git baseline: Repo:dpdk
  Branch: master
  CommitID:a86f381b826660e88794754c41d3aec79ce9b87c

138124-138127 --> testing pass

Test environment and result as below:

+---------------------+--------------------+----------------------+
|     Environment     | dpdk_meson_compile | dpdk_mingw64_compile |
+=====================+====================+======================+
| Windows Server 2022 | PASS               | SKIPPED              |
+---------------------+--------------------+----------------------+
| CentOS Stream 8     | PASS               | SKIPPED              |
+---------------------+--------------------+----------------------+
| FreeBSD 13.2        | PASS               | SKIPPED              |
+---------------------+--------------------+----------------------+
| CentOS Stream 9     | PASS               | SKIPPED              |
+---------------------+--------------------+----------------------+
| Debian 12 (arm)     | PASS               | SKIPPED              |
+---------------------+--------------------+----------------------+
| Debian Bullseye     | PASS               | SKIPPED              |
+---------------------+--------------------+----------------------+
| Fedora 37           | PASS               | SKIPPED              |
+---------------------+--------------------+----------------------+
| Fedora 38           | PASS               | SKIPPED              |
+---------------------+--------------------+----------------------+
| RHEL8               | PASS               | SKIPPED              |
+---------------------+--------------------+----------------------+
| openSUSE Leap 15    | PASS               | SKIPPED              |
+---------------------+--------------------+----------------------+
| Windows Server 2019 | PASS               | PASS                 |
+---------------------+--------------------+----------------------+
| Ubuntu 22.04        | PASS               | SKIPPED              |
+---------------------+--------------------+----------------------+
| Alpine              | PASS               | SKIPPED              |
+---------------------+--------------------+----------------------+


Windows Server 2022
	Kernel: OS Build 20348.2031
	Compiler: MSVC VS-Preview

CentOS Stream 8
	Kernel: 4.18.0-240.10.1.el8_3.x86_64
	Compiler: gcc 8.4.1 20200928

FreeBSD 13.2
	Kernel: 13.2
	Compiler: clang 11.3.0

CentOS Stream 9
	Kernel: 4.18.0-240.10.1.el8_3.x86_64
	Compiler: gcc 11.3.1 20220421

Debian 12 (arm)
	Kernel: Container Host Kernel
	Compiler: gcc 11

Debian Bullseye
	Kernel: 5.4.0-122-generic
	Compiler: gcc 10.2.1-6

Fedora 37
	Kernel: Depends on container host system
	Compiler: gcc 12.3.1

Fedora 38
	Kernel: Depends on container host
	Compiler: gcc 13.1.1

RHEL8
	Kernel: 4.18.0-240.10.1.el8_3.x86_64
	Compiler: gcc 8.3.1 20191121 (Red Hat 8.3.1-5)

openSUSE Leap 15
	Kernel: 4.18.0-240.10.1.el8_3.x86_64
	Compiler: gcc 7.5.0

Windows Server 2019
	Kernel: 10.0
	Compiler: clang 14.0 and gcc 8.1.0 (MinGW)

Ubuntu 22.04
	Kernel: 4.18.0-240.10.1.el8_3.x86_64
	Compiler: gcc 11.3.0

Alpine
	Kernel: 5.4.0-73-generic
	Compiler: gcc (Alpine 10.3.1_git20210424) 10.3.1 20210424

To view detailed results, visit:
https://lab.dpdk.org/results/dashboard/patchsets/29479/

UNH-IOL DPDK Community Lab

To manage your email subscriptions, visit: 
https://lab.dpdk.org/results/dashboard/preferences/subscriptions/