From mboxrd@z Thu Jan  1 00:00:00 1970
Return-Path: <test-report-bounces@dpdk.org>
Received: from mails.dpdk.org (mails.dpdk.org [217.70.189.124])
	by inbox.dpdk.org (Postfix) with ESMTP id 75E2443BC7
	for <public@inbox.dpdk.org>; Fri,  8 Mar 2024 16:44:17 +0100 (CET)
Received: from mails.dpdk.org (localhost [127.0.0.1])
	by mails.dpdk.org (Postfix) with ESMTP id 7218B40A76;
	Fri,  8 Mar 2024 16:44:17 +0100 (CET)
Received: from mail-il1-f227.google.com (mail-il1-f227.google.com
 [209.85.166.227])
 by mails.dpdk.org (Postfix) with ESMTP id 4619540291
 for <test-report@dpdk.org>; Fri,  8 Mar 2024 16:44:16 +0100 (CET)
Received: by mail-il1-f227.google.com with SMTP id
 e9e14a558f8ab-36621f4f786so2947145ab.1
 for <test-report@dpdk.org>; Fri, 08 Mar 2024 07:44:16 -0800 (PST)
DKIM-Signature: v=1; a=rsa-sha256; c=relaxed/relaxed;
 d=iol.unh.edu; s=unh-iol; t=1709912655; x=1710517455; darn=dpdk.org;
 h=references:in-reply-to:cc:to:from:subject:message-id:date:from:to
 :cc:subject:date:message-id:reply-to;
 bh=IkZPWRMgJ15h4FPbrRoD07EKfyayXky6+cqYvnJe3/A=;
 b=cjvo6fKL8wTBHLucD20rj/6NapMLMTChqXJ7xIPMdlChpP93shE9wdlhJe2CUiIxBh
 EdrRyIWNSl9brgMkqA0SGsMxxb5ytMtFoJD+eCqwgybogT3DDhDQRTPzgPvgiW/JNUrq
 S4mxdZo6pH8TuxhKht55Ng4Xftkg5CPMKK/uo=
X-Google-DKIM-Signature: v=1; a=rsa-sha256; c=relaxed/relaxed;
 d=1e100.net; s=20230601; t=1709912655; x=1710517455;
 h=references:in-reply-to:cc:to:from:subject:message-id:date
 :x-gm-message-state:from:to:cc:subject:date:message-id:reply-to;
 bh=IkZPWRMgJ15h4FPbrRoD07EKfyayXky6+cqYvnJe3/A=;
 b=F5j3s9WTVdaGt+84oK2tjW588Ru4Lr3BSEC611/xlMyJRVd/5PZ3O+5zp97QlvbjLT
 dyNt1zv6SSNP5hCwyYeXPY1wJcinH3xutMcuc+NsKSSMhCxOIc7+W5daPtt5uOWqcdjV
 aF7uVPlvlgjPlC8NKTvVoUbaayWvBeGq1CMTcxipYvYhWFiH2XXki/pJk8lJbPgcvqv7
 0WVItDqPfyewgctwk0yrPSiJC75zis7FL9MZ2Xfe6SN8mKixkOdFTr54sdmAtnUNumt+
 rveNBFPqAhoqE/u02/v8QZa045fVb1Z5brwzWbift2NgcdNqUazxjjMfdcaPz0l3Hxli
 Pu8A==
X-Gm-Message-State: AOJu0YzcWAXEgNGQeoSUHx9uQ6kKDBTEhUbqNlhYGhomoBUu5R8kRuPi
 qs7DoQCiO4dPZTww3dvmWHpmoVrwEPErmLfS06VqinCSVUs7fyQ5EElsXLi6+inDVYzmxfrUx+2
 AYO2ZQMAkm9zyFciRdhNFlrrW9MFx1kIbsPDVf/MrCZuGrD++HFC896ws
X-Google-Smtp-Source: AGHT+IFFQaII0WlDN+mNwHC3Oli9N+KDSvcux9AU1lOpobWWB67wPIj6wXUY1TndC6oIC6V2I/I+g6ermuHr
X-Received: by 2002:a05:6e02:b28:b0:366:25ae:69c6 with SMTP id
 e8-20020a056e020b2800b0036625ae69c6mr2933369ilu.29.1709912655705; 
 Fri, 08 Mar 2024 07:44:15 -0800 (PST)
Received: from postal.iol.unh.edu (postal.iol.unh.edu.
 [2606:4100:3880:1234::84]) by smtp-relay.gmail.com with ESMTPS id
 o9-20020a056e02188900b0036576a9f7f1sm836727ilu.52.2024.03.08.07.44.15
 (version=TLS1_2 cipher=ECDHE-ECDSA-AES128-GCM-SHA256 bits=128/128);
 Fri, 08 Mar 2024 07:44:15 -0800 (PST)
X-Relaying-Domain: iol.unh.edu
Date: Fri, 08 Mar 2024 07:44:15 -0800 (PST)
Message-ID: <65eb324f.050a0220.abbf9.354fSMTPIN_ADDED_MISSING@mx.google.com>
Received: from [172.21.0.6] (unknown [172.18.0.240])
 by postal.iol.unh.edu (Postfix) with ESMTP id 3F0426043300;
 Fri,  8 Mar 2024 10:44:15 -0500 (EST)
Subject: |SUCCESS| pw138124-138127 [PATCH] [4/4] app/testpmd: enhance getopt_
From: dpdklab@iol.unh.edu
To: Test Report <test-report@dpdk.org>
Cc: dpdk-test-reports@iol.unh.edu
In-Reply-To: <20240308144841.3615262-5-david.marchand@redhat.com>
References: <20240308144841.3615262-5-david.marchand@redhat.com>
Content-Type: text/plain
X-BeenThere: test-report@dpdk.org
X-Mailman-Version: 2.1.29
Precedence: list
List-Id: automatic DPDK test reports <test-report.dpdk.org>
List-Unsubscribe: <https://mails.dpdk.org/options/test-report>,
 <mailto:test-report-request@dpdk.org?subject=unsubscribe>
List-Archive: <http://mails.dpdk.org/archives/test-report/>
List-Post: <mailto:test-report@dpdk.org>
List-Help: <mailto:test-report-request@dpdk.org?subject=help>
List-Subscribe: <https://mails.dpdk.org/listinfo/test-report>,
 <mailto:test-report-request@dpdk.org?subject=subscribe>
Errors-To: test-report-bounces@dpdk.org

Test-Label: iol-compile-amd64-testing
Test-Status: SUCCESS
http://dpdk.org/patch/138127

_Testing PASS_

Submitter: David Marchand <david.marchand@redhat.com>
Date: Friday, March 08 2024 14:48:41 
DPDK git baseline: Repo:dpdk
  Branch: master
  CommitID:a86f381b826660e88794754c41d3aec79ce9b87c

138124-138127 --> testing pass

Test environment and result as below:

+---------------------+--------------------+----------------------+
|     Environment     | dpdk_meson_compile | dpdk_mingw64_compile |
+=====================+====================+======================+
| Windows Server 2022 | PASS               | SKIPPED              |
+---------------------+--------------------+----------------------+
| CentOS Stream 8     | PASS               | SKIPPED              |
+---------------------+--------------------+----------------------+
| FreeBSD 13.2        | PASS               | SKIPPED              |
+---------------------+--------------------+----------------------+
| CentOS Stream 9     | PASS               | SKIPPED              |
+---------------------+--------------------+----------------------+
| Debian 12 (arm)     | PASS               | SKIPPED              |
+---------------------+--------------------+----------------------+
| Debian Bullseye     | PASS               | SKIPPED              |
+---------------------+--------------------+----------------------+
| Fedora 37           | PASS               | SKIPPED              |
+---------------------+--------------------+----------------------+
| Fedora 38           | PASS               | SKIPPED              |
+---------------------+--------------------+----------------------+
| RHEL8               | PASS               | SKIPPED              |
+---------------------+--------------------+----------------------+
| openSUSE Leap 15    | PASS               | SKIPPED              |
+---------------------+--------------------+----------------------+
| Windows Server 2019 | PASS               | PASS                 |
+---------------------+--------------------+----------------------+
| Ubuntu 22.04        | PASS               | SKIPPED              |
+---------------------+--------------------+----------------------+
| Alpine              | PASS               | SKIPPED              |
+---------------------+--------------------+----------------------+


Windows Server 2022
	Kernel: OS Build 20348.2031
	Compiler: MSVC VS-Preview

CentOS Stream 8
	Kernel: 4.18.0-240.10.1.el8_3.x86_64
	Compiler: gcc 8.4.1 20200928

FreeBSD 13.2
	Kernel: 13.2
	Compiler: clang 11.3.0

CentOS Stream 9
	Kernel: 4.18.0-240.10.1.el8_3.x86_64
	Compiler: gcc 11.3.1 20220421

Debian 12 (arm)
	Kernel: Container Host Kernel
	Compiler: gcc 11

Debian Bullseye
	Kernel: 5.4.0-122-generic
	Compiler: gcc 10.2.1-6

Fedora 37
	Kernel: Depends on container host system
	Compiler: gcc 12.3.1

Fedora 38
	Kernel: Depends on container host
	Compiler: gcc 13.1.1

RHEL8
	Kernel: 4.18.0-240.10.1.el8_3.x86_64
	Compiler: gcc 8.3.1 20191121 (Red Hat 8.3.1-5)

openSUSE Leap 15
	Kernel: 4.18.0-240.10.1.el8_3.x86_64
	Compiler: gcc 7.5.0

Windows Server 2019
	Kernel: 10.0
	Compiler: clang 14.0 and gcc 8.1.0 (MinGW)

Ubuntu 22.04
	Kernel: 4.18.0-240.10.1.el8_3.x86_64
	Compiler: gcc 11.3.0

Alpine
	Kernel: 5.4.0-73-generic
	Compiler: gcc (Alpine 10.3.1_git20210424) 10.3.1 20210424

To view detailed results, visit:
https://lab.dpdk.org/results/dashboard/patchsets/29479/

UNH-IOL DPDK Community Lab

To manage your email subscriptions, visit: 
https://lab.dpdk.org/results/dashboard/preferences/subscriptions/