From mboxrd@z Thu Jan  1 00:00:00 1970
Return-Path: <test-report-bounces@dpdk.org>
Received: from mails.dpdk.org (mails.dpdk.org [217.70.189.124])
	by inbox.dpdk.org (Postfix) with ESMTP id 1CAEC43BC7
	for <public@inbox.dpdk.org>; Fri,  8 Mar 2024 16:46:21 +0100 (CET)
Received: from mails.dpdk.org (localhost [127.0.0.1])
	by mails.dpdk.org (Postfix) with ESMTP id 1888940A76;
	Fri,  8 Mar 2024 16:46:21 +0100 (CET)
Received: from mail-yw1-f226.google.com (mail-yw1-f226.google.com
 [209.85.128.226])
 by mails.dpdk.org (Postfix) with ESMTP id 1998B40291
 for <test-report@dpdk.org>; Fri,  8 Mar 2024 16:46:19 +0100 (CET)
Received: by mail-yw1-f226.google.com with SMTP id
 00721157ae682-609f060cbafso22356407b3.0
 for <test-report@dpdk.org>; Fri, 08 Mar 2024 07:46:19 -0800 (PST)
DKIM-Signature: v=1; a=rsa-sha256; c=relaxed/relaxed;
 d=iol.unh.edu; s=unh-iol; t=1709912778; x=1710517578; darn=dpdk.org;
 h=references:in-reply-to:cc:to:from:subject:message-id:date:from:to
 :cc:subject:date:message-id:reply-to;
 bh=IkZPWRMgJ15h4FPbrRoD07EKfyayXky6+cqYvnJe3/A=;
 b=TZKk2ceMlrIIEl6suRYmuJhf4FJtBJ1qiAQXLyImWdd6YigVSntszGGm4GuFkjZ3gU
 zjB8Kn0OnrY1M5l1KivOJ6M1cl8tZLgYQAp8vhWwojjng3q76b/6ISmmd5SmZ21INOLc
 MIkCVgmsyL+HuDk42JekN+fndBEarTsytPNts=
X-Google-DKIM-Signature: v=1; a=rsa-sha256; c=relaxed/relaxed;
 d=1e100.net; s=20230601; t=1709912778; x=1710517578;
 h=references:in-reply-to:cc:to:from:subject:message-id:date
 :x-gm-message-state:from:to:cc:subject:date:message-id:reply-to;
 bh=IkZPWRMgJ15h4FPbrRoD07EKfyayXky6+cqYvnJe3/A=;
 b=mhr35hItUcRKvGfFkpmnJFh3GYHXcb+qw3BVU/5LUw4ybGQi6vzyXpkBF5u6HXyiGS
 uP4cMgb/Rv3ILw5EQ0icHMsndWk/C0gFs/1TXDXt48bbhzV0MJSZ2nPMvjZ9D1Vyb6S2
 XjDVtY2/lQJnEoCXdyKc1QfpoqybBBFOOXfastmisNiGOlEtX0C8u+vBLHeoiJZ9g0Ez
 fE+CDkl24n/iaTp/RePzR5jSgQJlXRTbCYA2GjlqGcv2IwraV79pgOJjJGvwW1kIrCot
 eHp8Xc7sKTM4BsKogtpB8iMXPmjiYEjX3MERyULlVo4yYafC1dC3AkJ1EbCyXRramBFe
 Q5vA==
X-Gm-Message-State: AOJu0Yxgmpf7sJxFtzNhFE5th1gE+xvL7Qhq7ADw4qgqx4neC7cxO3AW
 D1bItJGtoivCB5Txn63dvUEgkWO/k7h+cFlLGNjyuV0Qqkui8RixItuSslKNIPkvMmP7nvt2/2x
 IgVFnf6/PgHTMSby/wZkp+wC9PFZafySa50mkRRze
X-Google-Smtp-Source: AGHT+IFBi1IuTpsv/oPvuXBX7Dyq7z4/zV6hPP+d6ciha/0DGpS1fDZNOeJ+/zskFKV6yDTu3BHq5i+h+9mR
X-Received: by 2002:a0d:e815:0:b0:60a:413:19c8 with SMTP id
 r21-20020a0de815000000b0060a041319c8mr2003344ywe.24.1709912777026; 
 Fri, 08 Mar 2024 07:46:17 -0800 (PST)
Received: from postal.iol.unh.edu (postal.iol.unh.edu. [132.177.123.84])
 by smtp-relay.gmail.com with ESMTPS id
 l63-20020a815742000000b0060a0a636747sm42673ywb.34.2024.03.08.07.46.16
 (version=TLS1_2 cipher=ECDHE-ECDSA-AES128-GCM-SHA256 bits=128/128);
 Fri, 08 Mar 2024 07:46:17 -0800 (PST)
X-Relaying-Domain: iol.unh.edu
Date: Fri, 08 Mar 2024 07:46:17 -0800 (PST)
Message-ID: <65eb32c9.810a0220.7f41d.2e3fSMTPIN_ADDED_MISSING@mx.google.com>
Received: from [172.21.0.7] (unknown [172.18.0.240])
 by postal.iol.unh.edu (Postfix) with ESMTP id A55B46043300;
 Fri,  8 Mar 2024 10:46:16 -0500 (EST)
Subject: |SUCCESS| pw138124-138127 [PATCH] [4/4] app/testpmd: enhance getopt_
From: dpdklab@iol.unh.edu
To: Test Report <test-report@dpdk.org>
Cc: dpdk-test-reports@iol.unh.edu
In-Reply-To: <20240308144841.3615262-5-david.marchand@redhat.com>
References: <20240308144841.3615262-5-david.marchand@redhat.com>
Content-Type: text/plain
X-BeenThere: test-report@dpdk.org
X-Mailman-Version: 2.1.29
Precedence: list
List-Id: automatic DPDK test reports <test-report.dpdk.org>
List-Unsubscribe: <https://mails.dpdk.org/options/test-report>,
 <mailto:test-report-request@dpdk.org?subject=unsubscribe>
List-Archive: <http://mails.dpdk.org/archives/test-report/>
List-Post: <mailto:test-report@dpdk.org>
List-Help: <mailto:test-report-request@dpdk.org?subject=help>
List-Subscribe: <https://mails.dpdk.org/listinfo/test-report>,
 <mailto:test-report-request@dpdk.org?subject=subscribe>
Errors-To: test-report-bounces@dpdk.org

Test-Label: iol-compile-amd64-testing
Test-Status: SUCCESS
http://dpdk.org/patch/138127

_Testing PASS_

Submitter: David Marchand <david.marchand@redhat.com>
Date: Friday, March 08 2024 14:48:41 
DPDK git baseline: Repo:dpdk
  Branch: master
  CommitID:a86f381b826660e88794754c41d3aec79ce9b87c

138124-138127 --> testing pass

Test environment and result as below:

+---------------------+--------------------+----------------------+
|     Environment     | dpdk_meson_compile | dpdk_mingw64_compile |
+=====================+====================+======================+
| Windows Server 2022 | PASS               | SKIPPED              |
+---------------------+--------------------+----------------------+
| CentOS Stream 8     | PASS               | SKIPPED              |
+---------------------+--------------------+----------------------+
| FreeBSD 13.2        | PASS               | SKIPPED              |
+---------------------+--------------------+----------------------+
| CentOS Stream 9     | PASS               | SKIPPED              |
+---------------------+--------------------+----------------------+
| Debian 12 (arm)     | PASS               | SKIPPED              |
+---------------------+--------------------+----------------------+
| Debian Bullseye     | PASS               | SKIPPED              |
+---------------------+--------------------+----------------------+
| Fedora 37           | PASS               | SKIPPED              |
+---------------------+--------------------+----------------------+
| Fedora 38           | PASS               | SKIPPED              |
+---------------------+--------------------+----------------------+
| RHEL8               | PASS               | SKIPPED              |
+---------------------+--------------------+----------------------+
| openSUSE Leap 15    | PASS               | SKIPPED              |
+---------------------+--------------------+----------------------+
| Windows Server 2019 | PASS               | PASS                 |
+---------------------+--------------------+----------------------+
| Ubuntu 22.04        | PASS               | SKIPPED              |
+---------------------+--------------------+----------------------+
| Alpine              | PASS               | SKIPPED              |
+---------------------+--------------------+----------------------+


Windows Server 2022
	Kernel: OS Build 20348.2031
	Compiler: MSVC VS-Preview

CentOS Stream 8
	Kernel: 4.18.0-240.10.1.el8_3.x86_64
	Compiler: gcc 8.4.1 20200928

FreeBSD 13.2
	Kernel: 13.2
	Compiler: clang 11.3.0

CentOS Stream 9
	Kernel: 4.18.0-240.10.1.el8_3.x86_64
	Compiler: gcc 11.3.1 20220421

Debian 12 (arm)
	Kernel: Container Host Kernel
	Compiler: gcc 11

Debian Bullseye
	Kernel: 5.4.0-122-generic
	Compiler: gcc 10.2.1-6

Fedora 37
	Kernel: Depends on container host system
	Compiler: gcc 12.3.1

Fedora 38
	Kernel: Depends on container host
	Compiler: gcc 13.1.1

RHEL8
	Kernel: 4.18.0-240.10.1.el8_3.x86_64
	Compiler: gcc 8.3.1 20191121 (Red Hat 8.3.1-5)

openSUSE Leap 15
	Kernel: 4.18.0-240.10.1.el8_3.x86_64
	Compiler: gcc 7.5.0

Windows Server 2019
	Kernel: 10.0
	Compiler: clang 14.0 and gcc 8.1.0 (MinGW)

Ubuntu 22.04
	Kernel: 4.18.0-240.10.1.el8_3.x86_64
	Compiler: gcc 11.3.0

Alpine
	Kernel: 5.4.0-73-generic
	Compiler: gcc (Alpine 10.3.1_git20210424) 10.3.1 20210424

To view detailed results, visit:
https://lab.dpdk.org/results/dashboard/patchsets/29479/

UNH-IOL DPDK Community Lab

To manage your email subscriptions, visit: 
https://lab.dpdk.org/results/dashboard/preferences/subscriptions/