From mboxrd@z Thu Jan  1 00:00:00 1970
Return-Path: <test-report-bounces@dpdk.org>
Received: from mails.dpdk.org (mails.dpdk.org [217.70.189.124])
	by inbox.dpdk.org (Postfix) with ESMTP id 0F9E543C27
	for <public@inbox.dpdk.org>; Fri,  8 Mar 2024 18:41:04 +0100 (CET)
Received: from mails.dpdk.org (localhost [127.0.0.1])
	by mails.dpdk.org (Postfix) with ESMTP id 0C09E40291;
	Fri,  8 Mar 2024 18:41:04 +0100 (CET)
Received: from mail-qv1-f97.google.com (mail-qv1-f97.google.com
 [209.85.219.97]) by mails.dpdk.org (Postfix) with ESMTP id 252DB40274
 for <test-report@dpdk.org>; Fri,  8 Mar 2024 18:40:57 +0100 (CET)
Received: by mail-qv1-f97.google.com with SMTP id
 6a1803df08f44-6904a5d71abso15778496d6.1
 for <test-report@dpdk.org>; Fri, 08 Mar 2024 09:40:57 -0800 (PST)
DKIM-Signature: v=1; a=rsa-sha256; c=relaxed/relaxed;
 d=iol.unh.edu; s=unh-iol; t=1709919656; x=1710524456; darn=dpdk.org;
 h=references:in-reply-to:cc:to:from:subject:message-id:date:from:to
 :cc:subject:date:message-id:reply-to;
 bh=f7vv/AQ2361hY1jhoFViIpXGv0HFYVvkz1BwadWcQDU=;
 b=HQSm5kKY8FJ7DzVtVrrHvDXPpakx+pSWX9ZzUh8GvH3nip5lEtI7nK/LTFA4jBd5at
 7zc5BF1OctLyAud90uBfLl4oeHHRLidhxnjdNZkdYxBVb0iD1uemWEol/2fHiqZyt3/B
 TnLSoom8A74GIUsjUNw0eWPeRH8vRm96hgetM=
X-Google-DKIM-Signature: v=1; a=rsa-sha256; c=relaxed/relaxed;
 d=1e100.net; s=20230601; t=1709919656; x=1710524456;
 h=references:in-reply-to:cc:to:from:subject:message-id:date
 :x-gm-message-state:from:to:cc:subject:date:message-id:reply-to;
 bh=f7vv/AQ2361hY1jhoFViIpXGv0HFYVvkz1BwadWcQDU=;
 b=Zj5di90uxq9C2dvxBYqZ53zMxMI1Y35HHieo5Y46BflGEw/2wFRQJ3L7qWvdNDQSA8
 weCd2Nx9fIPdryy7bWD0DB60TZR/T/rU63G6Rh4vw6YnNVm0H2B5d7PMWP4cT8H+Gx3k
 CPPmc6xP0GaI4QWrupmehO/zeeKeK1H4kKnqgXIrfyELnLX7WfwVZoL9I4zFKqS8gQ08
 RyxbGGJgZGf/P3ssemuypM0IeMmD4OIU5vjPflLbxBsID46Lp5Xwr5NR5Q4uuJu5RnWZ
 0mYAyXWpNj8xK+4L2z49cuT9eTJLc6H0qX5syO8W9Eb5CNLeTjF7TFw8dvDf9ezuGpBF
 LQcQ==
X-Gm-Message-State: AOJu0YyLdcijnEdXnLb4xtFvx6g7xtFshwoGe+3D1WJ9BsX9ncRZm3k5
 KVLU3FZw+5rxvnaQ/Hg5znk2kgdbHQLodxP6tFa3ntUnlFGz536WyJDRi79yzgPWPifDJiUM4Ui
 vaf2KwB0WOrrNArqGNFp6a5I9mGlRjjydOoefY7SD
X-Google-Smtp-Source: AGHT+IFbFu4fbxrj9M5Cp1at1db7jQ7Acuwn9xlHMppecpjQ6YIvcewzh32qknTwuqYQwfLrsbHJot1QHK11
X-Received: by 2002:a05:6214:1fcd:b0:690:b420:ca6d with SMTP id
 jh13-20020a0562141fcd00b00690b420ca6dmr2421142qvb.26.1709919656655; 
 Fri, 08 Mar 2024 09:40:56 -0800 (PST)
Received: from postal.iol.unh.edu (postal.iol.unh.edu. [132.177.123.84])
 by smtp-relay.gmail.com with ESMTPS id
 eq12-20020ad4596c000000b0068f2e5f91e9sm962102qvb.38.2024.03.08.09.40.56
 (version=TLS1_2 cipher=ECDHE-ECDSA-AES128-GCM-SHA256 bits=128/128);
 Fri, 08 Mar 2024 09:40:56 -0800 (PST)
X-Relaying-Domain: iol.unh.edu
Date: Fri, 08 Mar 2024 09:40:56 -0800 (PST)
Message-ID: <65eb4da8.d40a0220.282c6.c836SMTPIN_ADDED_MISSING@mx.google.com>
Received: from [172.21.0.6] (unknown [172.18.0.240])
 by postal.iol.unh.edu (Postfix) with ESMTP id 5F22960527CD;
 Fri,  8 Mar 2024 12:40:56 -0500 (EST)
Subject: |SUCCESS| pw138128 [PATCH] add a ignore list for get_maintainer
From: dpdklab@iol.unh.edu
To: Test Report <test-report@dpdk.org>
Cc: dpdk-test-reports@iol.unh.edu
In-Reply-To: <20240308170717.8677-1-stephen@networkplumber.org>
References: <20240308170717.8677-1-stephen@networkplumber.org>
Content-Type: text/plain
X-BeenThere: test-report@dpdk.org
X-Mailman-Version: 2.1.29
Precedence: list
List-Id: automatic DPDK test reports <test-report.dpdk.org>
List-Unsubscribe: <https://mails.dpdk.org/options/test-report>,
 <mailto:test-report-request@dpdk.org?subject=unsubscribe>
List-Archive: <http://mails.dpdk.org/archives/test-report/>
List-Post: <mailto:test-report@dpdk.org>
List-Help: <mailto:test-report-request@dpdk.org?subject=help>
List-Subscribe: <https://mails.dpdk.org/listinfo/test-report>,
 <mailto:test-report-request@dpdk.org?subject=subscribe>
Errors-To: test-report-bounces@dpdk.org

Test-Label: iol-compile-amd64-testing
Test-Status: SUCCESS
http://dpdk.org/patch/138128

_Testing PASS_

Submitter: Stephen Hemminger <stephen@networkplumber.org>
Date: Friday, March 08 2024 17:07:17 
DPDK git baseline: Repo:dpdk
  Branch: master
  CommitID:a86f381b826660e88794754c41d3aec79ce9b87c

138128 --> testing pass

Test environment and result as below:

+---------------------+--------------------+
|     Environment     | dpdk_meson_compile |
+=====================+====================+
| Debian 12 (arm)     | PASS               |
+---------------------+--------------------+
| Debian Bullseye     | PASS               |
+---------------------+--------------------+
| Fedora 37           | PASS               |
+---------------------+--------------------+
| CentOS Stream 8     | PASS               |
+---------------------+--------------------+
| Windows Server 2022 | PASS               |
+---------------------+--------------------+
| CentOS Stream 9     | PASS               |
+---------------------+--------------------+
| FreeBSD 13.2        | PASS               |
+---------------------+--------------------+
| Fedora 38           | PASS               |
+---------------------+--------------------+
| Ubuntu 20.04        | PASS               |
+---------------------+--------------------+


Debian 12 (arm)
	Kernel: Container Host Kernel
	Compiler: gcc 11

Debian Bullseye
	Kernel: 5.4.0-122-generic
	Compiler: gcc 10.2.1-6

Fedora 37
	Kernel: Depends on container host system
	Compiler: gcc 12.3.1

CentOS Stream 8
	Kernel: 4.18.0-240.10.1.el8_3.x86_64
	Compiler: gcc 8.4.1 20200928

Windows Server 2022
	Kernel: OS Build 20348.2031
	Compiler: MSVC VS-Preview

CentOS Stream 9
	Kernel: 4.18.0-240.10.1.el8_3.x86_64
	Compiler: gcc 11.3.1 20220421

FreeBSD 13.2
	Kernel: 13.2
	Compiler: clang 11.3.0

Fedora 38
	Kernel: Depends on container host
	Compiler: gcc 13.1.1

Ubuntu 20.04
	Kernel: 5.4.0-153-generic
	Compiler: gcc 9.4.0-1ubuntu1~20.04.1

To view detailed results, visit:
https://lab.dpdk.org/results/dashboard/patchsets/29480/

UNH-IOL DPDK Community Lab

To manage your email subscriptions, visit: 
https://lab.dpdk.org/results/dashboard/preferences/subscriptions/