From mboxrd@z Thu Jan  1 00:00:00 1970
Return-Path: <test-report-bounces@dpdk.org>
Received: from mails.dpdk.org (mails.dpdk.org [217.70.189.124])
	by inbox.dpdk.org (Postfix) with ESMTP id 5CCC543C27
	for <public@inbox.dpdk.org>; Fri,  8 Mar 2024 18:44:45 +0100 (CET)
Received: from mails.dpdk.org (localhost [127.0.0.1])
	by mails.dpdk.org (Postfix) with ESMTP id 552BE42F8B;
	Fri,  8 Mar 2024 18:44:45 +0100 (CET)
Received: from mail-io1-f99.google.com (mail-io1-f99.google.com
 [209.85.166.99]) by mails.dpdk.org (Postfix) with ESMTP id DF3FB40291
 for <test-report@dpdk.org>; Fri,  8 Mar 2024 18:44:43 +0100 (CET)
Received: by mail-io1-f99.google.com with SMTP id
 ca18e2360f4ac-7c48e13e0d7so40830439f.1
 for <test-report@dpdk.org>; Fri, 08 Mar 2024 09:44:43 -0800 (PST)
DKIM-Signature: v=1; a=rsa-sha256; c=relaxed/relaxed;
 d=iol.unh.edu; s=unh-iol; t=1709919883; x=1710524683; darn=dpdk.org;
 h=references:in-reply-to:cc:to:from:subject:message-id:date:from:to
 :cc:subject:date:message-id:reply-to;
 bh=Og3+UDoFscPS79Edn8kFDMZQMcYG1GkSK7UJ0vyiAZo=;
 b=A+ylif21BkQYGMOWpntlAunyC/+Cdb0O0YAgNyGupwHJvYirNlxuj5LO6+9zJm4hJm
 5tD7/61qptSRv1bKnSBls30qYXW9zfK9Ez8sj29kQH7qjK6mK6cQFFtYXlYvfXrGOdTP
 cxiQn6RDtx/qOsX97DWVgEaKjw3phsG5L4oBs=
X-Google-DKIM-Signature: v=1; a=rsa-sha256; c=relaxed/relaxed;
 d=1e100.net; s=20230601; t=1709919883; x=1710524683;
 h=references:in-reply-to:cc:to:from:subject:message-id:date
 :x-gm-message-state:from:to:cc:subject:date:message-id:reply-to;
 bh=Og3+UDoFscPS79Edn8kFDMZQMcYG1GkSK7UJ0vyiAZo=;
 b=e2oKk4MZxj0dwlEbi8BQVdPiBpNLpeA+soUK8FbeMD/kKIt6qNaM7w6grRoTXKcKoO
 71MOAzQS0NSPiW8GFUKcPwLO1ZbC3DxvaXggRTF3c6HOjpvaYgNFHC/+KJfUvgzXQAe2
 ecPWqhswA4BZqxzzAypFnguiqcVT7nfKjrpwc2mTd6H8rDMcOcgfE1yMAczzTJ5R14EE
 KJp7hHuGB7xPMlk6EUwTmT1rm7M7tcWI/ew6KqxdT/hGr8uSBrB1ktbnWc0vReRMXHKB
 UI4Dw1pybVuxXjWfYRgHxBKT4ZuLuxOA9X5KE2MEtm6IEb8LRIScG0wSqGeQsRj405jt
 lY1A==
X-Gm-Message-State: AOJu0YymnN+u6uLWtYZY6TafLYypsSDbHCPlBOvI8iois7PoKZsTZwCI
 rdrDuTGm4BnUTIJBToPVRn2/DEaMSVtGrknam6nzzsL2dTCq9FkZ/OZ4GziAhhXpZYdRca2gwQI
 L1u2EUifM7KidmkjEBmIipcOo5KyO50olgL9zJiOU
X-Google-Smtp-Source: AGHT+IELUhHtwrwaIRXk3tSNp9zh4cBt5LEdjd7tcd2703Cm6is+bGTsXtjkr2EpLa5+W9Nf4tWdGlpbCVg7
X-Received: by 2002:a6b:da02:0:b0:7c7:fe27:643b with SMTP id
 x2-20020a6bda02000000b007c7fe27643bmr23162975iob.1.1709919883326; 
 Fri, 08 Mar 2024 09:44:43 -0800 (PST)
Received: from postal.iol.unh.edu (postal.iol.unh.edu. [132.177.123.84])
 by smtp-relay.gmail.com with ESMTPS id
 a23-20020a6b6617000000b007c8811d0ffdsm193184ioc.34.2024.03.08.09.44.43
 (version=TLS1_2 cipher=ECDHE-ECDSA-AES128-GCM-SHA256 bits=128/128);
 Fri, 08 Mar 2024 09:44:43 -0800 (PST)
X-Relaying-Domain: iol.unh.edu
Date: Fri, 08 Mar 2024 09:44:43 -0800 (PST)
Message-ID: <65eb4e8b.6b0a0220.d7b4c.b608SMTPIN_ADDED_MISSING@mx.google.com>
Received: from [172.21.0.6] (unknown [172.18.0.240])
 by postal.iol.unh.edu (Postfix) with ESMTP id D57D960527CD;
 Fri,  8 Mar 2024 12:44:42 -0500 (EST)
Subject: |SUCCESS| pw138128 [PATCH] add a ignore list for get_maintainer
From: dpdklab@iol.unh.edu
To: Test Report <test-report@dpdk.org>
Cc: dpdk-test-reports@iol.unh.edu
In-Reply-To: <20240308170717.8677-1-stephen@networkplumber.org>
References: <20240308170717.8677-1-stephen@networkplumber.org>
Content-Type: text/plain
X-BeenThere: test-report@dpdk.org
X-Mailman-Version: 2.1.29
Precedence: list
List-Id: automatic DPDK test reports <test-report.dpdk.org>
List-Unsubscribe: <https://mails.dpdk.org/options/test-report>,
 <mailto:test-report-request@dpdk.org?subject=unsubscribe>
List-Archive: <http://mails.dpdk.org/archives/test-report/>
List-Post: <mailto:test-report@dpdk.org>
List-Help: <mailto:test-report-request@dpdk.org?subject=help>
List-Subscribe: <https://mails.dpdk.org/listinfo/test-report>,
 <mailto:test-report-request@dpdk.org?subject=subscribe>
Errors-To: test-report-bounces@dpdk.org

Test-Label: iol-compile-amd64-testing
Test-Status: SUCCESS
http://dpdk.org/patch/138128

_Testing PASS_

Submitter: Stephen Hemminger <stephen@networkplumber.org>
Date: Friday, March 08 2024 17:07:17 
DPDK git baseline: Repo:dpdk
  Branch: master
  CommitID:a86f381b826660e88794754c41d3aec79ce9b87c

138128 --> testing pass

Test environment and result as below:

+---------------------+--------------------+
|     Environment     | dpdk_meson_compile |
+=====================+====================+
| Debian 12 (arm)     | PASS               |
+---------------------+--------------------+
| Debian Bullseye     | PASS               |
+---------------------+--------------------+
| Fedora 37           | PASS               |
+---------------------+--------------------+
| CentOS Stream 8     | PASS               |
+---------------------+--------------------+
| Windows Server 2022 | PASS               |
+---------------------+--------------------+
| CentOS Stream 9     | PASS               |
+---------------------+--------------------+
| FreeBSD 13.2        | PASS               |
+---------------------+--------------------+
| Fedora 38           | PASS               |
+---------------------+--------------------+
| Ubuntu 20.04        | PASS               |
+---------------------+--------------------+
| openSUSE Leap 15    | PASS               |
+---------------------+--------------------+
| Ubuntu 22.04        | PASS               |
+---------------------+--------------------+


Debian 12 (arm)
	Kernel: Container Host Kernel
	Compiler: gcc 11

Debian Bullseye
	Kernel: 5.4.0-122-generic
	Compiler: gcc 10.2.1-6

Fedora 37
	Kernel: Depends on container host system
	Compiler: gcc 12.3.1

CentOS Stream 8
	Kernel: 4.18.0-240.10.1.el8_3.x86_64
	Compiler: gcc 8.4.1 20200928

Windows Server 2022
	Kernel: OS Build 20348.2031
	Compiler: MSVC VS-Preview

CentOS Stream 9
	Kernel: 4.18.0-240.10.1.el8_3.x86_64
	Compiler: gcc 11.3.1 20220421

FreeBSD 13.2
	Kernel: 13.2
	Compiler: clang 11.3.0

Fedora 38
	Kernel: Depends on container host
	Compiler: gcc 13.1.1

Ubuntu 20.04
	Kernel: 5.4.0-153-generic
	Compiler: gcc 9.4.0-1ubuntu1~20.04.1

openSUSE Leap 15
	Kernel: 4.18.0-240.10.1.el8_3.x86_64
	Compiler: gcc 7.5.0

Ubuntu 22.04
	Kernel: 4.18.0-240.10.1.el8_3.x86_64
	Compiler: gcc 11.3.0

To view detailed results, visit:
https://lab.dpdk.org/results/dashboard/patchsets/29480/

UNH-IOL DPDK Community Lab

To manage your email subscriptions, visit: 
https://lab.dpdk.org/results/dashboard/preferences/subscriptions/