From mboxrd@z Thu Jan  1 00:00:00 1970
Return-Path: <test-report-bounces@dpdk.org>
Received: from mails.dpdk.org (mails.dpdk.org [217.70.189.124])
	by inbox.dpdk.org (Postfix) with ESMTP id BF84943C27
	for <public@inbox.dpdk.org>; Fri,  8 Mar 2024 18:49:36 +0100 (CET)
Received: from mails.dpdk.org (localhost [127.0.0.1])
	by mails.dpdk.org (Postfix) with ESMTP id B6EF3402B4;
	Fri,  8 Mar 2024 18:49:36 +0100 (CET)
Received: from mail-yb1-f226.google.com (mail-yb1-f226.google.com
 [209.85.219.226])
 by mails.dpdk.org (Postfix) with ESMTP id BC63D40291
 for <test-report@dpdk.org>; Fri,  8 Mar 2024 18:49:35 +0100 (CET)
Received: by mail-yb1-f226.google.com with SMTP id
 3f1490d57ef6-dc6d9a8815fso2360465276.3
 for <test-report@dpdk.org>; Fri, 08 Mar 2024 09:49:35 -0800 (PST)
DKIM-Signature: v=1; a=rsa-sha256; c=relaxed/relaxed;
 d=iol.unh.edu; s=unh-iol; t=1709920175; x=1710524975; darn=dpdk.org;
 h=references:in-reply-to:cc:to:from:subject:message-id:date:from:to
 :cc:subject:date:message-id:reply-to;
 bh=wa4awsJEGeoc2CzDWR6ZmQFqLPlkzpulwBw7xOJi9GE=;
 b=PhUngNnRPOLrKOidPeZk1g8NSBCTl8Uj03/JTWA6CHGBBedRbu80TL705Oaau8QI++
 mRCU5sb9P0TwQjlJK/BeH3N6/B7e2W9fPtwaSAVxt/QadzsWQSd256N6ZV1OBChpBNpu
 zteW9s//KUptY0HcxU6unbdcaPAPeD9q8dTxo=
X-Google-DKIM-Signature: v=1; a=rsa-sha256; c=relaxed/relaxed;
 d=1e100.net; s=20230601; t=1709920175; x=1710524975;
 h=references:in-reply-to:cc:to:from:subject:message-id:date
 :x-gm-message-state:from:to:cc:subject:date:message-id:reply-to;
 bh=wa4awsJEGeoc2CzDWR6ZmQFqLPlkzpulwBw7xOJi9GE=;
 b=pUrPNdP84sVTQbOkivsvb+ElDUeEIe7LuN/NpPBDH2dOyS69sEI1AuBcxfCNfkiMqf
 DjlrvpR/5gYIT/DXN2C02KWbi6K3X8PLD/M9zNLjtR5HQzdG5gnNJ1VPW+npyqhvGsM+
 o7YcBNCRJvGLm7+ZS5PP2MauCTWaDUzM8Cra2YcWZoztlN4Xe0YdgCJm6lWxYPDTYOk1
 lEObgtILP24Ra8jjZs12Kywuzs7WPqwQhFsZFUgI2goCE78O5ZP5uj6foTpi0GVTuE6/
 eOa6G8idsWHNNplQ7uNXs6cNMVPEbPIKFmlUNsEO8Vfv9k2yZ1qd8Y+s/K6JXoNQMUw0
 NR8A==
X-Gm-Message-State: AOJu0Yw1gt77JpOxwiKJzbY2XitgrClju4SenJLL0Rd30ILQ3RqfytIp
 r1+EmISPtZIfV72oDURmvzVQpeHFxxAVlzQZUKjIruuqmNKvfO2xRNlOem6YAMGwAZVegejHT3k
 HaP9s6jHD3XILazdvgKhqzvHjldH433m1QoBi10gV
X-Google-Smtp-Source: AGHT+IFlR3Pz6X/FiLFuIb79xlQVz8AKFPyghzgF0bmGHG8xIbJ2Z45bqsB1t70mzjTPJdfm8dY4lD9sI38t
X-Received: by 2002:a25:b90b:0:b0:dcd:1b8f:e6d3 with SMTP id
 x11-20020a25b90b000000b00dcd1b8fe6d3mr18828429ybj.48.1709920175232; 
 Fri, 08 Mar 2024 09:49:35 -0800 (PST)
Received: from postal.iol.unh.edu (postal.iol.unh.edu. [132.177.123.84])
 by smtp-relay.gmail.com with ESMTPS id
 j129-20020a253c87000000b00dc226dbfac9sm1083040yba.9.2024.03.08.09.49.35
 (version=TLS1_2 cipher=ECDHE-ECDSA-AES128-GCM-SHA256 bits=128/128);
 Fri, 08 Mar 2024 09:49:35 -0800 (PST)
X-Relaying-Domain: iol.unh.edu
Date: Fri, 08 Mar 2024 09:49:35 -0800 (PST)
Message-ID: <65eb4faf.250a0220.f53b0.2342SMTPIN_ADDED_MISSING@mx.google.com>
Received: from [172.21.0.6] (unknown [172.18.0.240])
 by postal.iol.unh.edu (Postfix) with ESMTP id D911460527CD;
 Fri,  8 Mar 2024 12:49:34 -0500 (EST)
Subject: |SUCCESS| pw138128 [PATCH] add a ignore list for get_maintainer
From: dpdklab@iol.unh.edu
To: Test Report <test-report@dpdk.org>
Cc: dpdk-test-reports@iol.unh.edu
In-Reply-To: <20240308170717.8677-1-stephen@networkplumber.org>
References: <20240308170717.8677-1-stephen@networkplumber.org>
Content-Type: text/plain
X-BeenThere: test-report@dpdk.org
X-Mailman-Version: 2.1.29
Precedence: list
List-Id: automatic DPDK test reports <test-report.dpdk.org>
List-Unsubscribe: <https://mails.dpdk.org/options/test-report>,
 <mailto:test-report-request@dpdk.org?subject=unsubscribe>
List-Archive: <http://mails.dpdk.org/archives/test-report/>
List-Post: <mailto:test-report@dpdk.org>
List-Help: <mailto:test-report-request@dpdk.org?subject=help>
List-Subscribe: <https://mails.dpdk.org/listinfo/test-report>,
 <mailto:test-report-request@dpdk.org?subject=subscribe>
Errors-To: test-report-bounces@dpdk.org

Test-Label: iol-unit-arm64-testing
Test-Status: SUCCESS
http://dpdk.org/patch/138128

_Testing PASS_

Submitter: Stephen Hemminger <stephen@networkplumber.org>
Date: Friday, March 08 2024 17:07:17 
DPDK git baseline: Repo:dpdk
  Branch: master
  CommitID:a86f381b826660e88794754c41d3aec79ce9b87c

138128 --> testing pass

Test environment and result as below:

+--------------------------+------------------------------+---------------------------+----------------+--------------+
|       Environment        | cryptodev_sw_snow3g_autotest | cryptodev_sw_zuc_autotest | dpdk_unit_test | lpm_autotest |
+==========================+==============================+===========================+================+==============+
| Debian 12 (arm)          | PASS                         | PASS                      | PASS           | SKIPPED      |
+--------------------------+------------------------------+---------------------------+----------------+--------------+
| Debian 11 (Buster) (ARM) | SKIPPED                      | SKIPPED                   | PASS           | SKIPPED      |
+--------------------------+------------------------------+---------------------------+----------------+--------------+
| CentOS Stream 9 (ARM)    | SKIPPED                      | SKIPPED                   | PASS           | SKIPPED      |
+--------------------------+------------------------------+---------------------------+----------------+--------------+
| Fedora 37 (ARM)          | SKIPPED                      | SKIPPED                   | PASS           | SKIPPED      |
+--------------------------+------------------------------+---------------------------+----------------+--------------+
| Fedora 38 (ARM)          | SKIPPED                      | SKIPPED                   | PASS           | SKIPPED      |
+--------------------------+------------------------------+---------------------------+----------------+--------------+
| Ubuntu 20.04 ARM SVE     | SKIPPED                      | SKIPPED                   | SKIPPED        | PASS         |
+--------------------------+------------------------------+---------------------------+----------------+--------------+


Debian 12 (arm)
	Kernel: Container Host Kernel
	Compiler: gcc 11

Debian 11 (Buster) (ARM)
	Kernel: Container Host Kernel
	Compiler: gcc 10.2.1

CentOS Stream 9 (ARM)
	Kernel: Container Host Kernel
	Compiler: gcc 11.3.1

Fedora 37 (ARM)
	Kernel: Depends on container host
	Compiler: gcc 12.3.1

Fedora 38 (ARM)
	Kernel: Depends on container host
	Compiler: gcc 13.1.1

Ubuntu 20.04 ARM SVE
	Kernel: 5.4.0-80-generic
	Compiler: gcc 10.3.0 (Ubuntu 10.3.0-1ubuntu1~20.04)

To view detailed results, visit:
https://lab.dpdk.org/results/dashboard/patchsets/29480/

UNH-IOL DPDK Community Lab

To manage your email subscriptions, visit: 
https://lab.dpdk.org/results/dashboard/preferences/subscriptions/