From mboxrd@z Thu Jan  1 00:00:00 1970
Return-Path: <test-report-bounces@dpdk.org>
Received: from mails.dpdk.org (mails.dpdk.org [217.70.189.124])
	by inbox.dpdk.org (Postfix) with ESMTP id 7566C43C4B
	for <public@inbox.dpdk.org>; Fri,  8 Mar 2024 23:06:29 +0100 (CET)
Received: from mails.dpdk.org (localhost [127.0.0.1])
	by mails.dpdk.org (Postfix) with ESMTP id 707BF40291;
	Fri,  8 Mar 2024 23:06:29 +0100 (CET)
Received: from mail-io1-f99.google.com (mail-io1-f99.google.com
 [209.85.166.99]) by mails.dpdk.org (Postfix) with ESMTP id 356CF40274
 for <test-report@dpdk.org>; Fri,  8 Mar 2024 23:06:28 +0100 (CET)
Received: by mail-io1-f99.google.com with SMTP id
 ca18e2360f4ac-7c88a2173daso68173439f.0
 for <test-report@dpdk.org>; Fri, 08 Mar 2024 14:06:28 -0800 (PST)
DKIM-Signature: v=1; a=rsa-sha256; c=relaxed/relaxed;
 d=iol.unh.edu; s=unh-iol; t=1709935587; x=1710540387; darn=dpdk.org;
 h=references:in-reply-to:cc:to:from:subject:message-id:date:from:to
 :cc:subject:date:message-id:reply-to;
 bh=jayyImGPKh5/UKhHljm0hgrLyhmps6RcQOHL25U+NeI=;
 b=TI1o+cy+2JE8NaW3ci9pWlOJN7iAZeG9T260EmQYNdGfQUl+x5KFna+N6UC4QVeZ2O
 Ym8wwBueoVNywFy+6tGem1HnrgEmKhcALxBe33yyQmyrdBzdW2cJhJMT845L5QogWD42
 jCLbOjxe23amzAZpxni1A9wxHnnBzr5pMr5P0=
X-Google-DKIM-Signature: v=1; a=rsa-sha256; c=relaxed/relaxed;
 d=1e100.net; s=20230601; t=1709935587; x=1710540387;
 h=references:in-reply-to:cc:to:from:subject:message-id:date
 :x-gm-message-state:from:to:cc:subject:date:message-id:reply-to;
 bh=jayyImGPKh5/UKhHljm0hgrLyhmps6RcQOHL25U+NeI=;
 b=rdY/VlqTMDOvH6P2gMaw139TofwO/oWrOZUS2DKQ+lsHS2Cvps0AEoC2G4bBGUcmT9
 zF62Mp2y9c/4+PztHifEfbEUa9z620Oyj3tMAYiSQPJ/GQP2EWy0qRwqTSspicaOXS3w
 fDtf/Jos6rwcfDJmFSIbbgFYp//xMWLyokhzRie4pd6MEMSfubIt3KQvdU+nTRortVqu
 HIG+QoMu0CNi/ZUE/aGdzMgsSZmC4c/pYGrgXZNHm5DxEIuEDrlkJ51MqoNaDCK/yAq2
 nwnCCAcXqlm5NwJHsDEL1tvXrDb3t/bdwCy0VXfVn6z7dPJijPZb7kDojdkKOap/XuwV
 gf0w==
X-Gm-Message-State: AOJu0Yz6DED8SuvaFMuOlvrkz1mjXQbUeHziaMQLZILWRwIv8FCzO0JP
 iAODc3rMM4zoyclyUuD/M1lb5DO/4vNTgQW4AjkoctrwtzH6rlW+eRIzwLSsF3PofBKY4/r+uBN
 rRKYexBKYwBCXqNhsjqMoQiAhEwRa3Sxw+2PhCmKSzd++yqxgRiBk+JZ5
X-Google-Smtp-Source: AGHT+IECMqNF/CGDHa82wJP6zMgfnRAWXh/+19whnEGKKL7AMPCvAJuL86FPy0sAq2DkdZKyMZQr2Y4NaWDm
X-Received: by 2002:a6b:e710:0:b0:7c7:da5e:3a62 with SMTP id
 b16-20020a6be710000000b007c7da5e3a62mr238496ioh.13.1709935587675; 
 Fri, 08 Mar 2024 14:06:27 -0800 (PST)
Received: from postal.iol.unh.edu (postal.iol.unh.edu.
 [2606:4100:3880:1234::84]) by smtp-relay.gmail.com with ESMTPS id
 l2-20020a0566022dc200b007c85b6b79b6sm13519iow.21.2024.03.08.14.06.27
 (version=TLS1_2 cipher=ECDHE-ECDSA-AES128-GCM-SHA256 bits=128/128);
 Fri, 08 Mar 2024 14:06:27 -0800 (PST)
X-Relaying-Domain: iol.unh.edu
Date: Fri, 08 Mar 2024 14:06:27 -0800 (PST)
Message-ID: <65eb8be3.050a0220.5ff32.0bf0SMTPIN_ADDED_MISSING@mx.google.com>
Received: from [172.21.0.6] (unknown [172.18.0.240])
 by postal.iol.unh.edu (Postfix) with ESMTP id 3ABA76052712;
 Fri,  8 Mar 2024 17:06:27 -0500 (EST)
Subject: |SUCCESS| pw138136 [PATCH] [RFC,v2] eal: increase passed max multi-p
From: dpdklab@iol.unh.edu
To: Test Report <test-report@dpdk.org>
Cc: dpdk-test-reports@iol.unh.edu
In-Reply-To: <20240308203737.208999-1-stephen@networkplumber.org>
References: <20240308203737.208999-1-stephen@networkplumber.org>
Content-Type: text/plain
X-BeenThere: test-report@dpdk.org
X-Mailman-Version: 2.1.29
Precedence: list
List-Id: automatic DPDK test reports <test-report.dpdk.org>
List-Unsubscribe: <https://mails.dpdk.org/options/test-report>,
 <mailto:test-report-request@dpdk.org?subject=unsubscribe>
List-Archive: <http://mails.dpdk.org/archives/test-report/>
List-Post: <mailto:test-report@dpdk.org>
List-Help: <mailto:test-report-request@dpdk.org?subject=help>
List-Subscribe: <https://mails.dpdk.org/listinfo/test-report>,
 <mailto:test-report-request@dpdk.org?subject=subscribe>
Errors-To: test-report-bounces@dpdk.org

Test-Label: iol-unit-amd64-testing
Test-Status: SUCCESS
http://dpdk.org/patch/138136

_Testing PASS_

Submitter: Stephen Hemminger <stephen@networkplumber.org>
Date: Friday, March 08 2024 20:36:39 
DPDK git baseline: Repo:dpdk
  Branch: master
  CommitID:a86f381b826660e88794754c41d3aec79ce9b87c

138136 --> testing pass

Test environment and result as below:

+-----------------+----------------+
|   Environment   | dpdk_unit_test |
+=================+================+
| CentOS Stream 8 | PASS           |
+-----------------+----------------+
| CentOS Stream 9 | PASS           |
+-----------------+----------------+
| Debian Bullseye | PASS           |
+-----------------+----------------+
| Debian 12 (arm) | PASS           |
+-----------------+----------------+
| Fedora 37       | PASS           |
+-----------------+----------------+
| Ubuntu 22.04    | PASS           |
+-----------------+----------------+
| Fedora 38       | PASS           |
+-----------------+----------------+


CentOS Stream 8
	Kernel: 4.18.0-240.10.1.el8_3.x86_64
	Compiler: gcc 8.4.1 20200928

CentOS Stream 9
	Kernel: 4.18.0-240.10.1.el8_3.x86_64
	Compiler: gcc 11.3.1 20220421

Debian Bullseye
	Kernel: 5.4.0-122-generic
	Compiler: gcc 10.2.1-6

Debian 12 (arm)
	Kernel: Container Host Kernel
	Compiler: gcc 11

Fedora 37
	Kernel: Depends on container host system
	Compiler: gcc 12.3.1

Ubuntu 22.04
	Kernel: 4.18.0-240.10.1.el8_3.x86_64
	Compiler: gcc 11.3.0

Fedora 38
	Kernel: Depends on container host
	Compiler: clang 16.0.3

To view detailed results, visit:
https://lab.dpdk.org/results/dashboard/patchsets/29486/

UNH-IOL DPDK Community Lab

To manage your email subscriptions, visit: 
https://lab.dpdk.org/results/dashboard/preferences/subscriptions/