From mboxrd@z Thu Jan  1 00:00:00 1970
Return-Path: <test-report-bounces@dpdk.org>
Received: from mails.dpdk.org (mails.dpdk.org [217.70.189.124])
	by inbox.dpdk.org (Postfix) with ESMTP id 6754643C4B
	for <public@inbox.dpdk.org>; Fri,  8 Mar 2024 23:25:42 +0100 (CET)
Received: from mails.dpdk.org (localhost [127.0.0.1])
	by mails.dpdk.org (Postfix) with ESMTP id 5CD10402E7;
	Fri,  8 Mar 2024 23:25:42 +0100 (CET)
Received: from mail-io1-f99.google.com (mail-io1-f99.google.com
 [209.85.166.99]) by mails.dpdk.org (Postfix) with ESMTP id EBC68402BB
 for <test-report@dpdk.org>; Fri,  8 Mar 2024 23:25:38 +0100 (CET)
Received: by mail-io1-f99.google.com with SMTP id
 ca18e2360f4ac-7c872a07d57so45430139f.0
 for <test-report@dpdk.org>; Fri, 08 Mar 2024 14:25:38 -0800 (PST)
DKIM-Signature: v=1; a=rsa-sha256; c=relaxed/relaxed;
 d=iol.unh.edu; s=unh-iol; t=1709936738; x=1710541538; darn=dpdk.org;
 h=references:in-reply-to:cc:to:from:subject:message-id:date:from:to
 :cc:subject:date:message-id:reply-to;
 bh=9apfoeYoO8ccx4Un4vWDrNkR+LHWHffebkkxHxTDn6U=;
 b=ZWlF/nAdCZ7mKaMxxfNk3E4GRVGsXuihH/Vra/DOBgircQZrPksC9owMIxshXJfodX
 zB4zCHsDojCo+spu8/XuE1qMIb/4Oitr4Z67WingnwyO7vB86v7VzNRJ4n7Bp9u8IAFH
 dtAj9xBDo0DnTC0N33n4tsi5MGzkMERPMylM4=
X-Google-DKIM-Signature: v=1; a=rsa-sha256; c=relaxed/relaxed;
 d=1e100.net; s=20230601; t=1709936738; x=1710541538;
 h=references:in-reply-to:cc:to:from:subject:message-id:date
 :x-gm-message-state:from:to:cc:subject:date:message-id:reply-to;
 bh=9apfoeYoO8ccx4Un4vWDrNkR+LHWHffebkkxHxTDn6U=;
 b=U+CZqWC14FWhgafM77npTbk5Vu49X+RXtAFQTTNSI4vv37BMN6zuC6sXXvPTcw2v3r
 9bXU0RGjugiKPEzLnKWuamSlX2mUwnDOIpPfJjPv0kMtVzMbSvFuygu2X5tcGWVzAVNW
 PTQ5uOT88FYrWZZzhwLZQ/KKcFwh4sCfFZxa/9ec38tzUoJLS7h1Vn1ZliKKGh6+x6JW
 qxPfqBH6IlYYH2k5yf7kYaK0pj3bcZJ+7oz63w+pYWjt5MuiTx/TphGZRHTic7dTIM4Z
 micj5xNDrRjs+63ZGaEEB+u33RNsWATlZ7q92HfVSTHv0cO/Rafnwl1a1zelkQpM6mQs
 qang==
X-Gm-Message-State: AOJu0Yxgl1W0oeh2vHkt57eK7h/ZKDB/SPrPMViJRZdJHxVrBNjU87pg
 vFp1d+0dYkLbY80CAQopSYAGLG/uQw8BTmToqO/1gfVtrYvgxbnI3NyAegWZ/paA3aRZDURxkzu
 UKSzmiJifpHnVbbbVQFmVlocq8f1PSVYtyEQ18wB+
X-Google-Smtp-Source: AGHT+IERWgOoukOlAaPjjP2SH5r8XJW5aN+2NziuEEsnGHgcI0dMnjoUmexKO2x/6TsrQdsFD8VQNT6Jgw+5
X-Received: by 2002:a5e:a904:0:b0:7c8:3bda:1fe0 with SMTP id
 c4-20020a5ea904000000b007c83bda1fe0mr329094iod.1.1709936738356; 
 Fri, 08 Mar 2024 14:25:38 -0800 (PST)
Received: from postal.iol.unh.edu (postal.iol.unh.edu. [132.177.123.84])
 by smtp-relay.gmail.com with ESMTPS id
 k26-20020a6b6f1a000000b007c3f8d36f91sm13006ioc.18.2024.03.08.14.25.38
 (version=TLS1_2 cipher=ECDHE-ECDSA-AES128-GCM-SHA256 bits=128/128);
 Fri, 08 Mar 2024 14:25:38 -0800 (PST)
X-Relaying-Domain: iol.unh.edu
Date: Fri, 08 Mar 2024 14:25:38 -0800 (PST)
Message-ID: <65eb9062.6b0a0220.4cbc1.0c68SMTPIN_ADDED_MISSING@mx.google.com>
Received: from [172.21.0.8] (unknown [172.18.0.240])
 by postal.iol.unh.edu (Postfix) with ESMTP id DE4436052712;
 Fri,  8 Mar 2024 17:25:37 -0500 (EST)
Subject: |SUCCESS| pw138136 [PATCH] [RFC,v2] eal: increase passed max multi-p
From: dpdklab@iol.unh.edu
To: Test Report <test-report@dpdk.org>
Cc: dpdk-test-reports@iol.unh.edu
In-Reply-To: <20240308203737.208999-1-stephen@networkplumber.org>
References: <20240308203737.208999-1-stephen@networkplumber.org>
Content-Type: text/plain
X-BeenThere: test-report@dpdk.org
X-Mailman-Version: 2.1.29
Precedence: list
List-Id: automatic DPDK test reports <test-report.dpdk.org>
List-Unsubscribe: <https://mails.dpdk.org/options/test-report>,
 <mailto:test-report-request@dpdk.org?subject=unsubscribe>
List-Archive: <http://mails.dpdk.org/archives/test-report/>
List-Post: <mailto:test-report@dpdk.org>
List-Help: <mailto:test-report-request@dpdk.org?subject=help>
List-Subscribe: <https://mails.dpdk.org/listinfo/test-report>,
 <mailto:test-report-request@dpdk.org?subject=subscribe>
Errors-To: test-report-bounces@dpdk.org

Test-Label: iol-unit-amd64-testing
Test-Status: SUCCESS
http://dpdk.org/patch/138136

_Testing PASS_

Submitter: Stephen Hemminger <stephen@networkplumber.org>
Date: Friday, March 08 2024 20:36:39 
DPDK git baseline: Repo:dpdk
  Branch: master
  CommitID:a86f381b826660e88794754c41d3aec79ce9b87c

138136 --> testing pass

Test environment and result as below:

+------------------+----------------+
|   Environment    | dpdk_unit_test |
+==================+================+
| CentOS Stream 8  | PASS           |
+------------------+----------------+
| CentOS Stream 9  | PASS           |
+------------------+----------------+
| Debian Bullseye  | PASS           |
+------------------+----------------+
| Debian 12 (arm)  | PASS           |
+------------------+----------------+
| Fedora 37        | PASS           |
+------------------+----------------+
| Ubuntu 22.04     | PASS           |
+------------------+----------------+
| Fedora 38        | PASS           |
+------------------+----------------+
| RHEL8            | PASS           |
+------------------+----------------+
| Ubuntu 20.04     | PASS           |
+------------------+----------------+
| openSUSE Leap 15 | PASS           |
+------------------+----------------+


CentOS Stream 8
	Kernel: 4.18.0-240.10.1.el8_3.x86_64
	Compiler: gcc 8.4.1 20200928

CentOS Stream 9
	Kernel: 4.18.0-240.10.1.el8_3.x86_64
	Compiler: gcc 11.3.1 20220421

Debian Bullseye
	Kernel: 5.4.0-122-generic
	Compiler: gcc 10.2.1-6

Debian 12 (arm)
	Kernel: Container Host Kernel
	Compiler: gcc 11

Fedora 37
	Kernel: Depends on container host system
	Compiler: gcc 12.3.1

Ubuntu 22.04
	Kernel: 4.18.0-240.10.1.el8_3.x86_64
	Compiler: gcc 11.3.0

Fedora 38
	Kernel: Depends on container host
	Compiler: clang 16.0.3

RHEL8
	Kernel: 4.18.0-240.10.1.el8_3.x86_64
	Compiler: gcc 8.3.1 20191121 (Red Hat 8.3.1-5)

Ubuntu 20.04
	Kernel: 5.4.0-153-generic
	Compiler: gcc 9.4.0-1ubuntu1~20.04.1

openSUSE Leap 15
	Kernel: 4.18.0-240.10.1.el8_3.x86_64
	Compiler: gcc 7.5.0

To view detailed results, visit:
https://lab.dpdk.org/results/dashboard/patchsets/29486/

UNH-IOL DPDK Community Lab

To manage your email subscriptions, visit: 
https://lab.dpdk.org/results/dashboard/preferences/subscriptions/