From mboxrd@z Thu Jan  1 00:00:00 1970
Return-Path: <test-report-bounces@dpdk.org>
Received: from mails.dpdk.org (mails.dpdk.org [217.70.189.124])
	by inbox.dpdk.org (Postfix) with ESMTP id E30E143C4B
	for <public@inbox.dpdk.org>; Fri,  8 Mar 2024 23:26:52 +0100 (CET)
Received: from mails.dpdk.org (localhost [127.0.0.1])
	by mails.dpdk.org (Postfix) with ESMTP id DDF2E402E7;
	Fri,  8 Mar 2024 23:26:52 +0100 (CET)
Received: from mail-vk1-f225.google.com (mail-vk1-f225.google.com
 [209.85.221.225])
 by mails.dpdk.org (Postfix) with ESMTP id 619BF402BB
 for <test-report@dpdk.org>; Fri,  8 Mar 2024 23:26:51 +0100 (CET)
Received: by mail-vk1-f225.google.com with SMTP id
 71dfb90a1353d-4d341065550so404094e0c.0
 for <test-report@dpdk.org>; Fri, 08 Mar 2024 14:26:51 -0800 (PST)
DKIM-Signature: v=1; a=rsa-sha256; c=relaxed/relaxed;
 d=iol.unh.edu; s=unh-iol; t=1709936811; x=1710541611; darn=dpdk.org;
 h=references:in-reply-to:cc:to:from:subject:message-id:date:from:to
 :cc:subject:date:message-id:reply-to;
 bh=qeEKCvpW8lt/6A0hIUFA1cro9YUULIuleuWpvCYK5o4=;
 b=ISKNDiTQebAvnJ5M6Qt064VmhgXk7W12lQVbCLLY0lfdrTMaeDmzegHYH9s+aRlbBa
 yQi9YZcZPx9pR/Uc4WoL79v9CFVw5GQQUAVjoEE6WHpfvOEAU6AvztmyWRpcabunVV+N
 1ye5FuI71QmSipApQhwLExJTIYqYS6Lx1E4II=
X-Google-DKIM-Signature: v=1; a=rsa-sha256; c=relaxed/relaxed;
 d=1e100.net; s=20230601; t=1709936811; x=1710541611;
 h=references:in-reply-to:cc:to:from:subject:message-id:date
 :x-gm-message-state:from:to:cc:subject:date:message-id:reply-to;
 bh=qeEKCvpW8lt/6A0hIUFA1cro9YUULIuleuWpvCYK5o4=;
 b=PVHVVrfed6wP/4ReIT2fD9OGOl/l0jc1Co2OrfU/lS4aZ2CgBlYYuFLB2wjKEuLN9M
 KDRWT/65HlxCJ5PmOi+zQOnNINDVIRrLeL5milA7jfjGB3r7z3IAh+47eAaGi/2q47EI
 KgA+QP2YED87tthWsP9ijkOJ/yeSZ21QNdkRoOe7Kaqk8r3TZKGJcDxO7nJ0xTpoMM3u
 vXTUIHC+17xX0qfa30D7oC2z8DlNHg2i3QlXBWX84qOgVi5CPOXLp5Mt6JGnDCgUmv/z
 3Z814KwB1StwoYv8PlyXIYfsbnqE/xvt4tuosFS0Xaf3+TVYXKZNql6cbRKXTZm/nup9
 auFQ==
X-Gm-Message-State: AOJu0Yxo0BmwACkKm/Ipu7ZYV9GtXgOWBM3OKdxL4SeS1nn4oWl+ZUtZ
 7hOk7vKV3sYnw36bzz8LmIsEGJV9zL1TgriUs+mfM8ijZ6ZY+jfDSvjoN7Q/eIED0Bp6wCXU7lP
 XtD93z3OGFQvmPcfNPXmD76THYdLFTs1jI4dhja3g2IDkXPjZjYr2wlcK
X-Google-Smtp-Source: AGHT+IENSGDRUkWQUezcMlqyZ+KlAO+fVM29rW5ZPZu0nyjgoSqzBE4C0Ee0y/iN8frJg/AhCe87Nh/yhMHF
X-Received: by 2002:a05:6102:d8a:b0:471:e2ca:4023 with SMTP id
 d10-20020a0561020d8a00b00471e2ca4023mr346108vst.25.1709936810805; 
 Fri, 08 Mar 2024 14:26:50 -0800 (PST)
Received: from postal.iol.unh.edu (postal.iol.unh.edu.
 [2606:4100:3880:1234::84]) by smtp-relay.gmail.com with ESMTPS id
 q18-20020ab054d2000000b007dab56c1c18sm20925uaa.13.2024.03.08.14.26.50
 (version=TLS1_2 cipher=ECDHE-ECDSA-AES128-GCM-SHA256 bits=128/128);
 Fri, 08 Mar 2024 14:26:50 -0800 (PST)
X-Relaying-Domain: iol.unh.edu
Date: Fri, 08 Mar 2024 14:26:50 -0800 (PST)
Message-ID: <65eb90aa.b00a0220.e31c1.1475SMTPIN_ADDED_MISSING@mx.google.com>
Received: from [172.21.0.7] (unknown [172.18.0.240])
 by postal.iol.unh.edu (Postfix) with ESMTP id 7D5436052712;
 Fri,  8 Mar 2024 17:26:50 -0500 (EST)
Subject: |SUCCESS| pw138136 [PATCH] [RFC,v2] eal: increase passed max multi-p
From: dpdklab@iol.unh.edu
To: Test Report <test-report@dpdk.org>
Cc: dpdk-test-reports@iol.unh.edu
In-Reply-To: <20240308203737.208999-1-stephen@networkplumber.org>
References: <20240308203737.208999-1-stephen@networkplumber.org>
Content-Type: text/plain
X-BeenThere: test-report@dpdk.org
X-Mailman-Version: 2.1.29
Precedence: list
List-Id: automatic DPDK test reports <test-report.dpdk.org>
List-Unsubscribe: <https://mails.dpdk.org/options/test-report>,
 <mailto:test-report-request@dpdk.org?subject=unsubscribe>
List-Archive: <http://mails.dpdk.org/archives/test-report/>
List-Post: <mailto:test-report@dpdk.org>
List-Help: <mailto:test-report-request@dpdk.org?subject=help>
List-Subscribe: <https://mails.dpdk.org/listinfo/test-report>,
 <mailto:test-report-request@dpdk.org?subject=subscribe>
Errors-To: test-report-bounces@dpdk.org

Test-Label: iol-compile-amd64-testing
Test-Status: SUCCESS
http://dpdk.org/patch/138136

_Testing PASS_

Submitter: Stephen Hemminger <stephen@networkplumber.org>
Date: Friday, March 08 2024 20:36:39 
DPDK git baseline: Repo:dpdk
  Branch: master
  CommitID:a86f381b826660e88794754c41d3aec79ce9b87c

138136 --> testing pass

Test environment and result as below:

+---------------------+--------------------+----------------------+
|     Environment     | dpdk_meson_compile | dpdk_mingw64_compile |
+=====================+====================+======================+
| Windows Server 2022 | PASS               | SKIPPED              |
+---------------------+--------------------+----------------------+
| Windows Server 2019 | PASS               | PASS                 |
+---------------------+--------------------+----------------------+
| FreeBSD 13.2        | PASS               | SKIPPED              |
+---------------------+--------------------+----------------------+
| Fedora 38           | PASS               | SKIPPED              |
+---------------------+--------------------+----------------------+
| CentOS Stream 8     | PASS               | SKIPPED              |
+---------------------+--------------------+----------------------+
| openSUSE Leap 15    | PASS               | SKIPPED              |
+---------------------+--------------------+----------------------+
| Debian Bullseye     | PASS               | SKIPPED              |
+---------------------+--------------------+----------------------+
| CentOS Stream 9     | PASS               | SKIPPED              |
+---------------------+--------------------+----------------------+
| RHEL8               | PASS               | SKIPPED              |
+---------------------+--------------------+----------------------+
| Debian 12 (arm)     | PASS               | SKIPPED              |
+---------------------+--------------------+----------------------+
| Ubuntu 22.04        | PASS               | SKIPPED              |
+---------------------+--------------------+----------------------+
| Fedora 37           | PASS               | SKIPPED              |
+---------------------+--------------------+----------------------+
| Ubuntu 20.04        | PASS               | SKIPPED              |
+---------------------+--------------------+----------------------+


Windows Server 2022
	Kernel: OS Build 20348.2031
	Compiler: MSVC VS-Preview

Windows Server 2019
	Kernel: 10.0
	Compiler: clang 14.0 and gcc 8.1.0 (MinGW)

FreeBSD 13.2
	Kernel: 13.2
	Compiler: clang 11.3.0

Fedora 38
	Kernel: Depends on container host
	Compiler: clang 16.0.3

CentOS Stream 8
	Kernel: 4.18.0-240.10.1.el8_3.x86_64
	Compiler: gcc 8.4.1 20200928

openSUSE Leap 15
	Kernel: 4.18.0-240.10.1.el8_3.x86_64
	Compiler: gcc 7.5.0

Debian Bullseye
	Kernel: 5.4.0-122-generic
	Compiler: gcc 10.2.1-6

CentOS Stream 9
	Kernel: 4.18.0-240.10.1.el8_3.x86_64
	Compiler: gcc 11.3.1 20220421

RHEL8
	Kernel: 4.18.0-240.10.1.el8_3.x86_64
	Compiler: gcc 8.3.1 20191121 (Red Hat 8.3.1-5)

Debian 12 (arm)
	Kernel: Container Host Kernel
	Compiler: gcc 11

Ubuntu 22.04
	Kernel: 4.18.0-240.10.1.el8_3.x86_64
	Compiler: gcc 11.3.0

Fedora 37
	Kernel: Depends on container host system
	Compiler: gcc 12.3.1

Ubuntu 20.04
	Kernel: 5.4.0-153-generic
	Compiler: gcc 9.4.0-1ubuntu1~20.04.1

To view detailed results, visit:
https://lab.dpdk.org/results/dashboard/patchsets/29486/

UNH-IOL DPDK Community Lab

To manage your email subscriptions, visit: 
https://lab.dpdk.org/results/dashboard/preferences/subscriptions/