From mboxrd@z Thu Jan  1 00:00:00 1970
Return-Path: <test-report-bounces@dpdk.org>
Received: from mails.dpdk.org (mails.dpdk.org [217.70.189.124])
	by inbox.dpdk.org (Postfix) with ESMTP id 38E2243C53
	for <public@inbox.dpdk.org>; Sat,  9 Mar 2024 00:07:10 +0100 (CET)
Received: from mails.dpdk.org (localhost [127.0.0.1])
	by mails.dpdk.org (Postfix) with ESMTP id 354134027A;
	Sat,  9 Mar 2024 00:07:10 +0100 (CET)
Received: from mail-qv1-f98.google.com (mail-qv1-f98.google.com
 [209.85.219.98]) by mails.dpdk.org (Postfix) with ESMTP id AAA014021D
 for <test-report@dpdk.org>; Sat,  9 Mar 2024 00:07:08 +0100 (CET)
Received: by mail-qv1-f98.google.com with SMTP id
 6a1803df08f44-690a60d396aso8361306d6.1
 for <test-report@dpdk.org>; Fri, 08 Mar 2024 15:07:08 -0800 (PST)
DKIM-Signature: v=1; a=rsa-sha256; c=relaxed/relaxed;
 d=iol.unh.edu; s=unh-iol; t=1709939228; x=1710544028; darn=dpdk.org;
 h=references:in-reply-to:cc:to:from:subject:message-id:date:from:to
 :cc:subject:date:message-id:reply-to;
 bh=bEHwz/I66xFFNtOwaaPCT0pOsFrwD3822HX09sjJBcU=;
 b=cVquVdjt5l6RM4CZsUnoGET/Al3PXOgIqG/pI7LUmSU5dHfbAa/H6BX60z7CdEgtw8
 MMZfQZxbjuZXz60T4ShGSIFnx5FGxip0AKUcrPz15qsKGC/bJxttR5euXV/2fwxvHtI5
 7QroOQy1T6yN0+2E6Kg8YWumPjm0zcqVj2dGc=
X-Google-DKIM-Signature: v=1; a=rsa-sha256; c=relaxed/relaxed;
 d=1e100.net; s=20230601; t=1709939228; x=1710544028;
 h=references:in-reply-to:cc:to:from:subject:message-id:date
 :x-gm-message-state:from:to:cc:subject:date:message-id:reply-to;
 bh=bEHwz/I66xFFNtOwaaPCT0pOsFrwD3822HX09sjJBcU=;
 b=W0Eyyb+690PNm3g5hDPNoIRrCKmK+qKFL4Qu6UY8BqsWMNR/HKgb6T829Vk09UndXz
 cvD6MK0T4gP15P0sgfcCmoHBx5nNyXtwlBHAWt70k1Yt0vzOdO1yhLOyRdD0u6T9cBpr
 LleFlPruJ63c5k1EGR2RsC9MZg2bbXKLuw04slxrjIU3wL+9UykQws13Imwi4rHc6wMB
 V7JmDJPZpYM/gAqJWOBz/E1jiS2QHkkOXq3gu9BL30kcqb5aw6QdAeNF2nYKifM/i+Zo
 rkQY9Z48abalgrMOONvmeu/skYH4Dnd/a8NDTWl0CAnDI/oDjhwgsF4xmCyHBTICjClC
 moHA==
X-Gm-Message-State: AOJu0YxpSHEhLbIaU5fkmJ5bwgWdDoHdWck2VSqA7pDr/Te4/hL5gQ7E
 BswcqB4Zd/WltruQW9kjTdSM7pr8lShi81oQ8+P4B/Dm8cJmOvIatwXxelcSkGpSF6uP/YGmE7z
 GFDPnYKrFjqBzidR9dyc/uE0KaUvAh4qZRg2xjZp/d4eLwkg6vEAsfjAQ
X-Google-Smtp-Source: AGHT+IGlD+Ka8aBlfpRcl0Pof0fDXa0Rgc527YvK85Jgj+6dt1XO8uI/FBCVUFGFI8ZTY2x9omDKKBvFL2Hm
X-Received: by 2002:a0c:eb43:0:b0:690:b62c:89fe with SMTP id
 c3-20020a0ceb43000000b00690b62c89femr472622qvq.2.1709939228229; 
 Fri, 08 Mar 2024 15:07:08 -0800 (PST)
Received: from postal.iol.unh.edu (postal.iol.unh.edu.
 [2606:4100:3880:1234::84]) by smtp-relay.gmail.com with ESMTPS id
 a1-20020ad45c41000000b00690a67a6d55sm17553qva.65.2024.03.08.15.07.08
 (version=TLS1_2 cipher=ECDHE-ECDSA-AES128-GCM-SHA256 bits=128/128);
 Fri, 08 Mar 2024 15:07:08 -0800 (PST)
X-Relaying-Domain: iol.unh.edu
Date: Fri, 08 Mar 2024 15:07:08 -0800 (PST)
Message-ID: <65eb9a1c.d40a0220.2e048.119cSMTPIN_ADDED_MISSING@mx.google.com>
Received: from [172.21.0.6] (unknown [172.18.0.240])
 by postal.iol.unh.edu (Postfix) with ESMTP id EB55D6052712;
 Fri,  8 Mar 2024 18:07:07 -0500 (EST)
Subject: |SUCCESS| pw138133 [PATCH] [v2] add a ignore list for get_maintainer
From: dpdklab@iol.unh.edu
To: Test Report <test-report@dpdk.org>
Cc: dpdk-test-reports@iol.unh.edu
In-Reply-To: <20240308181310.70014-1-stephen@networkplumber.org>
References: <20240308181310.70014-1-stephen@networkplumber.org>
Content-Type: text/plain
X-BeenThere: test-report@dpdk.org
X-Mailman-Version: 2.1.29
Precedence: list
List-Id: automatic DPDK test reports <test-report.dpdk.org>
List-Unsubscribe: <https://mails.dpdk.org/options/test-report>,
 <mailto:test-report-request@dpdk.org?subject=unsubscribe>
List-Archive: <http://mails.dpdk.org/archives/test-report/>
List-Post: <mailto:test-report@dpdk.org>
List-Help: <mailto:test-report-request@dpdk.org?subject=help>
List-Subscribe: <https://mails.dpdk.org/listinfo/test-report>,
 <mailto:test-report-request@dpdk.org?subject=subscribe>
Errors-To: test-report-bounces@dpdk.org

Test-Label: iol-abi-testing
Test-Status: SUCCESS
http://dpdk.org/patch/138133

_Testing PASS_

Submitter: Stephen Hemminger <stephen@networkplumber.org>
Date: Friday, March 08 2024 18:12:51 
DPDK git baseline: Repo:dpdk
  Branch: master
  CommitID:a86f381b826660e88794754c41d3aec79ce9b87c

138133 --> testing pass

Test environment and result as below:

+------------------+----------+
|   Environment    | abi_test |
+==================+==========+
| openSUSE Leap 15 | PASS     |
+------------------+----------+
| Debian Bullseye  | PASS     |
+------------------+----------+
| CentOS Stream 8  | PASS     |
+------------------+----------+
| CentOS Stream 9  | PASS     |
+------------------+----------+
| Fedora 37        | PASS     |
+------------------+----------+
| Fedora 38        | PASS     |
+------------------+----------+
| Debian 12 (arm)  | PASS     |
+------------------+----------+
| Ubuntu 22.04     | PASS     |
+------------------+----------+


openSUSE Leap 15
	Kernel: 4.18.0-240.10.1.el8_3.x86_64
	Compiler: gcc 7.5.0

Debian Bullseye
	Kernel: 5.4.0-122-generic
	Compiler: gcc 10.2.1-6

CentOS Stream 8
	Kernel: 4.18.0-240.10.1.el8_3.x86_64
	Compiler: gcc 8.4.1 20200928

CentOS Stream 9
	Kernel: 4.18.0-240.10.1.el8_3.x86_64
	Compiler: gcc 11.3.1 20220421

Fedora 37
	Kernel: Depends on container host system
	Compiler: gcc 12.3.1

Fedora 38
	Kernel: Depends on container host
	Compiler: clang 16.0.3

Debian 12 (arm)
	Kernel: Container Host Kernel
	Compiler: gcc 11

Ubuntu 22.04
	Kernel: 4.18.0-240.10.1.el8_3.x86_64
	Compiler: gcc 11.3.0

To view detailed results, visit:
https://lab.dpdk.org/results/dashboard/patchsets/29483/

UNH-IOL DPDK Community Lab

To manage your email subscriptions, visit: 
https://lab.dpdk.org/results/dashboard/preferences/subscriptions/