From mboxrd@z Thu Jan  1 00:00:00 1970
Return-Path: <test-report-bounces@dpdk.org>
Received: from mails.dpdk.org (mails.dpdk.org [217.70.189.124])
	by inbox.dpdk.org (Postfix) with ESMTP id CC4B043C53
	for <public@inbox.dpdk.org>; Sat,  9 Mar 2024 00:28:03 +0100 (CET)
Received: from mails.dpdk.org (localhost [127.0.0.1])
	by mails.dpdk.org (Postfix) with ESMTP id BEF6D4027A;
	Sat,  9 Mar 2024 00:28:03 +0100 (CET)
Received: from mail-io1-f100.google.com (mail-io1-f100.google.com
 [209.85.166.100])
 by mails.dpdk.org (Postfix) with ESMTP id C86B64021D
 for <test-report@dpdk.org>; Sat,  9 Mar 2024 00:28:02 +0100 (CET)
Received: by mail-io1-f100.google.com with SMTP id
 ca18e2360f4ac-7c89d5aee37so11648239f.1
 for <test-report@dpdk.org>; Fri, 08 Mar 2024 15:28:02 -0800 (PST)
DKIM-Signature: v=1; a=rsa-sha256; c=relaxed/relaxed;
 d=iol.unh.edu; s=unh-iol; t=1709940482; x=1710545282; darn=dpdk.org;
 h=references:in-reply-to:cc:to:from:subject:message-id:date:from:to
 :cc:subject:date:message-id:reply-to;
 bh=4OHqHA5L0MZH5yjpiZyLxabcHPI5rPTnbmLmuyps1n0=;
 b=CcraCc1LedfWFONCsQ9HcIo2hPHPYwwFQTI7AKFjAs4E09KK1mIicGyXBp+l4ZxK6z
 ewtH530i5IuO8EMLosHCgJ7LCV9yBnYg7HoockzozdpsAGc4cfavirHm3Ut4+c9gBaxS
 u4awT8eDAghpK/5jvm9NrzNX+aIpt+Nq/N/t8=
X-Google-DKIM-Signature: v=1; a=rsa-sha256; c=relaxed/relaxed;
 d=1e100.net; s=20230601; t=1709940482; x=1710545282;
 h=references:in-reply-to:cc:to:from:subject:message-id:date
 :x-gm-message-state:from:to:cc:subject:date:message-id:reply-to;
 bh=4OHqHA5L0MZH5yjpiZyLxabcHPI5rPTnbmLmuyps1n0=;
 b=iAn8L2vnHxB/ZiwNhwnU1YjvQbvYbbJd/wt+c8xLziJpqQciM6ma2rgT7aYTX09Gwo
 Nfv4FkMCDunOZw/SVm/6IopDAkiCqaDG6zLhxuQtGX7mPNPfzAUDoxnNcXrJ27/uHmXr
 VO3qeQjcsv3/Oqfsz0MTecN87vs/e9ykMFUIfQAiSfBZOGnIGCQpebEoLFygonZ2mMCT
 lsdxYXJtcxPXnRHM5+RcYFw2zlSaNgHzhJG/YHF19qbFJkHXkjCTfp7EdmqpxNyXXbOn
 jur/43A+PC8RoOFSKZXuJOID4Y3vbbq+l3iKC9mpCHCv6Gsp0dX9T+coVAqno03VAMkX
 dAkw==
X-Gm-Message-State: AOJu0Yy76/w13lRR1VW373d+OQKbEffg7H6FcEugrct+QEiUxKZ9gO4h
 KKla+4cVqjocrI9D+/cxHzVwdT1/CGAzBCNgK7Gu07Mrh9UguI+IVAjCWKQGU97kKS4JUSvqVM2
 GMzVremoZwDj9bSqKMiVoFagknVxJsa2zFzCWx1Bo
X-Google-Smtp-Source: AGHT+IEf+TUnV4WEGRIkOFpdi6ZyOGVmVAQeCfLevo+K6B+5De/9AAnlUpRdSTnyvxy51vMxuiF+qekVMLe6
X-Received: by 2002:a05:6e02:19ca:b0:365:ca58:6e87 with SMTP id
 r10-20020a056e0219ca00b00365ca586e87mr413706ill.13.1709940482162; 
 Fri, 08 Mar 2024 15:28:02 -0800 (PST)
Received: from postal.iol.unh.edu (postal.iol.unh.edu. [132.177.123.84])
 by smtp-relay.gmail.com with ESMTPS id
 x9-20020a056638248900b00474597704f2sm17469jat.52.2024.03.08.15.28.02
 (version=TLS1_2 cipher=ECDHE-ECDSA-AES128-GCM-SHA256 bits=128/128);
 Fri, 08 Mar 2024 15:28:02 -0800 (PST)
X-Relaying-Domain: iol.unh.edu
Date: Fri, 08 Mar 2024 15:28:02 -0800 (PST)
Message-ID: <65eb9f02.050a0220.73f4e.124cSMTPIN_ADDED_MISSING@mx.google.com>
Received: from [172.21.0.6] (unknown [172.18.0.240])
 by postal.iol.unh.edu (Postfix) with ESMTP id AD3CF6052712;
 Fri,  8 Mar 2024 18:28:01 -0500 (EST)
Subject: |SUCCESS| pw138135 [PATCH] [v3] app/dma-perf: add average latency pe
From: dpdklab@iol.unh.edu
To: Test Report <test-report@dpdk.org>
Cc: dpdk-test-reports@iol.unh.edu
In-Reply-To: <20240308190646.1456-1-vipin.varghese@amd.com>
References: <20240308190646.1456-1-vipin.varghese@amd.com>
Content-Type: text/plain
X-BeenThere: test-report@dpdk.org
X-Mailman-Version: 2.1.29
Precedence: list
List-Id: automatic DPDK test reports <test-report.dpdk.org>
List-Unsubscribe: <https://mails.dpdk.org/options/test-report>,
 <mailto:test-report-request@dpdk.org?subject=unsubscribe>
List-Archive: <http://mails.dpdk.org/archives/test-report/>
List-Post: <mailto:test-report@dpdk.org>
List-Help: <mailto:test-report-request@dpdk.org?subject=help>
List-Subscribe: <https://mails.dpdk.org/listinfo/test-report>,
 <mailto:test-report-request@dpdk.org?subject=subscribe>
Errors-To: test-report-bounces@dpdk.org

Test-Label: iol-unit-amd64-testing
Test-Status: SUCCESS
http://dpdk.org/patch/138135

_Testing PASS_

Submitter: Vipin Varghese <vipin.varghese@amd.com>
Date: Friday, March 08 2024 19:06:46 
DPDK git baseline: Repo:dpdk
  Branch: master
  CommitID:a86f381b826660e88794754c41d3aec79ce9b87c

138135 --> testing pass

Test environment and result as below:

+------------------+----------------+
|   Environment    | dpdk_unit_test |
+==================+================+
| Debian Bullseye  | PASS           |
+------------------+----------------+
| CentOS Stream 8  | PASS           |
+------------------+----------------+
| CentOS Stream 9  | PASS           |
+------------------+----------------+
| Debian 12 (arm)  | PASS           |
+------------------+----------------+
| RHEL8            | PASS           |
+------------------+----------------+
| Fedora 37        | PASS           |
+------------------+----------------+
| Ubuntu 20.04     | PASS           |
+------------------+----------------+
| openSUSE Leap 15 | PASS           |
+------------------+----------------+
| Fedora 38        | PASS           |
+------------------+----------------+


Debian Bullseye
	Kernel: 5.4.0-122-generic
	Compiler: gcc 10.2.1-6

CentOS Stream 8
	Kernel: 4.18.0-240.10.1.el8_3.x86_64
	Compiler: gcc 8.4.1 20200928

CentOS Stream 9
	Kernel: 4.18.0-240.10.1.el8_3.x86_64
	Compiler: gcc 11.3.1 20220421

Debian 12 (arm)
	Kernel: Container Host Kernel
	Compiler: gcc 11

RHEL8
	Kernel: 4.18.0-240.10.1.el8_3.x86_64
	Compiler: gcc 8.3.1 20191121 (Red Hat 8.3.1-5)

Fedora 37
	Kernel: Depends on container host system
	Compiler: gcc 12.3.1

Ubuntu 20.04
	Kernel: 5.4.0-153-generic
	Compiler: gcc 9.4.0-1ubuntu1~20.04.1

openSUSE Leap 15
	Kernel: 4.18.0-240.10.1.el8_3.x86_64
	Compiler: gcc 7.5.0

Fedora 38
	Kernel: Depends on container host
	Compiler: gcc 13.1.1

To view detailed results, visit:
https://lab.dpdk.org/results/dashboard/patchsets/29485/

UNH-IOL DPDK Community Lab

To manage your email subscriptions, visit: 
https://lab.dpdk.org/results/dashboard/preferences/subscriptions/