From mboxrd@z Thu Jan  1 00:00:00 1970
Return-Path: <test-report-bounces@dpdk.org>
Received: from mails.dpdk.org (mails.dpdk.org [217.70.189.124])
	by inbox.dpdk.org (Postfix) with ESMTP id 2610743C53
	for <public@inbox.dpdk.org>; Sat,  9 Mar 2024 00:28:18 +0100 (CET)
Received: from mails.dpdk.org (localhost [127.0.0.1])
	by mails.dpdk.org (Postfix) with ESMTP id 1FFFE4027A;
	Sat,  9 Mar 2024 00:28:18 +0100 (CET)
Received: from mail-qv1-f100.google.com (mail-qv1-f100.google.com
 [209.85.219.100])
 by mails.dpdk.org (Postfix) with ESMTP id 7D5704021D
 for <test-report@dpdk.org>; Sat,  9 Mar 2024 00:28:16 +0100 (CET)
Received: by mail-qv1-f100.google.com with SMTP id
 6a1803df08f44-68f571be9ddso18783266d6.0
 for <test-report@dpdk.org>; Fri, 08 Mar 2024 15:28:16 -0800 (PST)
DKIM-Signature: v=1; a=rsa-sha256; c=relaxed/relaxed;
 d=iol.unh.edu; s=unh-iol; t=1709940496; x=1710545296; darn=dpdk.org;
 h=references:in-reply-to:cc:to:from:subject:message-id:date:from:to
 :cc:subject:date:message-id:reply-to;
 bh=4OHqHA5L0MZH5yjpiZyLxabcHPI5rPTnbmLmuyps1n0=;
 b=h1iG2uvv01CIAA+mY/WgPio43r4g9x96WWlY2nkvDkvCuOMBEZsSd3xRVDu5H6knFI
 nUgYf7d9MhQfLSxqB7NL84t3/yjLxS7KGnZWCHnibCu4Rsw4Z0W2sRekPa/eEFR3nFa1
 dCHj8aVWT95q9NQbWtgKqUkcHb/+gyWfTSe4E=
X-Google-DKIM-Signature: v=1; a=rsa-sha256; c=relaxed/relaxed;
 d=1e100.net; s=20230601; t=1709940496; x=1710545296;
 h=references:in-reply-to:cc:to:from:subject:message-id:date
 :x-gm-message-state:from:to:cc:subject:date:message-id:reply-to;
 bh=4OHqHA5L0MZH5yjpiZyLxabcHPI5rPTnbmLmuyps1n0=;
 b=S2/uAe2KTY3F1tWXM9BZq0gfo5zICkww044NSu3HN5EdL0KDaCXAJH61YkSoSv1k3v
 cp/ATqB7sN4aKHv1kKY6rWQkd/Iktf7svLqRbVpr5m5Lcg3E9UGOHcu4u1orjqL/u+6K
 llWavyBLqw4tcva77T4o7NrzCE8MFTTmite9Bcf9Y/xcVXqY5BQVH3NCXEh14cdxY1+L
 hzajjRnF30v1qLhicyMjLk0vyigSDWvQ3zpVjB1/aQ/eZjNi5g2rqfEeGPHksLqXQXGV
 Ojzu7h4z/Uqo9TXrGYQiuEYH7gpPjUp02/wLIGpDYN7zQuWhhkpmEvHcrnSj3Cgv2l9Y
 bcDA==
X-Gm-Message-State: AOJu0Ywp9N5/AyTh3PTDlLFOaliP9pSTKwVcAQTWk1IPQ7Zj0J5h9d6O
 EPb5T3rBnP+Z5FAUEXYCrP6d2JnI6IWYnY+Jxg8pe0NqK+VwOMIpChQ8q1B2v3vHoPiBikr0s4T
 4SSCBxf0jIDVfN5sXrQg+p9Bgd7C7js07NRu5JCwhhA6nmjLn+y3Xb3e4
X-Google-Smtp-Source: AGHT+IHWiF/ybfJKCpLLs/xV48+0d65suaz8pmItG+it05NKXVx3kWfoBDFA6tjQ69JeBQMamiRlCI5d53mj
X-Received: by 2002:ad4:4a68:0:b0:690:bcb5:86d1 with SMTP id
 cn8-20020ad44a68000000b00690bcb586d1mr482740qvb.7.1709940495918; 
 Fri, 08 Mar 2024 15:28:15 -0800 (PST)
Received: from postal.iol.unh.edu (postal.iol.unh.edu.
 [2606:4100:3880:1234::84]) by smtp-relay.gmail.com with ESMTPS id
 r15-20020ad4576f000000b0068f17647f74sm16796qvx.4.2024.03.08.15.28.15
 (version=TLS1_2 cipher=ECDHE-ECDSA-AES128-GCM-SHA256 bits=128/128);
 Fri, 08 Mar 2024 15:28:15 -0800 (PST)
X-Relaying-Domain: iol.unh.edu
Date: Fri, 08 Mar 2024 15:28:15 -0800 (PST)
Message-ID: <65eb9f0f.d40a0220.7ff36.1366SMTPIN_ADDED_MISSING@mx.google.com>
Received: from [172.17.0.7] (unknown [172.18.0.217])
 by postal.iol.unh.edu (Postfix) with ESMTP id A51116052712;
 Fri,  8 Mar 2024 18:28:15 -0500 (EST)
Subject: |SUCCESS| pw138135 [PATCH] [v3] app/dma-perf: add average latency pe
From: dpdklab@iol.unh.edu
To: Test Report <test-report@dpdk.org>
Cc: dpdk-test-reports@iol.unh.edu
In-Reply-To: <20240308190646.1456-1-vipin.varghese@amd.com>
References: <20240308190646.1456-1-vipin.varghese@amd.com>
Content-Type: text/plain
X-BeenThere: test-report@dpdk.org
X-Mailman-Version: 2.1.29
Precedence: list
List-Id: automatic DPDK test reports <test-report.dpdk.org>
List-Unsubscribe: <https://mails.dpdk.org/options/test-report>,
 <mailto:test-report-request@dpdk.org?subject=unsubscribe>
List-Archive: <http://mails.dpdk.org/archives/test-report/>
List-Post: <mailto:test-report@dpdk.org>
List-Help: <mailto:test-report-request@dpdk.org?subject=help>
List-Subscribe: <https://mails.dpdk.org/listinfo/test-report>,
 <mailto:test-report-request@dpdk.org?subject=subscribe>
Errors-To: test-report-bounces@dpdk.org

Test-Label: iol-unit-amd64-testing
Test-Status: SUCCESS
http://dpdk.org/patch/138135

_Testing PASS_

Submitter: Vipin Varghese <vipin.varghese@amd.com>
Date: Friday, March 08 2024 19:06:46 
DPDK git baseline: Repo:dpdk
  Branch: master
  CommitID:a86f381b826660e88794754c41d3aec79ce9b87c

138135 --> testing pass

Test environment and result as below:

+------------------+----------------+
|   Environment    | dpdk_unit_test |
+==================+================+
| Debian Bullseye  | PASS           |
+------------------+----------------+
| CentOS Stream 8  | PASS           |
+------------------+----------------+
| CentOS Stream 9  | PASS           |
+------------------+----------------+
| Debian 12 (arm)  | PASS           |
+------------------+----------------+
| RHEL8            | PASS           |
+------------------+----------------+
| Fedora 37        | PASS           |
+------------------+----------------+
| Ubuntu 20.04     | PASS           |
+------------------+----------------+
| openSUSE Leap 15 | PASS           |
+------------------+----------------+
| Fedora 38        | PASS           |
+------------------+----------------+


Debian Bullseye
	Kernel: 5.4.0-122-generic
	Compiler: gcc 10.2.1-6

CentOS Stream 8
	Kernel: 4.18.0-240.10.1.el8_3.x86_64
	Compiler: gcc 8.4.1 20200928

CentOS Stream 9
	Kernel: 4.18.0-240.10.1.el8_3.x86_64
	Compiler: gcc 11.3.1 20220421

Debian 12 (arm)
	Kernel: Container Host Kernel
	Compiler: gcc 11

RHEL8
	Kernel: 4.18.0-240.10.1.el8_3.x86_64
	Compiler: gcc 8.3.1 20191121 (Red Hat 8.3.1-5)

Fedora 37
	Kernel: Depends on container host system
	Compiler: gcc 12.3.1

Ubuntu 20.04
	Kernel: 5.4.0-153-generic
	Compiler: gcc 9.4.0-1ubuntu1~20.04.1

openSUSE Leap 15
	Kernel: 4.18.0-240.10.1.el8_3.x86_64
	Compiler: gcc 7.5.0

Fedora 38
	Kernel: Depends on container host
	Compiler: gcc 13.1.1

To view detailed results, visit:
https://lab.dpdk.org/results/dashboard/patchsets/29485/

UNH-IOL DPDK Community Lab

To manage your email subscriptions, visit: 
https://lab.dpdk.org/results/dashboard/preferences/subscriptions/