From mboxrd@z Thu Jan  1 00:00:00 1970
Return-Path: <test-report-bounces@dpdk.org>
Received: from mails.dpdk.org (mails.dpdk.org [217.70.189.124])
	by inbox.dpdk.org (Postfix) with ESMTP id 41A8B43C53
	for <public@inbox.dpdk.org>; Sat,  9 Mar 2024 00:28:24 +0100 (CET)
Received: from mails.dpdk.org (localhost [127.0.0.1])
	by mails.dpdk.org (Postfix) with ESMTP id 3A6184027A;
	Sat,  9 Mar 2024 00:28:24 +0100 (CET)
Received: from mail-yw1-f228.google.com (mail-yw1-f228.google.com
 [209.85.128.228])
 by mails.dpdk.org (Postfix) with ESMTP id 82F654021D
 for <test-report@dpdk.org>; Sat,  9 Mar 2024 00:28:19 +0100 (CET)
Received: by mail-yw1-f228.google.com with SMTP id
 00721157ae682-60974cb1cd7so25559667b3.3
 for <test-report@dpdk.org>; Fri, 08 Mar 2024 15:28:19 -0800 (PST)
DKIM-Signature: v=1; a=rsa-sha256; c=relaxed/relaxed;
 d=iol.unh.edu; s=unh-iol; t=1709940499; x=1710545299; darn=dpdk.org;
 h=references:in-reply-to:cc:to:from:subject:message-id:date:from:to
 :cc:subject:date:message-id:reply-to;
 bh=wa6bZhQvCX8qd24y4UrPj6eetkFyXIIVNwe622BYWgA=;
 b=aAUrWvunA68F61QIZGOr2HkRTWW1FpV8QrL1uGNdvmkNkJ5X5n8O06UJ9G4sYpiGR6
 DHGUmht7VYxufP4JXp0thMKVRF/YFxqhCw/I2bwpJfnPqoST17/mibAibFB/oXu6gI1u
 E0PgHzrf2gDqYxNelAB0hePxeAJZrADBunxuM=
X-Google-DKIM-Signature: v=1; a=rsa-sha256; c=relaxed/relaxed;
 d=1e100.net; s=20230601; t=1709940499; x=1710545299;
 h=references:in-reply-to:cc:to:from:subject:message-id:date
 :x-gm-message-state:from:to:cc:subject:date:message-id:reply-to;
 bh=wa6bZhQvCX8qd24y4UrPj6eetkFyXIIVNwe622BYWgA=;
 b=KlOIKPxXwhuPalxRNpK8aGg9BkC+OREFhamCJCddTIW5aPSt0SSjSMGbvWqUJZiF/R
 S7hdx5YIUABUK88WNPYU6L4WFIySugh8pzv2gh1hnWBIztQ7rckCrwaEkPDgW3G2eNaT
 IOhsPsrqlUMwB6KmkA+yPMtL8+1Wz2JCCTZdXFgOqjdSpULvhtwfzJcm6VQNpKXjwNJk
 CP1jaB/cnu1GqOocuk5CCn/E/QF7mIUREFIJob3oZ/eH9cpzXozDMS+R55J8uSGT5xv5
 Y5zgCR9ITjHSK2WEPL2suiZo/O/rwjjsZ43jbl4TXrJbIyES7AovTXCChl0WnfGNta77
 odBA==
X-Gm-Message-State: AOJu0YyU+K5gfpKoFSQkgsci/sP3IDbl3bFkbswsaiQkxu50NE1Z5QEj
 aKX2puU2lWJqgTV4XRklBXeKbOULRIE6QRRvfTSxibstQSR35Q9g5dyf01v4+zX+5j+N3bU72Q2
 t8VfkxzxDcSJOdLC37WlVpChgAE9CDf+SJSQl/q+B
X-Google-Smtp-Source: AGHT+IF1dxzSsQfARNuztIHTEzbOYdi41I264a8fEQoeFpRtUhOkSTV8xWMT2RWV9OFKqXVYzJHW+iokbbGP
X-Received: by 2002:a0d:e706:0:b0:608:cda9:b735 with SMTP id
 q6-20020a0de706000000b00608cda9b735mr643312ywe.39.1709940498995; 
 Fri, 08 Mar 2024 15:28:18 -0800 (PST)
Received: from postal.iol.unh.edu (postal.iol.unh.edu. [132.177.123.84])
 by smtp-relay.gmail.com with ESMTPS id
 r30-20020a81441e000000b005ff8ea6917csm23389ywa.23.2024.03.08.15.28.18
 (version=TLS1_2 cipher=ECDHE-ECDSA-AES128-GCM-SHA256 bits=128/128);
 Fri, 08 Mar 2024 15:28:18 -0800 (PST)
X-Relaying-Domain: iol.unh.edu
Date: Fri, 08 Mar 2024 15:28:18 -0800 (PST)
Message-ID: <65eb9f12.810a0220.f8161.18d0SMTPIN_ADDED_MISSING@mx.google.com>
Received: from [172.21.0.6] (unknown [172.18.0.240])
 by postal.iol.unh.edu (Postfix) with ESMTP id 9F8556052712;
 Fri,  8 Mar 2024 18:28:18 -0500 (EST)
Subject: |SUCCESS| pw138130-138132 [PATCH] [v3,3/3] testpmd: replace EAL logt
From: dpdklab@iol.unh.edu
To: Test Report <test-report@dpdk.org>
Cc: dpdk-test-reports@iol.unh.edu
In-Reply-To: <20240308181137.69855-4-stephen@networkplumber.org>
References: <20240308181137.69855-4-stephen@networkplumber.org>
Content-Type: text/plain
X-BeenThere: test-report@dpdk.org
X-Mailman-Version: 2.1.29
Precedence: list
List-Id: automatic DPDK test reports <test-report.dpdk.org>
List-Unsubscribe: <https://mails.dpdk.org/options/test-report>,
 <mailto:test-report-request@dpdk.org?subject=unsubscribe>
List-Archive: <http://mails.dpdk.org/archives/test-report/>
List-Post: <mailto:test-report@dpdk.org>
List-Help: <mailto:test-report-request@dpdk.org?subject=help>
List-Subscribe: <https://mails.dpdk.org/listinfo/test-report>,
 <mailto:test-report-request@dpdk.org?subject=subscribe>
Errors-To: test-report-bounces@dpdk.org

Test-Label: iol-abi-testing
Test-Status: SUCCESS
http://dpdk.org/patch/138132

_Testing PASS_

Submitter: Stephen Hemminger <stephen@networkplumber.org>
Date: Friday, March 08 2024 18:10:26 
DPDK git baseline: Repo:dpdk
  Branch: master
  CommitID:a86f381b826660e88794754c41d3aec79ce9b87c

138130-138132 --> testing pass

Test environment and result as below:

+------------------+----------+
|   Environment    | abi_test |
+==================+==========+
| Debian Bullseye  | PASS     |
+------------------+----------+
| CentOS Stream 8  | PASS     |
+------------------+----------+
| CentOS Stream 9  | PASS     |
+------------------+----------+
| Fedora 37        | PASS     |
+------------------+----------+
| Debian 12 (arm)  | PASS     |
+------------------+----------+
| Fedora 38        | PASS     |
+------------------+----------+
| openSUSE Leap 15 | PASS     |
+------------------+----------+
| RHEL8            | PASS     |
+------------------+----------+


Debian Bullseye
	Kernel: 5.4.0-122-generic
	Compiler: gcc 10.2.1-6

CentOS Stream 8
	Kernel: 4.18.0-240.10.1.el8_3.x86_64
	Compiler: gcc 8.4.1 20200928

CentOS Stream 9
	Kernel: 4.18.0-240.10.1.el8_3.x86_64
	Compiler: gcc 11.3.1 20220421

Fedora 37
	Kernel: Depends on container host system
	Compiler: gcc 12.3.1

Debian 12 (arm)
	Kernel: Container Host Kernel
	Compiler: gcc 11

Fedora 38
	Kernel: Depends on container host
	Compiler: gcc 13.1.1

openSUSE Leap 15
	Kernel: 4.18.0-240.10.1.el8_3.x86_64
	Compiler: gcc 7.5.0

RHEL8
	Kernel: 4.18.0-240.10.1.el8_3.x86_64
	Compiler: gcc 8.3.1 20191121 (Red Hat 8.3.1-5)

To view detailed results, visit:
https://lab.dpdk.org/results/dashboard/patchsets/29482/

UNH-IOL DPDK Community Lab

To manage your email subscriptions, visit: 
https://lab.dpdk.org/results/dashboard/preferences/subscriptions/