From mboxrd@z Thu Jan  1 00:00:00 1970
Return-Path: <test-report-bounces@dpdk.org>
Received: from mails.dpdk.org (mails.dpdk.org [217.70.189.124])
	by inbox.dpdk.org (Postfix) with ESMTP id 34B4643829
	for <public@inbox.dpdk.org>; Sat,  9 Mar 2024 00:54:10 +0100 (CET)
Received: from mails.dpdk.org (localhost [127.0.0.1])
	by mails.dpdk.org (Postfix) with ESMTP id 06CFF4027A;
	Sat,  9 Mar 2024 00:54:10 +0100 (CET)
Received: from mail-ot1-f98.google.com (mail-ot1-f98.google.com
 [209.85.210.98]) by mails.dpdk.org (Postfix) with ESMTP id 2E59A4021D
 for <test-report@dpdk.org>; Sat,  9 Mar 2024 00:54:08 +0100 (CET)
Received: by mail-ot1-f98.google.com with SMTP id
 46e09a7af769-6ddf26eba3cso1888146a34.0
 for <test-report@dpdk.org>; Fri, 08 Mar 2024 15:54:08 -0800 (PST)
DKIM-Signature: v=1; a=rsa-sha256; c=relaxed/relaxed;
 d=iol.unh.edu; s=unh-iol; t=1709942047; x=1710546847; darn=dpdk.org;
 h=references:in-reply-to:cc:to:from:subject:message-id:date:from:to
 :cc:subject:date:message-id:reply-to;
 bh=7RMBm8Ck/m7p9dyCo0o2e8ShSjsq/FW4chMInGGLqhs=;
 b=Fkxjzbkw2681V5N/4DwGvctjBp2U485+vmPTpelZhCgHlqk6TOIBbcEqd1TDt9tmxK
 mD37R0JSPbxhasK6lTbR2D2SueZ4DJkBVgzWV4BStmVTprnhj6geIeU9TOaG12pcAspG
 5+H6PlIRoZS8bVkOMS1bO3Wrl4o71Epc1WOkQ=
X-Google-DKIM-Signature: v=1; a=rsa-sha256; c=relaxed/relaxed;
 d=1e100.net; s=20230601; t=1709942047; x=1710546847;
 h=references:in-reply-to:cc:to:from:subject:message-id:date
 :x-gm-message-state:from:to:cc:subject:date:message-id:reply-to;
 bh=7RMBm8Ck/m7p9dyCo0o2e8ShSjsq/FW4chMInGGLqhs=;
 b=Q/rvJthAxsnnyvELjmjbPbEGcOirTacWQ6vl+bNbXCGQHAjURWOVHvB6smepILFTzn
 CNf3732GBzwFpei/10qn/ajrmhlpo9SC8ko5eikqCkqL43BW5/KG7/16jlqxjCqIc+Re
 lUK2Qv09cLmbX2fiX9dSCVHOMaX+yKbVepux6cuXCADIcyAfloPU2t+ZveYPLaIFIAPW
 niViaxlbansNTLA05aqJBWf++T6GbCJiYRoTAkF7JDV7dnNzijAcL6U/MT2fYBqiLPy5
 AHQJyxIDoQq6AtnvDYd03Z2Zd7r+F6r8Vkqfr7mdyiOqdxcOEmp1vVJs3NKrzPQCsa7V
 EC3w==
X-Gm-Message-State: AOJu0Yx1FQbC2tWWkjCxNDYBNkeXFYOduKKmfUyhC71ik9mxvmAMRRTH
 aPSIG9InGR/7UV7eO2bCq/U+txUysfZ2K/4Bz2FH0RBcnaOZiIa7e0RdQp6IvdX1qr7hbtyrd95
 Udk/k/DW9kwkxlYv8CKtzWzYLLvNeRDW3M7NkdL4xu3qOs7kmX0oMWDbx
X-Google-Smtp-Source: AGHT+IEEd0P/yROjeQWGFpuQrr7BFh0MGilmJTDcCgEcfcDRgSTzNqAXzmwnJnbx5ohFZZkdvLMWLO4jt6Ih
X-Received: by 2002:a9d:7b46:0:b0:6e4:fa76:9ed with SMTP id
 f6-20020a9d7b46000000b006e4fa7609edmr564395oto.0.1709942047359; 
 Fri, 08 Mar 2024 15:54:07 -0800 (PST)
Received: from postal.iol.unh.edu (postal.iol.unh.edu.
 [2606:4100:3880:1234::84]) by smtp-relay.gmail.com with ESMTPS id
 s36-20020a0568302aa400b006e4f08ad900sm28356otu.14.2024.03.08.15.54.07
 (version=TLS1_2 cipher=ECDHE-ECDSA-AES128-GCM-SHA256 bits=128/128);
 Fri, 08 Mar 2024 15:54:07 -0800 (PST)
X-Relaying-Domain: iol.unh.edu
Date: Fri, 08 Mar 2024 15:54:07 -0800 (PST)
Message-ID: <65eba51f.050a0220.5153b.19b6SMTPIN_ADDED_MISSING@mx.google.com>
Received: from [172.17.0.8] (unknown [172.18.0.217])
 by postal.iol.unh.edu (Postfix) with ESMTP id 787CC6052712;
 Fri,  8 Mar 2024 18:54:06 -0500 (EST)
Subject: |SUCCESS| pw138133 [PATCH] [v2] add a ignore list for get_maintainer
From: dpdklab@iol.unh.edu
To: Test Report <test-report@dpdk.org>
Cc: dpdk-test-reports@iol.unh.edu
In-Reply-To: <20240308181310.70014-1-stephen@networkplumber.org>
References: <20240308181310.70014-1-stephen@networkplumber.org>
Content-Type: text/plain
X-BeenThere: test-report@dpdk.org
X-Mailman-Version: 2.1.29
Precedence: list
List-Id: automatic DPDK test reports <test-report.dpdk.org>
List-Unsubscribe: <https://mails.dpdk.org/options/test-report>,
 <mailto:test-report-request@dpdk.org?subject=unsubscribe>
List-Archive: <http://mails.dpdk.org/archives/test-report/>
List-Post: <mailto:test-report@dpdk.org>
List-Help: <mailto:test-report-request@dpdk.org?subject=help>
List-Subscribe: <https://mails.dpdk.org/listinfo/test-report>,
 <mailto:test-report-request@dpdk.org?subject=subscribe>
Errors-To: test-report-bounces@dpdk.org

Test-Label: iol-abi-testing
Test-Status: SUCCESS
http://dpdk.org/patch/138133

_Testing PASS_

Submitter: Stephen Hemminger <stephen@networkplumber.org>
Date: Friday, March 08 2024 18:12:51 
DPDK git baseline: Repo:dpdk
  Branch: master
  CommitID:a86f381b826660e88794754c41d3aec79ce9b87c

138133 --> testing pass

Test environment and result as below:

+------------------+----------+
|   Environment    | abi_test |
+==================+==========+
| openSUSE Leap 15 | PASS     |
+------------------+----------+
| Debian Bullseye  | PASS     |
+------------------+----------+
| CentOS Stream 8  | PASS     |
+------------------+----------+
| CentOS Stream 9  | PASS     |
+------------------+----------+
| Fedora 37        | PASS     |
+------------------+----------+
| Fedora 38        | PASS     |
+------------------+----------+
| Debian 12 (arm)  | PASS     |
+------------------+----------+
| Ubuntu 22.04     | PASS     |
+------------------+----------+
| RHEL8            | PASS     |
+------------------+----------+


openSUSE Leap 15
	Kernel: 4.18.0-240.10.1.el8_3.x86_64
	Compiler: gcc 7.5.0

Debian Bullseye
	Kernel: 5.4.0-122-generic
	Compiler: gcc 10.2.1-6

CentOS Stream 8
	Kernel: 4.18.0-240.10.1.el8_3.x86_64
	Compiler: gcc 8.4.1 20200928

CentOS Stream 9
	Kernel: 4.18.0-240.10.1.el8_3.x86_64
	Compiler: gcc 11.3.1 20220421

Fedora 37
	Kernel: Depends on container host system
	Compiler: gcc 12.3.1

Fedora 38
	Kernel: Depends on container host
	Compiler: clang 16.0.3

Debian 12 (arm)
	Kernel: Container Host Kernel
	Compiler: gcc 11

Ubuntu 22.04
	Kernel: 4.18.0-240.10.1.el8_3.x86_64
	Compiler: gcc 11.3.0

RHEL8
	Kernel: 4.18.0-240.10.1.el8_3.x86_64
	Compiler: gcc 8.3.1 20191121 (Red Hat 8.3.1-5)

To view detailed results, visit:
https://lab.dpdk.org/results/dashboard/patchsets/29483/

UNH-IOL DPDK Community Lab

To manage your email subscriptions, visit: 
https://lab.dpdk.org/results/dashboard/preferences/subscriptions/